Report for App-CSE-0.010

Back
From: metabase:user:30977d10-2aae-11df-837a-5e0a49663a4f
Subject: PASS App-CSE-0.010 v5.24.0 GNU/Linux
Date: 2016-12-03T17:06:13Z

This distribution has been tested as part of the CPAN Testers
project, supporting the Perl programming language.  See
http://wiki.cpantesters.org/ for more information or email
questions to cpan-testers-discuss@perl.org


--
Dear Jerome Eteve,

This is a computer-generated report for App-CSE-0.010
on perl 5.24.0, created by CPAN-Reporter-1.2018.

Thank you for uploading your work to CPAN.  Congratulations!
All tests were successful.

Sections of this report:

    * Tester comments
    * Program output
    * Prerequisites
    * Environment and other context

------------------------------
TESTER COMMENTS
------------------------------

Additional comments from tester:

this report is from an automated smoke testing program
and was not reviewed by a human for accuracy

------------------------------
PROGRAM OUTPUT
------------------------------

Output from '/usr/bin/make test':

PERL_DL_NONLAZY=1 "/home/stro/perl/5.24.0/bin/perl" "-MExtUtils::Command::MM" "-MTest::Harness" "-e" "undef *Test::Harness::Switches; test_harness(0, 'blib/lib', 'blib/arch')" t/*.t t/toindex/perl/*.t
t/00-load.t ............. ok
t/01-help.t ............. ok
t/02-check.t ............ ok
t/03-index.t ............ ok
t/04-search.t ........... ok
t/05-more-search.t ...... ok
t/06-update.t ........... ok
t/07-decl.t ............. ok
t/08-meta.t ............. ok
t/09-watch.t ............ skipped: Do not run this test. unless TEST_SLOW=1
t/10-hidden.t ........... ok
# this_is_a_test
t/toindex/perl/hello.t .. ok
All tests successful.
Files=12, Tests=145, 12 wallclock secs ( 0.04 usr  0.01 sys +  5.92 cusr  0.55 csys =  6.52 CPU)
Result: PASS

------------------------------
PREREQUISITES
------------------------------

Prerequisite modules loaded:

requires:

    Module                  Need        Have       
    ----------------------- ----------- -----------
    Carp                    0           1.40       
    Class::InsideOut        0           1.13       
    Class::Load             0           0.23       
    DateTime                0           1.41       
    Encode                  0           2.88       
    File::BaseDir           0           0.07       
    File::Find              0           1.34       
    File::MimeInfo::Magic   0           0.28       
    File::Slurp             0           9999.19    
    File::stat              0           1.07       
    Filesys::Notify::Simple 0           0.12       
    Getopt::Long            0           2.49       
    IO::Interactive         0           1.022      
    JSON                    0           2.90       
    Linux::Inotify2         0           1.22       
    Log::Dispatch::Syslog   0           2.57       
    Log::Log4perl           0           1.47       
    Lucy                    0.006000004 0.006000004
    Moose                   0           2.1900     
    Path::Class::Dir        0           0.37       
    Pod::Text               0           4.09       
    PPI                     0           1.220      
    Regexp::Assemble        0           0.37       
    Scalar::Util            0           1.46       
    String::CamelCase       0           0.02       
    Term::ProgressBar       2.17        2.17       
    Text::Glob              0.09        0.10       
    Time::HiRes             0           1.9741     
    XML::LibXML             0           2.0128     

build_requires:

    Module                  Need        Have       
    ----------------------- ----------- -----------
    Carp::Always            0           0.13       
    ExtUtils::MakeMaker     0           7.24       
    File::Copy::Recursive   0           0.38       
    File::Slurp             0           9999.19    
    File::Temp              0           0.2304     
    Test::More              0           1.302067   

configure_requires:

    Module                  Need        Have       
    ----------------------- ----------- -----------
    ExtUtils::MakeMaker     0           7.24       


------------------------------
ENVIRONMENT AND OTHER CONTEXT
------------------------------

Environment variables:

    AUTOMATED_TESTING = 1
    LANG = en_US.UTF-8
    PATH = /usr/local/bin:/usr/bin:/bin:/usr/local/games:/usr/games
    PERL5LIB = 
    PERL5OPT = 
    PERL5_CPANPLUS_IS_RUNNING = 6365
    PERL5_CPAN_IS_RUNNING = 6365
    PERL5_CPAN_IS_RUNNING_IN_RECURSION = 29086,6365
    PERL_CR_SMOKER_CURRENT = App-CSE-0.010
    PERL_EXTUTILS_AUTOINSTALL = --defaultdeps
    PERL_MM_USE_DEFAULT = 1
    SHELL = /bin/bash
    TERM = xterm

Perl special variables (and OS-specific diagnostics, for MSWin32):

    $^X = /home/stro/perl/5.24.0/bin/perl
    $UID/$EUID = 1000 / 1000
    $GID = 1000 24 25 29 30 44 46 108 114 1000
    $EGID = 1000 24 25 29 30 44 46 108 114 1000

Perl module toolchain versions installed:

    Module              Have    
    ------------------- --------
    CPAN                2.15    
    CPAN::Meta          2.150010
    Cwd                 3.63    
    ExtUtils::CBuilder  0.280225
    ExtUtils::Command   7.24    
    ExtUtils::Install   2.04    
    ExtUtils::MakeMaker 7.24    
    ExtUtils::Manifest  1.70    
    ExtUtils::ParseXS   3.31    
    File::Spec          3.63    
    JSON                2.90    
    JSON::PP            2.27400 
    Module::Build       0.4220  
    Module::Signature   0.81    
    Parse::CPAN::Meta   2.150010
    Test::Harness       3.36    
    Test::More          1.302067
    YAML                1.19    
    YAML::Syck          1.29    
    version             0.9917  


--

Summary of my perl5 (revision 5 version 24 subversion 0) configuration:
   
  Platform:
    osname=linux, osvers=3.16.0-4-amd64, archname=x86_64-linux
    uname='linux vm-debian-001 3.16.0-4-amd64 #1 smp debian 3.16.7-ckt11-1 (2015-05-24) x86_64 gnulinux '
    config_args=''
    hint=recommended, useposix=true, d_sigaction=define
    useithreads=undef, usemultiplicity=undef
    use64bitint=define, use64bitall=define, uselongdouble=undef
    usemymalloc=n, bincompat5005=undef
  Compiler:
    cc='cc', ccflags ='-fwrapv -fno-strict-aliasing -pipe -fstack-protector-strong -I/usr/local/include -D_LARGEFILE_SOURCE -D_FILE_OFFSET_BITS=64 -D_FORTIFY_SOURCE=2',
    optimize='-O2',
    cppflags='-fwrapv -fno-strict-aliasing -pipe -fstack-protector-strong -I/usr/local/include'
    ccversion='', gccversion='4.9.2', gccosandvers=''
    intsize=4, longsize=8, ptrsize=8, doublesize=8, byteorder=12345678, doublekind=3
    d_longlong=define, longlongsize=8, d_longdbl=define, longdblsize=16, longdblkind=3
    ivtype='long', ivsize=8, nvtype='double', nvsize=8, Off_t='off_t', lseeksize=8
    alignbytes=8, prototype=define
  Linker and Libraries:
    ld='cc', ldflags =' -fstack-protector-strong -L/usr/local/lib'
    libpth=/usr/local/lib /usr/lib/gcc/x86_64-linux-gnu/4.9/include-fixed /usr/include/x86_64-linux-gnu /usr/lib /lib/x86_64-linux-gnu /lib/../lib /usr/lib/x86_64-linux-gnu /usr/lib/../lib /lib
    libs=-lpthread -lnsl -ldl -lm -lcrypt -lutil -lc
    perllibs=-lpthread -lnsl -ldl -lm -lcrypt -lutil -lc
    libc=libc-2.19.so, so=so, useshrplib=false, libperl=libperl.a
    gnulibc_version='2.19'
  Dynamic Linking:
    dlsrc=dl_dlopen.xs, dlext=so, d_dlsymun=undef, ccdlflags='-Wl,-E'
    cccdlflags='-fPIC', lddlflags='-shared -O2 -L/usr/local/lib -fstack-protector-strong'


Characteristics of this binary (from libperl): 
  Compile-time options: HAS_TIMES PERLIO_LAYERS PERL_COPY_ON_WRITE
                        PERL_DONT_CREATE_GVSV
                        PERL_HASH_FUNC_ONE_AT_A_TIME_HARD PERL_MALLOC_WRAP
                        PERL_PRESERVE_IVUV USE_64_BIT_ALL USE_64_BIT_INT
                        USE_LARGE_FILES USE_LOCALE USE_LOCALE_COLLATE
                        USE_LOCALE_CTYPE USE_LOCALE_NUMERIC USE_LOCALE_TIME
                        USE_PERLIO USE_PERL_ATOF
  Built under linux
  Compiled at May 15 2016 23:03:55
  %ENV:
    PERL5LIB=""
    PERL5OPT=""
    PERL5_CPANPLUS_IS_RUNNING="6365"
    PERL5_CPAN_IS_RUNNING="6365"
    PERL5_CPAN_IS_RUNNING_IN_RECURSION="29086,6365"
    PERL_CR_SMOKER_CURRENT="App-CSE-0.010"
    PERL_EXTUTILS_AUTOINSTALL="--defaultdeps"
    PERL_MM_USE_DEFAULT="1"
  @INC:
    /home/stro/perl/5.24.0/lib/site_perl/5.24.0/x86_64-linux
    /home/stro/perl/5.24.0/lib/site_perl/5.24.0
    /home/stro/perl/5.24.0/lib/5.24.0/x86_64-linux
    /home/stro/perl/5.24.0/lib/5.24.0
    .