Report for Gentoo-Perl-Distmap-0.2.0

Back
From: metabase:user:30f4dfbe-2aae-11df-837a-5e0a49663a4f
Subject: PASS Gentoo-Perl-Distmap-0.2.0 v5.14.4 Mac OS X
Date: 2013-05-08T06:37:46Z

This distribution has been tested as part of the CPAN Testers
project, supporting the Perl programming language.  See
http://wiki.cpantesters.org/ for more information or email
questions to cpan-testers-discuss@perl.org


--
Dear Kent Fredric,

This is a computer-generated report for Gentoo-Perl-Distmap-0.2.0
on perl 5.14.4, created by CPAN-Reporter-1.2010.

Thank you for uploading your work to CPAN.  Congratulations!
All tests were successful.

Sections of this report:

    * Tester comments
    * Program output
    * Prerequisites
    * Environment and other context

------------------------------
TESTER COMMENTS
------------------------------

Additional comments from tester:

this report is from an automated smoke testing program
and was not reviewed by a human for accuracy

------------------------------
PROGRAM OUTPUT
------------------------------

Output from './Build test':

t/00-compile.t ................ ok
# 
# 
# Generated by Dist::Zilla::Plugin::ReportVersions::Tiny v1.08
# perl: 5.014004 (wanted v5.10.0) on darwin from /Users/hornenj/perl5/perlbrew/perls/perl-5.14.4/bin/perl
# 
# Carp                                          => 1.26       (want any version)
# Data::Dump                                    => 1.21       (want any version)
# Digest::SHA                                   => 5.84       (want any version)
# Dist::Zilla::PluginBundle::Author::KENTNL     => module not found. (want v1.7.3) 
# Dist::Zilla::PluginBundle::Author::KENTNL::Lite => module not found. (want v1.3.0) 
# File::Find                                    => 1.19       (want any version)
# File::Temp                                    => 0.2301     (want any version)
# FindBin                                       => 1.50       (want any version)
# JSON                                          => 2.57       (want any version)
# Module::Build                                 => 0.4005     (want 0.4004) 
# Moose                                         => 2.0801     (want any version)
# Moose::Role                                   => 2.0801     (want any version)
# Path::Tiny                                    => 0.020      (want any version)
# Pod::Coverage::TrustPod                       => module not found. (want any version)
# Test::CPAN::Changes                           => module not found. (want 0.19)   
# Test::CPAN::Meta                              => module not found. (want any version)
# Test::More                                    => 0.98       (want 0.98)   
# Test::Pod                                     => 1.47       (want 1.41)   
# Test::Pod::Coverage                           => 1.08       (want 1.08)   
# strict                                        => 1.04       (want any version)
# version                                       => 0.9902     (want 0.9901) 
# warnings                                      => 1.12       (want any version)
# 
# Thanks for using my code.  I hope it works for you.
# If not, please try and include this output in the bug report.
# That will help me reproduce the issue and solve your problem.
# 
t/000-report-versions-tiny.t .. ok
t/test_parse.t ................ ok
All tests successful.
Files=3, Tests=10,  2 wallclock secs ( 0.02 usr  0.01 sys +  1.77 cusr  0.13 csys =  1.93 CPU)
Result: PASS

------------------------------
PREREQUISITES
------------------------------

Prerequisite modules loaded:

requires:

    Module        Need    Have    
    ------------- ------- --------
    Carp          0       1.26    
    Data::Dump    0       1.21    
    Digest::SHA   0       5.84    
    JSON          0       2.57    
    Moose         0       2.0801  
    Moose::Role   0       2.0801  
    Path::Tiny    0       0.020   
    perl          v5.10.0 5.014004
    strict        0       1.04    
    warnings      0       1.12    

build_requires:

    Module        Need    Have    
    ------------- ------- --------
    File::Find    0       1.19    
    File::Temp    0       0.2301  
    FindBin       0       1.50    
    Module::Build 0.4004  0.4005  
    perl          v5.10.0 5.014004
    Test::More    0.98    0.98    

configure_requires:

    Module        Need    Have    
    ------------- ------- --------
    Module::Build 0.4004  0.4005  


------------------------------
ENVIRONMENT AND OTHER CONTEXT
------------------------------

Environment variables:

    AUTOMATED_TESTING = 1
    LC_ALL = POSIX
    LD_LIBRARY_PATH = :/net/traces01.be-md.ncbi.nlm.nih.gov/trace_software/vdb/mac/release/x86_64/lib
    PATH = /Users/hornenj/perl5/perlbrew/bin:/Users/hornenj/perl5/perlbrew/perls/perl-5.14.4/bin:/Users/hornenj/perl5/perlbrew/bin:/sw/lib/perl5/ExtUtils:/sw/bin:/sw/sbin:/am/ncbiapdata/bin:/usr/bin:/bin:/usr/X11R6/bin:/Users/hornenj/bin:/netopt/ncbi_tools/bin:/usr/local/ncbi/blast/bin:/net/traces01.be-md.ncbi.nlm.nih.gov/trace_software/vdb/mac/release/x86_64/bin
    PERL5LIB = /Users/hornenj/.cpan/build/Path-Tiny-0.020-yIw8y2/blib/arch:/Users/hornenj/.cpan/build/Path-Tiny-0.020-yIw8y2/blib/lib:/Users/hornenj/.cpan/build/Devel-Hide-0.0009-gpttyA/blib/arch:/Users/hornenj/.cpan/build/Devel-Hide-0.0009-gpttyA/blib/lib
    PERL5OPT = 
    PERL5_CPANPLUS_IS_RUNNING = 86805
    PERL5_CPAN_IS_RUNNING = 86805
    PERL5_MINISMOKEBOX = 0.56
    PERLBREW_BASHRC_VERSION = 0.59
    PERLBREW_HOME = /Users/hornenj/.perlbrew
    PERLBREW_MANPATH = /Users/hornenj/perl5/perlbrew/perls/perl-5.14.4/man
    PERLBREW_PATH = /Users/hornenj/perl5/perlbrew/bin:/Users/hornenj/perl5/perlbrew/perls/perl-5.14.4/bin
    PERLBREW_PERL = perl-5.14.4
    PERLBREW_ROOT = /Users/hornenj/perl5/perlbrew
    PERLBREW_VERSION = 0.59
    PERL_EXTUTILS_AUTOINSTALL = --defaultdeps
    PERL_MM_USE_DEFAULT = 1
    SHELL = /bin/bash
    TERM = xterm
    TMPDIR = /var/folders/pz/pd7y1qjs6s3cbk170cw50fjc000c61/T/
    VERSIONER_PERL_PREFER_32_BIT = no
    VERSIONER_PERL_VERSION = 5.12
    ac_cv_path_INTLTOOL_PERL = /usr/bin/perl

Perl special variables (and OS-specific diagnostics, for MSWin32):

    $^X = /Users/hornenj/perl5/perlbrew/perls/perl-5.14.4/bin/perl
    $UID/$EUID = 12481 / 12481
    $GID = 14 14 527 241 223 206 402 12 62 204
    $EGID = 14 14 527 241 223 206 402 12 62 204

Perl module toolchain versions installed:

    Module              Have    
    ------------------- --------
    CPAN                2.00    
    CPAN::Meta          2.130880
    Cwd                 3.40    
    ExtUtils::CBuilder  0.280205
    ExtUtils::Command   1.17    
    ExtUtils::Install   1.56    
    ExtUtils::MakeMaker 6.66    
    ExtUtils::Manifest  1.61    
    ExtUtils::ParseXS   3.18    
    File::Spec          3.40    
    JSON                2.57    
    JSON::PP            2.27202 
    Module::Build       0.4005  
    Module::Signature   n/a     
    Parse::CPAN::Meta   1.4404  
    Test::Harness       3.28    
    Test::More          0.98    
    YAML                0.84    
    YAML::Syck          1.25    
    version             0.9902  


--

Summary of my perl5 (revision 5 version 14 subversion 4) configuration:
   
  Platform:
    osname=darwin, osvers=12.2.1, archname=darwin-2level
    uname='darwin ncbimac2008.ncbi.nlm.nih.gov 12.2.1 darwin kernel version 12.2.1: thu oct 18 12:13:47 pdt 2012; root:xnu-2050.20.9~1release_x86_64 x86_64 '
    config_args='-de -Dprefix=/Users/hornenj/perl5/perlbrew/perls/perl-5.14.4'
    hint=recommended, useposix=true, d_sigaction=define
    useithreads=undef, usemultiplicity=undef
    useperlio=define, d_sfio=undef, uselargefiles=define, usesocks=undef
    use64bitint=define, use64bitall=define, uselongdouble=undef
    usemymalloc=n, bincompat5005=undef
  Compiler:
    cc='cc', ccflags ='-fno-common -DPERL_DARWIN -fno-strict-aliasing -pipe -fstack-protector',
    optimize='-O3',
    cppflags='-fno-common -DPERL_DARWIN -fno-strict-aliasing -pipe -fstack-protector'
    ccversion='', gccversion='4.2.1 Compatible Apple LLVM 4.2 (clang-425.0.24)', gccosandvers=''
    intsize=4, longsize=8, ptrsize=8, doublesize=8, byteorder=12345678
    d_longlong=define, longlongsize=8, d_longdbl=define, longdblsize=16
    ivtype='long', ivsize=8, nvtype='double', nvsize=8, Off_t='off_t', lseeksize=8
    alignbytes=8, prototype=define
  Linker and Libraries:
    ld='env MACOSX_DEPLOYMENT_TARGET=10.3 cc', ldflags =' -fstack-protector'
    libpth=/usr/lib
    libs=-ldbm -ldl -lm -lutil -lc
    perllibs=-ldl -lm -lutil -lc
    libc=, so=dylib, useshrplib=false, libperl=libperl.a
    gnulibc_version=''
  Dynamic Linking:
    dlsrc=dl_dlopen.xs, dlext=bundle, d_dlsymun=undef, ccdlflags=' '
    cccdlflags=' ', lddlflags=' -bundle -undefined dynamic_lookup -fstack-protector'


Characteristics of this binary (from libperl): 
  Compile-time options: PERL_DONT_CREATE_GVSV PERL_MALLOC_WRAP
                        PERL_PRESERVE_IVUV USE_64_BIT_ALL USE_64_BIT_INT
                        USE_LARGE_FILES USE_PERLIO USE_PERL_ATOF
  Built under darwin
  Compiled at Mar 11 2013 08:11:05
  %ENV:
    PERL5LIB="/Users/hornenj/.cpan/build/Path-Tiny-0.020-yIw8y2/blib/arch:/Users/hornenj/.cpan/build/Path-Tiny-0.020-yIw8y2/blib/lib:/Users/hornenj/.cpan/build/Devel-Hide-0.0009-gpttyA/blib/arch:/Users/hornenj/.cpan/build/Devel-Hide-0.0009-gpttyA/blib/lib"
    PERL5OPT=""
    PERL5_CPANPLUS_IS_RUNNING="86805"
    PERL5_CPAN_IS_RUNNING="86805"
    PERL5_MINISMOKEBOX="0.56"
    PERLBREW_BASHRC_VERSION="0.59"
    PERLBREW_HOME="/Users/hornenj/.perlbrew"
    PERLBREW_MANPATH="/Users/hornenj/perl5/perlbrew/perls/perl-5.14.4/man"
    PERLBREW_PATH="/Users/hornenj/perl5/perlbrew/bin:/Users/hornenj/perl5/perlbrew/perls/perl-5.14.4/bin"
    PERLBREW_PERL="perl-5.14.4"
    PERLBREW_ROOT="/Users/hornenj/perl5/perlbrew"
    PERLBREW_VERSION="0.59"
    PERL_EXTUTILS_AUTOINSTALL="--defaultdeps"
    PERL_MM_USE_DEFAULT="1"
  @INC:
    /Users/hornenj/.cpan/build/Path-Tiny-0.020-yIw8y2/blib/arch
    /Users/hornenj/.cpan/build/Path-Tiny-0.020-yIw8y2/blib/lib
    /Users/hornenj/.cpan/build/Devel-Hide-0.0009-gpttyA/blib/arch
    /Users/hornenj/.cpan/build/Devel-Hide-0.0009-gpttyA/blib/lib
    /Users/hornenj/perl5/perlbrew/perls/perl-5.14.4/lib/site_perl/5.14.4/darwin-2level
    /Users/hornenj/perl5/perlbrew/perls/perl-5.14.4/lib/site_perl/5.14.4
    /Users/hornenj/perl5/perlbrew/perls/perl-5.14.4/lib/5.14.4/darwin-2level
    /Users/hornenj/perl5/perlbrew/perls/perl-5.14.4/lib/5.14.4
    .