Report for Data-Session-1.15

Back
From: metabase:user:320bfe00-2aae-11df-837a-5e0a49663a4f
Subject: PASS Data-Session-1.15 v5.14.4 GNU/Linux
Date: 2013-11-15T03:55:41Z

This distribution has been tested as part of the CPAN Testers
project, supporting the Perl programming language.  See
http://wiki.cpantesters.org/ for more information or email
questions to cpan-testers-discuss@perl.org


--
Dear Ron Savage,

This is a computer-generated report for Data-Session-1.15
on perl 5.14.4, created by CPAN-Reporter-1.2010.

Thank you for uploading your work to CPAN.  Congratulations!
All tests were successful.

Sections of this report:

    * Tester comments
    * Program output
    * Prerequisites
    * Environment and other context

------------------------------
TESTER COMMENTS
------------------------------

Additional comments from tester:

this report is from an automated smoke testing program
and was not reviewed by a human for accuracy

------------------------------
PROGRAM OUTPUT
------------------------------

Output from './Build test':

# Test: File.1. DSN: dbi:File:. ID generator: AutoIncrement. Serializer: DataDumper
# id 1: 1572
# Test: File.1. DSN: dbi:File:. ID generator: AutoIncrement. Serializer: FreezeThaw
# id 1: 1578
# Test: File.1. DSN: dbi:File:. ID generator: AutoIncrement. Serializer: JSON
# id 1: 1584
# Test: File.1. DSN: dbi:File:. ID generator: AutoIncrement. Serializer: Storable
# id 1: 1590
# Test: File.1. DSN: dbi:File:. ID generator: AutoIncrement. Serializer: YAML
# id 1: 1596
# Test: File.1. DSN: dbi:File:. ID generator: MD5. Serializer: DataDumper
# id 1: 95c397c1924b94bcfe4cde70aeccbe80
# Test: File.1. DSN: dbi:File:. ID generator: MD5. Serializer: FreezeThaw
# id 1: b6797319fffa8b8e70aa43718d83c9bf
# Test: File.1. DSN: dbi:File:. ID generator: MD5. Serializer: JSON
# id 1: 9e76e726bae7390272fa151e2a075613
# Test: File.1. DSN: dbi:File:. ID generator: MD5. Serializer: Storable
# id 1: 7aad423a90d0eec86a9abd76b4cf074f
# Test: File.1. DSN: dbi:File:. ID generator: MD5. Serializer: YAML
# id 1: 96367916f9d91e90a25fceef86d7b281
# Test: File.1. DSN: dbi:File:. ID generator: SHA1. Serializer: DataDumper
# id 1: 2fb9adeec31067585cbcf12764212442cd82c4d4
# Test: File.1. DSN: dbi:File:. ID generator: SHA1. Serializer: FreezeThaw
# id 1: 4d370b49cb3a2faabf8b11667dbaa703aa4c3f19
# Test: File.1. DSN: dbi:File:. ID generator: SHA1. Serializer: JSON
# id 1: cd3e775463c2d7c746e5040f8251e88913951748
# Test: File.1. DSN: dbi:File:. ID generator: SHA1. Serializer: Storable
# id 1: 1f63a0104cc4379021069b8ddabd6a6a7fc9942c
# Test: File.1. DSN: dbi:File:. ID generator: SHA1. Serializer: YAML
# id 1: 8f655e176c0c79e36849f9883e7be86f11969609
# Test: File.1. DSN: dbi:File:. ID generator: SHA256. Serializer: DataDumper
# id 1: 3b101d30a33333e8012407125c2ad34069ff903f8915f442696c86c474e6105b
# Test: File.1. DSN: dbi:File:. ID generator: SHA256. Serializer: FreezeThaw
# id 1: 90b5f95cec1271a4fc2907d44b87fec74ecc944ae2dcbb69d88d3e762f36efb6
# Test: File.1. DSN: dbi:File:. ID generator: SHA256. Serializer: JSON
# id 1: 2a35d0af3aef225bd6cd1cf665199df0229137d3a865b336b4638cb8d5b953e0
# Test: File.1. DSN: dbi:File:. ID generator: SHA256. Serializer: Storable
# id 1: a302fefd31f9bcd05790d87e169a41298ac25bcb791b4b7e150ce749c014f4a9
# Test: File.1. DSN: dbi:File:. ID generator: SHA256. Serializer: YAML
# id 1: cb14eaa573b40564531b0e2da76000284208aa8c0875af7fb1b657c38b6ddb23
# Test: File.1. DSN: dbi:File:. ID generator: SHA512. Serializer: DataDumper
# id 1: 22b29af19cbba125f3101a7a4cedafb65ac3ee1804b4e70b217474e7dd70683e1a83cb5448d2f2b1ec96d3cf51169a0b191bdb8350fc1a39643a990090f88809
# Test: File.1. DSN: dbi:File:. ID generator: SHA512. Serializer: FreezeThaw
# id 1: 802319c4c8db4430975ce1676fceb97bd3e0e6d1b4742d159fa26c3e9908711d9e72a18f1b78982eb18d82733b125ff9f3c93d86a519153d016dbc01fc69661a
# Test: File.1. DSN: dbi:File:. ID generator: SHA512. Serializer: JSON
# id 1: cb1190d503d42c3830ca64926bf2652dcd39b8bdd373a9584d82c9f93f1db5c93ba17440067abf200a26a0991b666aa1ea1f4be4abbc8c9ce5f840e2d1ca6c65
# Test: File.1. DSN: dbi:File:. ID generator: SHA512. Serializer: Storable
# id 1: 04a63c561aa2d6187e157e4ee1ef5dd6a87dadcd361150700deea8028489635ae52e2883d346ceba398c8e2891d6530cda857a12d05f320e869e7833c3dc0daa
# Test: File.1. DSN: dbi:File:. ID generator: SHA512. Serializer: YAML
# id 1: 1511160394f4866a6af72375ec5548f3332c59156962749d5ffba77c93389f98099ce62b3245776b44ba4a5c5e80de03076a973283240e5c92611932452356db
# Test: File.1. DSN: dbi:File:. ID generator: Static. Serializer: DataDumper
# id 1: 1234
# Test: File.1. DSN: dbi:File:. ID generator: Static. Serializer: FreezeThaw
# id 1: 1234
# Test: File.1. DSN: dbi:File:. ID generator: Static. Serializer: JSON
# id 1: 1234
# Test: File.1. DSN: dbi:File:. ID generator: Static. Serializer: Storable
# id 1: 1234
# Test: File.1. DSN: dbi:File:. ID generator: Static. Serializer: YAML
# id 1: 1234
# Test: File.1. DSN: dbi:File:. ID generator: UUID34. Serializer: DataDumper
# id 1: 0xC16F47C44DA911E3B6072CB15E2B23E7
# Test: File.1. DSN: dbi:File:. ID generator: UUID34. Serializer: FreezeThaw
# id 1: 0xC17120D04DA911E3B6072CB15E2B23E7
# Test: File.1. DSN: dbi:File:. ID generator: UUID34. Serializer: JSON
# id 1: 0xC17261D44DA911E3B6072CB15E2B23E7
# Test: File.1. DSN: dbi:File:. ID generator: UUID34. Serializer: Storable
# id 1: 0xC17389C44DA911E3B6072CB15E2B23E7
# Test: File.1. DSN: dbi:File:. ID generator: UUID34. Serializer: YAML
# id 1: 0xC174C2F84DA911E3B6072CB15E2B23E7
# Test: File.1. DSN: dbi:File:. ID generator: UUID36. Serializer: DataDumper
# id 1: C17632DC-4DA9-11E3-B607-2CB15E2B23E7
# Test: File.1. DSN: dbi:File:. ID generator: UUID36. Serializer: FreezeThaw
# id 1: C1780896-4DA9-11E3-B607-2CB15E2B23E7
# Test: File.1. DSN: dbi:File:. ID generator: UUID36. Serializer: JSON
# id 1: C1798ED2-4DA9-11E3-B607-2CB15E2B23E7
# Test: File.1. DSN: dbi:File:. ID generator: UUID36. Serializer: Storable
# id 1: C17ACCA2-4DA9-11E3-B607-2CB15E2B23E7
# Test: File.1. DSN: dbi:File:. ID generator: UUID36. Serializer: YAML
# id 1: C17BF9B0-4DA9-11E3-B607-2CB15E2B23E7
# Skipping dsn 'dbi:SQLite:dbname=/tmp/sessions.sqlite' because the SQLite directory does not exist
# 
# Testing HTTP header generation
# 
# Testing expire the session. Sleeping for 1 second ...
# Expiring id: C17E5732-4DA9-11E3-B607-2CB15E2B23E7
# 
# Testing expire a session parameter. Sleeping for 1 second ...
t/basic.t ..... ok
t/pod.t ....... ok
# DSN name: File.1. DSN: dbi:File:. ID generator: MD5. Serializer: DataDumper
# id1: 2582fd41a6557c7264f24e24fa9e1710
# 1: Recovered known id 1e9b42e79f6575dbff2afa00c10d46f4 from traverse
# 2: Recovered known id ba65e37f3af7b6d92623a367a689f66a from traverse
# 3: Recovered known id 3a96cba50738eb5c8d5d59ff9a2ba46e from traverse
# 4: Recovered known id 2f004a67ec15751d7b9bd4e8cfbc8310 from traverse
# Skipping dsn 'dbi:SQLite:dbname=/tmp/sessions.sqlite' because the SQLite directory does not exist
t/traverse.t .. ok
All tests successful.
Files=3, Tests=80,  9 wallclock secs ( 0.04 usr  0.02 sys +  0.93 cusr  0.06 csys =  1.05 CPU)
Result: PASS

------------------------------
PREREQUISITES
------------------------------

Prerequisite modules loaded:

requires:

    Module                   Need    Have    
    ------------------------ ------- --------
    autovivification         0       0.12    
    CGI                      3.63    3.63    
    Class::Load              0.19    0.20    
    Config::Tiny             2.14    2.19    
    Data::Dumper             2.145   2.145   
    Data::UUID               1.218   1.219   
    DBD::SQLite              1.39    1.40    
    DBI                      1.627   1.630   
    DBIx::Admin::CreateTable 2.07    2.07    
    Digest::MD5              2.52    2.53    
    Digest::SHA              5.84    5.85    
    Fcntl                    1.06    1.11    
    File::Basename           2.77    2.82    
    File::Path               2.07    2.08_01 
    File::Slurp              9999.19 9999.19 
    File::Spec               3.3     3.40    
    File::Temp               0.22    0.2304  
    FreezeThaw               0.5001  0.5001  
    Hash::FieldHash          0.14    0.14    
    JSON                     2.59    2.90    
    overload                 0       1.13    
    parent                   0       0.225   
    Safe                     2.35    2.35    
    Scalar::Util             1.27    1.35    
    Storable                 2.39    2.45    
    strict                   0       1.04    
    Try::Tiny                0.12    0.18    
    vars                     0       1.02    
    warnings                 0       1.12    
    YAML::Tiny               1.51    1.56    

build_requires:

    Module                   Need    Have    
    ------------------------ ------- --------
    Config::Tiny             2.14    2.19    
    DBIx::Admin::CreateTable 2.07    2.07    
    Test::More               0.92    1.001002

configure_requires:

    Module                   Need    Have    
    ------------------------ ------- --------
    Module::Build            0.38    0.4200  


------------------------------
ENVIRONMENT AND OTHER CONTEXT
------------------------------

Environment variables:

    AUTOMATED_TESTING = 1
    LANG = en_US.UTF-8
    LANGUAGE = en_US:en
    PATH = /usr/lib/ccache:/home/sand/bin:/usr/local/bin:/usr/bin:/bin:/usr/bin/X11:/usr/games:/usr/local/perl/bin:/usr/X11/bin:/sbin:/usr/sbin
    PERL5LIB = 
    PERL5OPT = 
    PERL5_CPANPLUS_IS_RUNNING = 16745
    PERL5_CPAN_IS_RUNNING = 16745
    PERL_MM_USE_DEFAULT = 1
    SHELL = /usr/bin/zsh
    TERM = screen

Perl special variables (and OS-specific diagnostics, for MSWin32):

    $^X = /home/sand/src/perl/repoperls/installed-perls/perl/v5.14.4/165a/bin/perl
    $UID/$EUID = 1005 / 1005
    $GID = 1005 1005
    $EGID = 1005 1005

Perl module toolchain versions installed:

    Module              Have    
    ------------------- --------
    CPAN                2.00    
    CPAN::Meta          2.132830
    Cwd                 3.40    
    ExtUtils::CBuilder  0.280212
    ExtUtils::Command   1.17    
    ExtUtils::Install   1.56    
    ExtUtils::MakeMaker 6.82    
    ExtUtils::Manifest  1.60    
    ExtUtils::ParseXS   2.2210  
    File::Spec          3.40    
    JSON                2.90    
    JSON::PP            2.27203 
    Module::Build       0.4200  
    Module::Signature   0.73    
    Parse::CPAN::Meta   1.4409  
    Test::Harness       3.30    
    Test::More          1.001002
    YAML                0.84    
    YAML::Syck          1.27    
    version             0.9904  


--

Summary of my perl5 (revision 5 version 14 subversion 4) configuration:
  Commit id: 26c5c13a4ece9084f310610bb17fb2f24c72a73e
  Platform:
    osname=linux, osvers=3.11-1-amd64, archname=x86_64-linux
    uname='linux k83 3.11-1-amd64 #1 smp debian 3.11.6-2 (2013-11-01) x86_64 gnulinux '
    config_args='-Dprefix=/home/sand/src/perl/repoperls/installed-perls/perl/v5.14.4/165a -Dmyhostname=k83 -Dinstallusrbinperl=n -Uversiononly -Dusedevel -des -Ui_db -Uuseithreads -Uuselongdouble -DDEBUGGING=-g'
    hint=recommended, useposix=true, d_sigaction=define
    useithreads=undef, usemultiplicity=undef
    useperlio=define, d_sfio=undef, uselargefiles=define, usesocks=undef
    use64bitint=define, use64bitall=define, uselongdouble=undef
    usemymalloc=n, bincompat5005=undef
  Compiler:
    cc='cc', ccflags ='-fno-strict-aliasing -pipe -fstack-protector -I/usr/local/include -D_LARGEFILE_SOURCE -D_FILE_OFFSET_BITS=64',
    optimize='-O2 -g',
    cppflags='-fno-strict-aliasing -pipe -fstack-protector -I/usr/local/include'
    ccversion='', gccversion='4.8.2', gccosandvers=''
    intsize=4, longsize=8, ptrsize=8, doublesize=8, byteorder=12345678
    d_longlong=define, longlongsize=8, d_longdbl=define, longdblsize=16
    ivtype='long', ivsize=8, nvtype='double', nvsize=8, Off_t='off_t', lseeksize=8
    alignbytes=8, prototype=define
  Linker and Libraries:
    ld='cc', ldflags =' -fstack-protector -L/usr/local/lib'
    libpth=/usr/local/lib /lib/x86_64-linux-gnu /lib/../lib /usr/lib/x86_64-linux-gnu /usr/lib/../lib /lib /usr/lib
    libs=-lnsl -lgdbm -ldb -ldl -lm -lcrypt -lutil -lc -lgdbm_compat
    perllibs=-lnsl -ldl -lm -lcrypt -lutil -lc
    libc=, so=so, useshrplib=false, libperl=libperl.a
    gnulibc_version='2.17'
  Dynamic Linking:
    dlsrc=dl_dlopen.xs, dlext=so, d_dlsymun=undef, ccdlflags='-Wl,-E'
    cccdlflags='-fPIC', lddlflags='-shared -O2 -g -L/usr/local/lib -fstack-protector'


Characteristics of this binary (from libperl): 
  Compile-time options: PERL_DONT_CREATE_GVSV PERL_MALLOC_WRAP
                        PERL_PRESERVE_IVUV PERL_USE_DEVEL USE_64_BIT_ALL
                        USE_64_BIT_INT USE_LARGE_FILES USE_PERLIO
                        USE_PERL_ATOF
  Built under linux
  Compiled at Nov  9 2013 00:37:35
  %ENV:
    PERL5LIB=""
    PERL5OPT=""
    PERL5_CPANPLUS_IS_RUNNING="16745"
    PERL5_CPAN_IS_RUNNING="16745"
    PERL_MM_USE_DEFAULT="1"
  @INC:
    /home/sand/src/perl/repoperls/installed-perls/perl/v5.14.4/165a/lib/site_perl/5.14.4/x86_64-linux
    /home/sand/src/perl/repoperls/installed-perls/perl/v5.14.4/165a/lib/site_perl/5.14.4
    /home/sand/src/perl/repoperls/installed-perls/perl/v5.14.4/165a/lib/5.14.4/x86_64-linux
    /home/sand/src/perl/repoperls/installed-perls/perl/v5.14.4/165a/lib/5.14.4
    .