Starman v0.4017 Perl 5 v5.41.3 amd64-freebsd-thread-multi

Status
Pass
From
James E Keenan
Dist
Starman v0.4017
Platform
Perl 5 v5.41.3 amd64-freebsd-thread-multi
Date
2024-08-17 22:26:49
ID
cbd58d00-5ce7-11ef-9907-d276e219729b
This distribution has been tested as part of the CPAN Testers
project, supporting the Perl programming language.  See
http://wiki.cpantesters.org/ for more information or email
questions to cpan-testers-discuss@perl.org


--
Dear Tatsuhiko Miyagawa,

This is a computer-generated report for Starman-0.4017
on perl 5.41.3, created by CPAN-Reporter-1.2020.

Thank you for uploading your work to CPAN.  Congratulations!
All tests were successful.

Sections of this report:

    * Tester comments
    * Program output
    * Prerequisites
    * Environment and other context

------------------------------
TESTER COMMENTS
------------------------------

Additional comments from tester:

none provided

------------------------------
PROGRAM OUTPUT
------------------------------

Output from './Build test':

t/00_compile.t ........... ok
t/author-pod-syntax.t .... skipped: these tests are for testing by the author
2024/08/17-22:26:44 Starman::Server (type Net::Server::PreFork) starting! pid(2483)
Binding to TCP port 30682 on host 127.0.0.1 with IPv4
Setting gid to "1002 1002 1002 0 5 920 1003"
2024/08/17-22:26:44 Server closing!
t/chunked_req.t .......... ok
t/chunked_termination.t .. ok
2024/08/17-22:26:44 Starman::Server (type Net::Server::PreFork) starting! pid(4644)
Binding to TCP port 30691 on host 127.0.0.1 with IPv4
Setting gid to "1002 1002 1002 0 5 920 1003"
2024/08/17-22:26:44 Server closing!
t/chunked_zero_length.t .. ok
2024/08/17-22:26:45 Starman::Server (type Net::Server::PreFork) starting! pid(7623)
Binding to TCP port 30699 on host 127.0.0.1 with IPv4
Setting gid to "1002 1002 1002 0 5 920 1003"
2024/08/17-22:26:45 Server closing!
t/early-hints.t .......... ok
2024/08/17-22:26:45 Starman::Server (type Net::Server::PreFork) starting! pid(11250)
Binding to TCP port 30707 on host 127.0.0.1 with IPv4
Setting gid to "1002 1002 1002 0 5 920 1003"
2024/08/17-22:26:46 Server closing!
t/eintr.t ................ ok
2024/08/17-22:26:46 Starman::Server (type Net::Server::PreFork) starting! pid(15023)
Binding to TCP port 30712 on host 127.0.0.1 with IPv4
Setting gid to "1002 1002 1002 0 5 920 1003"
2024/08/17-22:26:46 Server closing!
t/expect.t ............... ok
2024/08/17-22:26:46 Starman::Server (type Net::Server::PreFork) starting! pid(17989)
Binding to TCP port 30721 on host 127.0.0.1 with IPv4
Setting gid to "1002 1002 1002 0 5 920 1003"
2024/08/17-22:26:46 Server closing!
2024/08/17-22:26:46 Starman::Server (type Net::Server::PreFork) starting! pid(20602)
Binding to TCP port 30751 on host 127.0.0.1 with IPv4
Setting gid to "1002 1002 1002 0 5 920 1003"
2024/08/17-22:26:46 Server closing!
t/harakiri.t ............. ok
2024/08/17-22:26:47 Starman::Server (type Net::Server::PreFork) starting! pid(30641)
Binding to TCP port 30781 on host 127.0.0.1 with IPv4
Setting gid to "1002 1002 1002 0 5 920 1003"
2024/08/17-22:26:47 Server closing!
t/lf_only_request.t ...... ok
2024/08/17-22:26:47 Starman::Server (type Net::Server::PreFork) starting! pid(33510)
Binding to TCP port 30789 on host 127.0.0.1 with IPv4
Setting gid to "1002 1002 1002 0 5 920 1003"
2024/08/17-22:26:47 Server closing!
t/no_chunked_head.t ...... ok
t/release-findbin.t ...... skipped: these tests are for release candidate testing
t/release-rand.t ......... skipped: these tests are for release candidate testing
2024/08/17-22:26:47 Starman::Server (type Net::Server::PreFork) starting! pid(36057)
Binding to TCP port 30798 on host 127.0.0.1 with IPv4
Setting gid to "1002 1002 1002 0 5 920 1003"
2024/08/17-22:26:47 Server closing!
t/single_zero.t .......... ok
2024/08/17-22:26:47 Starman::Server (type Net::Server::PreFork) starting! pid(38168)
Resolved [localhost]:30806 to [127.0.0.1]:30806, IPv4
Binding to SSL port 30806 on host 127.0.0.1 with IPv4
Setting gid to "1002 1002 1002 0 5 920 1003"
Could not finalize SSL connection with client handle (SSL accept attempt failed)
Child process 38317 exited with status 255
2024/08/17-22:26:47 Server closing!
t/ssl.t .................. ok
2024/08/17-22:26:48 Starman::Server (type Net::Server::PreFork) starting! pid(40804)
Resolved [localhost]:30813 to [127.0.0.1]:30813, IPv4
Binding to SSL port 30813 on host 127.0.0.1 with IPv4
Setting gid to "1002 1002 1002 0 5 920 1003"
Could not finalize SSL connection with client handle (SSL accept attempt failed)
Child process 41432 exited with status 255
2024/08/17-22:26:48 Server closing!
t/ssl_largebody.t ........ ok
2024/08/17-22:26:48 Starman::Server (type Net::Server::PreFork) starting! pid(44678)
Binding to TCP port 30820 on host 127.0.0.1 with IPv4
Setting gid to "1002 1002 1002 0 5 920 1003"
2024/08/17-22:26:48 Server closing!
t/suite.t ................ ok
All tests successful.
Files=17, Tests=125,  4 wallclock secs ( 0.05 usr  0.01 sys +  2.66 cusr  0.65 csys =  3.37 CPU)
Result: PASS

------------------------------
PREREQUISITES
------------------------------

Prerequisite modules loaded:

requires:

    Module              Need     Have    
    ------------------- -------- --------
    Data::Dump          0        1.25    
    HTTP::Date          0        6.06    
    HTTP::Parser::XS    0        0.17    
    HTTP::Status        0        6.46    
    Net::Server         2.007    2.014   
    parent              0        0.242   
    perl                5.008001 5.041003
    Plack               0.9971   1.0051  
    Test::TCP           2.00     2.22    

build_requires:

    Module              Need     Have    
    ------------------- -------- --------
    LWP::UserAgent      0        6.77    
    Test::More          0        1.302201
    Test::Requires      0        0.11    

configure_requires:

    Module              Need     Have    
    ------------------- -------- --------
    Module::Build::Tiny 0.034    0.048   


------------------------------
ENVIRONMENT AND OTHER CONTEXT
------------------------------

Environment variables:

    LANG = C.UTF-8
    NONINTERACTIVE_TESTING = 1
    P7_TEST_REPORTS_DIR = /home/jkeenan/learn/perl/p5p/core-p7/alpha/test-reports
    PATH = /sbin:/bin:/usr/sbin:/usr/bin:/usr/local/sbin:/usr/local/bin:/home/jkeenan/bin:/home/jkeenan/bin/perl:/home/jkeenan/bin/shell:/home/jkeenan/gitwork/metaconfig/bin
    PERL2DIR = /home/jkeenan/gitwork/perl2
    PERL5LIB = 
    PERL5OPT = 
    PERL5_CPANPLUS_IS_RUNNING = 99326
    PERL5_CPAN_IS_RUNNING = 99326
    PERL_MM_USE_DEFAULT = 1
    PERL_USE_UNSAFE_INC = 1
    PERL_WORKDIR = /home/jkeenan/gitwork/perl
    SHELL = /bin/sh
    TERM = screen

Perl special variables (and OS-specific diagnostics, for MSWin32):

    $^X = /usr/home/jkeenan/testing/blead/bin/perl
    $UID/$EUID = 1002 / 1002
    $GID = 1002 1002 0 5 920 1003
    $EGID = 1002 1002 0 5 920 1003

Perl module toolchain versions installed:

    Module              Have    
    ------------------- --------
    CPAN                2.36    
    CPAN::Meta          2.150010
    Cwd                 3.92    
    ExtUtils::CBuilder  0.280240
    ExtUtils::Command   7.70    
    ExtUtils::Install   2.22    
    ExtUtils::MakeMaker 7.70    
    ExtUtils::Manifest  1.75    
    ExtUtils::ParseXS   3.53    
    File::Spec          3.92    
    JSON                4.10    
    JSON::PP            4.16    
    Module::Build       0.4234  
    Module::Signature   n/a     
    Parse::CPAN::Meta   2.150010
    Test2               1.302201
    Test::Harness       3.50    
    Test::More          1.302201
    YAML                1.31    
    YAML::Syck          1.34    
    version             0.9930  


--

Summary of my perl5 (revision 5 version 41 subversion 3) configuration:
  Commit id: b52ac0882220a4eb961f5028163fb75494704d7a
  Platform:
    osname=freebsd
    osvers=13.2-release-p1
    archname=amd64-freebsd-thread-multi
    uname='freebsd perlmonger.nycbug.org 13.2-release-p1 freebsd 13.2-release-p1 generic amd64 '
    config_args='-des -Dusedevel -Uversiononly -Dprefix=/home/jkeenan/testing/blead -Dman1dir=none -Dman3dir=none -Duseithreads -Doptimize=-O2 -pipe -fstack-protector -fno-strict-aliasing'
    hint=recommended
    useposix=true
    d_sigaction=define
    useithreads=define
    usemultiplicity=define
    use64bitint=define
    use64bitall=define
    uselongdouble=undef
    usemymalloc=n
    default_inc_excludes_dot=define
  Compiler:
    cc='cc'
    ccflags ='-DHAS_FPSETMASK -DHAS_FLOATINGPOINT_H -DNO_POSIX_2008_LOCALE -fno-strict-aliasing -pipe -fstack-protector-strong -I/usr/local/include'
    optimize='-O2 -pipe -fstack-protector -fno-strict-aliasing'
    cppflags='-DHAS_FPSETMASK -DHAS_FLOATINGPOINT_H -DNO_POSIX_2008_LOCALE -fno-strict-aliasing -pipe -fstack-protector-strong -I/usr/local/include'
    ccversion=''
    gccversion='FreeBSD Clang 14.0.5 (https://github.com/llvm/llvm-project.git llvmorg-14.0.5-0-gc12386ae247c)'
    gccosandvers=''
    intsize=4
    longsize=8
    ptrsize=8
    doublesize=8
    byteorder=12345678
    doublekind=3
    d_longlong=define
    longlongsize=8
    d_longdbl=define
    longdblsize=16
    longdblkind=3
    ivtype='long'
    ivsize=8
    nvtype='double'
    nvsize=8
    Off_t='off_t'
    lseeksize=8
    alignbytes=8
    prototype=define
  Linker and Libraries:
    ld='cc'
    ldflags ='-pthread -Wl,-E  -fstack-protector-strong -L/usr/local/lib'
    libpth=/usr/lib /usr/local/lib /usr/lib/clang/14.0.5/lib
    libs=-lpthread -lgdbm -ldl -lm -lcrypt -lutil
    perllibs=-lpthread -ldl -lm -lcrypt -lutil
    libc=
    so=so
    useshrplib=false
    libperl=libperl.a
    gnulibc_version=''
  Dynamic Linking:
    dlsrc=dl_dlopen.xs
    dlext=so
    d_dlsymun=undef
    ccdlflags=' '
    cccdlflags='-DPIC -fPIC'
    lddlflags='-shared  -L/usr/local/lib -fstack-protector-strong'


Characteristics of this binary (from libperl): 
  Compile-time options:
    HAS_LONG_DOUBLE
    HAS_STRTOLD
    HAS_TIMES
    MULTIPLICITY
    PERLIO_LAYERS
    PERL_COPY_ON_WRITE
    PERL_DONT_CREATE_GVSV
    PERL_HASH_FUNC_SIPHASH13
    PERL_HASH_USE_SBOX32
    PERL_MALLOC_WRAP
    PERL_OP_PARENT
    PERL_PRESERVE_IVUV
    PERL_USE_DEVEL
    PERL_USE_SAFE_PUTENV
    USE_64_BIT_ALL
    USE_64_BIT_INT
    USE_ITHREADS
    USE_LARGE_FILES
    USE_LOCALE
    USE_LOCALE_COLLATE
    USE_LOCALE_CTYPE
    USE_LOCALE_NUMERIC
    USE_LOCALE_TIME
    USE_PERLIO
    USE_PERL_ATOF
    USE_REENTRANT_API
  Built under freebsd
  Compiled at Aug 17 2024 19:23:11
  %ENV:
    PERL2DIR="/home/jkeenan/gitwork/perl2"
    PERL5LIB=""
    PERL5OPT=""
    PERL5_CPANPLUS_IS_RUNNING="99326"
    PERL5_CPAN_IS_RUNNING="99326"
    PERL_MM_USE_DEFAULT="1"
    PERL_USE_UNSAFE_INC="1"
    PERL_WORKDIR="/home/jkeenan/gitwork/perl"
  @INC:
    /home/jkeenan/testing/blead/lib/perl5/site_perl/5.41.3/amd64-freebsd-thread-multi
    /home/jkeenan/testing/blead/lib/perl5/site_perl/5.41.3
    /home/jkeenan/testing/blead/lib/perl5/5.41.3/amd64-freebsd-thread-multi
    /home/jkeenan/testing/blead/lib/perl5/5.41.3
    .