Report for Search-Elasticsearch-Client-1_0-5.01

Back
From: metabase:user:30f4dfbe-2aae-11df-837a-5e0a49663a4f
Subject: PASS Search-Elasticsearch-Client-1_0-5.01 v5.18.4 Mac OS X
Date: 2016-10-23T03:57:20Z

This distribution has been tested as part of the CPAN Testers
project, supporting the Perl programming language.  See
http://wiki.cpantesters.org/ for more information or email
questions to cpan-testers-discuss@perl.org


--
Dear Clinton Gormley,

This is a computer-generated report for Search-Elasticsearch-Client-1_0-5.01
on perl 5.18.4, created by CPAN-Reporter-1.2018.

Thank you for uploading your work to CPAN.  Congratulations!
All tests were successful.

Sections of this report:

    * Tester comments
    * Program output
    * Prerequisites
    * Environment and other context

------------------------------
TESTER COMMENTS
------------------------------

Additional comments from tester:

this report is from an automated smoke testing program
and was not reviewed by a human for accuracy

------------------------------
PROGRAM OUTPUT
------------------------------

Output from '/sw/bin/make test':

PERL_DL_NONLAZY=1 "/Users/hornenj/perl5/perlbrew/perls/perl-5.18.4/bin/perl5.18.4" "-MExtUtils::Command::MM" "-MTest::Harness" "-e" "undef *Test::Harness::Switches; test_harness(0, 'blib/lib', 'blib/arch')" t/*.t t/Client_1_0/*.t
t/author-eol.t ..................... skipped: these tests are for testing by the author
t/author-no-tabs.t ................. skipped: these tests are for testing by the author
t/author-pod-syntax.t .............. skipped: these tests are for testing by the author
t/Client_1_0/00_print_version.t .... skipped: No Elasticsearch test node available
t/Client_1_0/10_live.t ............. skipped: No Elasticsearch test node available
t/Client_1_0/15_conflict.t ......... skipped: No Elasticsearch test node available
t/Client_1_0/20_fork_httptiny.t .... skipped: No Elasticsearch test node available
t/Client_1_0/21_fork_lwp.t ......... skipped: No Elasticsearch test node available
t/Client_1_0/22_fork_hijk.t ........ skipped: No Elasticsearch test node available
t/Client_1_0/23_fork_netcurl.t ..... skipped: No Elasticsearch test node available
t/Client_1_0/30_bulk_add_action.t .. skipped: No Elasticsearch test node available
t/Client_1_0/31_bulk_helpers.t ..... skipped: No Elasticsearch test node available
t/Client_1_0/32_bulk_flush.t ....... skipped: No Elasticsearch test node available
t/Client_1_0/33_bulk_errors.t ...... skipped: No Elasticsearch test node available
t/Client_1_0/34_bulk_cxn_errors.t .. ok
t/Client_1_0/40_scroll.t ........... skipped: No Elasticsearch test node available
t/Client_1_0/50_reindex.t .......... skipped: No Elasticsearch test node available
t/Client_1_0/60_auth_httptiny.t .... skipped: HTTPTiny - No https server specified in ES_SSL
t/Client_1_0/61_auth_lwp.t ......... skipped: LWP - No https server specified in ES_SSL
t/Client_1_0/62_auth_netcurl.t ..... skipped: NetCurl - No https server specified in ES_SSL
All tests successful.
Files=20, Tests=3,  3 wallclock secs ( 0.04 usr  0.03 sys +  0.83 cusr  0.22 csys =  1.12 CPU)
Result: PASS

------------------------------
PREREQUISITES
------------------------------

Prerequisite modules loaded:

requires:

    Module                                      Need Have    
    ------------------------------------------- ---- --------
    Devel::GlobalDestruction                    0    0.13    
    Moo                                         0    2.000002
    Moo::Role                                   0    2.000002
    namespace::clean                            0    0.25    
    Search::Elasticsearch                       5.00 5.01    
    Search::Elasticsearch::Role::API            0    5.01    
    Search::Elasticsearch::Role::Client::Direct 0    5.01    
    Search::Elasticsearch::Role::Is_Sync        0    5.01    
    Search::Elasticsearch::Util                 0    5.01    
    Try::Tiny                                   0    0.22    

build_requires:

    Module                                      Need Have    
    ------------------------------------------- ---- --------
    Data::Dumper                                0    2.154   
    ExtUtils::MakeMaker                         0    7.22    
    IO::Socket::SSL                             0    2.038   
    lib                                         0    0.63    
    Log::Any::Adapter                           0    1.032   
    Log::Any::Adapter::Callback                 0.09 0.09    
    Net::Curl::Easy                             0    0.37    
    POSIX                                       0    1.32    
    Search::Elasticsearch::Role::Cxn            0    5.01    
    strict                                      0    1.07    
    Sub::Exporter                               0    0.987   
    Test::Deep                                  0    1.123   
    Test::Exception                             0    0.43    
    Test::More                                  0.98 1.302059
    warnings                                    0    1.18    

configure_requires:

    Module                                      Need Have    
    ------------------------------------------- ---- --------
    ExtUtils::MakeMaker                         0    7.22    


------------------------------
ENVIRONMENT AND OTHER CONTEXT
------------------------------

Environment variables:

    AUTOMATED_TESTING = 1
    LANG = en_US.UTF-8
    LC_ALL = POSIX
    LDFLAGS = 
    PATH = /Users/hornenj/perl5/perlbrew/bin:/Users/hornenj/perl5/perlbrew/perls/perl-5.18.4/bin:/Users/hornenj/perl5/perlbrew/bin:/Users/hornenj/bin:/sw/lib/perl5/ExtUtils:/sw/bin:/am/ncbiapdata/bin:/usr/bin:/bin:/usr/X11R6/bin:/netopt/ncbi_tools/bin:/usr/local/ncbi/blast/bin:/net/traces01.be-md.ncbi.nlm.nih.gov/trace_software/vdb/mac/release/x86_64/bin
    PERL5LIB = /Users/hornenj/.cpan/build/Net-Curl-0.37-42/blib/arch:/Users/hornenj/.cpan/build/Net-Curl-0.37-42/blib/lib:/Users/hornenj/.cpan/build/Search-Elasticsearch-Async-5.00-23/blib/arch:/Users/hornenj/.cpan/build/Search-Elasticsearch-Async-5.00-23/blib/lib:/Users/hornenj/.cpan/build/Cpanel-JSON-XS-3.0218-3/blib/arch:/Users/hornenj/.cpan/build/Cpanel-JSON-XS-3.0218-3/blib/lib:/Users/hornenj/.cpan/build/AnyEvent-HTTP-2.23-24/blib/arch:/Users/hornenj/.cpan/build/AnyEvent-HTTP-2.23-24/blib/lib:/Users/hornenj/.cpan/build/Search-Elasticsearch-5.01-64/blib/arch:/Users/hornenj/.cpan/build/Search-Elasticsearch-5.01-64/blib/lib:/Users/hornenj/.cpan/build/Any-URI-Escape-0.01-73/blib/arch:/Users/hornenj/.cpan/build/Any-URI-Escape-0.01-73/blib/lib:/Users/hornenj/.cpan/build/Promises-0.94-23/blib/arch:/Users/hornenj/.cpan/build/Promises-0.94-23/blib/lib:/Users/hornenj/.cpan/build/Mojolicious-7.08-52/blib/arch:/Users/hornenj/.cpan/build/Mojolicious-7.08-52/blib/lib:/Users/hornenj/.cpan/build/Log-Any-Adapter-Callback-0.09-68/blib/arch:/Users/hornenj/.cpan/build/Log-Any-Adapter-Callback-0.09-68/blib/lib
    PERL5OPT = 
    PERL5_CPANPLUS_IS_RUNNING = 88005
    PERL5_CPAN_IS_RUNNING = 88005
    PERL5_MINISMOKEBOX = 0.58
    PERLBREW_BASHRC_VERSION = 0.76
    PERLBREW_HOME = /Users/hornenj/.perlbrew
    PERLBREW_LIB = 
    PERLBREW_MANPATH = /Users/hornenj/perl5/perlbrew/perls/perl-5.18.4/man
    PERLBREW_PATH = /Users/hornenj/perl5/perlbrew/bin:/Users/hornenj/perl5/perlbrew/perls/perl-5.18.4/bin
    PERLBREW_PERL = perl-5.18.4
    PERLBREW_ROOT = /Users/hornenj/perl5/perlbrew
    PERLBREW_VERSION = 0.76
    PERL_EXTUTILS_AUTOINSTALL = --defaultdeps
    PERL_LOCAL_LIB_ROOT = 
    PERL_MM_USE_DEFAULT = 1
    SHELL = /bin/bash
    TERM = xterm-256color
    TMPDIR = /var/folders/pz/pd7y1qjs6s3cbk170cw50fjc000c61/T/
    ac_cv_path_INTLTOOL_PERL = /usr/bin/perl

Perl special variables (and OS-specific diagnostics, for MSWin32):

    $^X = /Users/hornenj/perl5/perlbrew/perls/perl-5.18.4/bin/perl5.18.4
    $UID/$EUID = 12481 / 12481
    $GID = 14 14 5344 37191 527 37223 241
    $EGID = 14 14 5344 37191 527 37223 241

Perl module toolchain versions installed:

    Module              Have    
    ------------------- --------
    CPAN                2.14    
    CPAN::Meta          2.150001
    Cwd                 3.47    
    ExtUtils::CBuilder  0.280223
    ExtUtils::Command   7.22    
    ExtUtils::Install   2.04    
    ExtUtils::MakeMaker 7.22    
    ExtUtils::Manifest  1.70    
    ExtUtils::ParseXS   3.30    
    File::Spec          3.47    
    JSON                2.90    
    JSON::PP            2.27400 
    Module::Build       0.4212  
    Module::Signature   n/a     
    Parse::CPAN::Meta   1.4422  
    Test::Harness       3.36    
    Test::More          1.302059
    YAML                1.18    
    YAML::Syck          1.29    
    version             0.9912  


--

Summary of my perl5 (revision 5 version 18 subversion 4) configuration:
   
  Platform:
    osname=darwin, osvers=13.4.0, archname=darwin-thread-multi-2level
    uname='darwin ncbimac2008.ncbi.nlm.nih.gov 13.4.0 darwin kernel version 13.4.0: sun aug 17 19:50:11 pdt 2014; root:xnu-2422.115.4~1release_x86_64 x86_64 '
    config_args='-de -Dprefix=/Users/hornenj/perl5/perlbrew/perls/perl-5.18.4 -Duseithreads -Dusemultiplicity -Dusedevel -Accflags=-O2 -W -Wformat=2 -Wswitch -Wshadow -Wwrite-strings -Wuninitialized -Wall -pipe -mtune=native -march=native -fomit-frame-pointer -msse2 -msse -mmmx -pedantic -D_FORTIFY_SOURCE=2 -Wpointer-arith -Wstrict-prototypes -fstack-protector -Wstack-protector -Wextra -Wbad-function-cast -Wcast-align -Wcast-qual -Wdisabled-optimization -Wendif-labels -Wfloat-equal -Wformat-nonliteral -Winline -Wmissing-declarations -Wmissing-prototypes -Wnested-externs -Wpointer-arith -Wundef -Wformat-security -fassociative-math -Acc=cc -Aeval:scriptdir=/Users/hornenj/perl5/perlbrew/perls/perl-5.18.4/bin'
    hint=recommended, useposix=true, d_sigaction=define
    useithreads=define, usemultiplicity=define
    useperlio=define, d_sfio=undef, uselargefiles=define, usesocks=undef
    use64bitint=define, use64bitall=define, uselongdouble=undef
    usemymalloc=n, bincompat5005=undef
  Compiler:
    cc=' cc', ccflags ='-fno-common -DPERL_DARWIN -O2 -W -Wformat=2 -Wswitch -Wshadow -Wwrite-strings -Wuninitialized -Wall -pipe -mtune=native -march=native -fomit-frame-pointer -msse2 -msse -mmmx -pedantic -D_FORTIFY_SOURCE=2 -Wpointer-arith -Wstrict-prototypes -fstack-protector -Wstack-protector -Wextra -Wbad-function-cast -Wcast-align -Wcast-qual -Wdisabled-optimization -Wendif-labels -Wfloat-equal -Wformat-nonliteral -Winline -Wmissing-declarations -Wmissing-prototypes -Wnested-externs -Wpointer-arith -Wundef -Wformat-security -fassociative-math -fno-strict-aliasing -I/usr/local/include',
    optimize='-O3',
    cppflags='-fno-common -DPERL_DARWIN -O2 -W -Wformat=2 -Wswitch -Wshadow -Wwrite-strings -Wuninitialized -Wall -pipe -mtune=native -march=native -fomit-frame-pointer -msse2 -msse -mmmx -pedantic -D_FORTIFY_SOURCE=2 -Wpointer-arith -Wstrict-prototypes -fstack-protector -Wstack-protector -Wextra -Wbad-function-cast -Wcast-align -Wcast-qual -Wdisabled-optimization -Wendif-labels -Wfloat-equal -Wformat-nonliteral -Winline -Wmissing-declarations -Wmissing-prototypes -Wnested-externs -Wpointer-arith -Wundef -Wformat-security -fassociative-math -fno-strict-aliasing -I/usr/local/include'
    ccversion='', gccversion='4.2.1 Compatible Apple LLVM 6.0 (clang-600.0.51)', gccosandvers=''
    intsize=4, longsize=8, ptrsize=8, doublesize=8, byteorder=12345678
    d_longlong=define, longlongsize=8, d_longdbl=define, longdblsize=16
    ivtype='long', ivsize=8, nvtype='double', nvsize=8, Off_t='off_t', lseeksize=8
    alignbytes=8, prototype=define
  Linker and Libraries:
    ld='env MACOSX_DEPLOYMENT_TARGET=10.3 cc', ldflags =' -fstack-protector -L/usr/local/lib'
    libpth=/usr/local/lib /usr/lib
    libs=-ldbm -ldl -lm -lutil -lc
    perllibs=-ldl -lm -lutil -lc
    libc=, so=dylib, useshrplib=false, libperl=libperl.a
    gnulibc_version=''
  Dynamic Linking:
    dlsrc=dl_dlopen.xs, dlext=bundle, d_dlsymun=undef, ccdlflags=' '
    cccdlflags=' ', lddlflags=' -bundle -undefined dynamic_lookup -L/usr/local/lib -fstack-protector'


Characteristics of this binary (from libperl): 
  Compile-time options: HAS_TIMES MULTIPLICITY PERLIO_LAYERS
                        PERL_DONT_CREATE_GVSV
                        PERL_HASH_FUNC_ONE_AT_A_TIME_HARD
                        PERL_IMPLICIT_CONTEXT PERL_MALLOC_WRAP
                        PERL_PRESERVE_IVUV PERL_SAWAMPERSAND PERL_USE_DEVEL
                        USE_64_BIT_ALL USE_64_BIT_INT USE_ITHREADS
                        USE_LARGE_FILES USE_LOCALE USE_LOCALE_COLLATE
                        USE_LOCALE_CTYPE USE_LOCALE_NUMERIC USE_PERLIO
                        USE_PERL_ATOF USE_REENTRANT_API
  Built under darwin
  Compiled at Nov 12 2014 08:22:09
  %ENV:
    PERL5LIB="/Users/hornenj/.cpan/build/Net-Curl-0.37-42/blib/arch:/Users/hornenj/.cpan/build/Net-Curl-0.37-42/blib/lib:/Users/hornenj/.cpan/build/Search-Elasticsearch-Async-5.00-23/blib/arch:/Users/hornenj/.cpan/build/Search-Elasticsearch-Async-5.00-23/blib/lib:/Users/hornenj/.cpan/build/Cpanel-JSON-XS-3.0218-3/blib/arch:/Users/hornenj/.cpan/build/Cpanel-JSON-XS-3.0218-3/blib/lib:/Users/hornenj/.cpan/build/AnyEvent-HTTP-2.23-24/blib/arch:/Users/hornenj/.cpan/build/AnyEvent-HTTP-2.23-24/blib/lib:/Users/hornenj/.cpan/build/Search-Elasticsearch-5.01-64/blib/arch:/Users/hornenj/.cpan/build/Search-Elasticsearch-5.01-64/blib/lib:/Users/hornenj/.cpan/build/Any-URI-Escape-0.01-73/blib/arch:/Users/hornenj/.cpan/build/Any-URI-Escape-0.01-73/blib/lib:/Users/hornenj/.cpan/build/Promises-0.94-23/blib/arch:/Users/hornenj/.cpan/build/Promises-0.94-23/blib/lib:/Users/hornenj/.cpan/build/Mojolicious-7.08-52/blib/arch:/Users/hornenj/.cpan/build/Mojolicious-7.08-52/blib/lib:/Users/hornenj/.cpan/build/Log-Any-Adapter-Callback-0.09-68/blib/arch:/Users/hornenj/.cpan/build/Log-Any-Adapter-Callback-0.09-68/blib/lib"
    PERL5OPT=""
    PERL5_CPANPLUS_IS_RUNNING="88005"
    PERL5_CPAN_IS_RUNNING="88005"
    PERL5_MINISMOKEBOX="0.58"
    PERLBREW_BASHRC_VERSION="0.76"
    PERLBREW_HOME="/Users/hornenj/.perlbrew"
    PERLBREW_LIB=""
    PERLBREW_MANPATH="/Users/hornenj/perl5/perlbrew/perls/perl-5.18.4/man"
    PERLBREW_PATH="/Users/hornenj/perl5/perlbrew/bin:/Users/hornenj/perl5/perlbrew/perls/perl-5.18.4/bin"
    PERLBREW_PERL="perl-5.18.4"
    PERLBREW_ROOT="/Users/hornenj/perl5/perlbrew"
    PERLBREW_VERSION="0.76"
    PERL_EXTUTILS_AUTOINSTALL="--defaultdeps"
    PERL_LOCAL_LIB_ROOT=""
    PERL_MM_USE_DEFAULT="1"
  @INC:
    /Users/hornenj/.cpan/build/Net-Curl-0.37-42/blib/arch
    /Users/hornenj/.cpan/build/Net-Curl-0.37-42/blib/lib
    /Users/hornenj/.cpan/build/Search-Elasticsearch-Async-5.00-23/blib/arch
    /Users/hornenj/.cpan/build/Search-Elasticsearch-Async-5.00-23/blib/lib
    /Users/hornenj/.cpan/build/Cpanel-JSON-XS-3.0218-3/blib/arch
    /Users/hornenj/.cpan/build/Cpanel-JSON-XS-3.0218-3/blib/lib
    /Users/hornenj/.cpan/build/AnyEvent-HTTP-2.23-24/blib/arch
    /Users/hornenj/.cpan/build/AnyEvent-HTTP-2.23-24/blib/lib
    /Users/hornenj/.cpan/build/Search-Elasticsearch-5.01-64/blib/arch
    /Users/hornenj/.cpan/build/Search-Elasticsearch-5.01-64/blib/lib
    /Users/hornenj/.cpan/build/Any-URI-Escape-0.01-73/blib/arch
    /Users/hornenj/.cpan/build/Any-URI-Escape-0.01-73/blib/lib
    /Users/hornenj/.cpan/build/Promises-0.94-23/blib/arch
    /Users/hornenj/.cpan/build/Promises-0.94-23/blib/lib
    /Users/hornenj/.cpan/build/Mojolicious-7.08-52/blib/arch
    /Users/hornenj/.cpan/build/Mojolicious-7.08-52/blib/lib
    /Users/hornenj/.cpan/build/Log-Any-Adapter-Callback-0.09-68/blib/arch
    /Users/hornenj/.cpan/build/Log-Any-Adapter-Callback-0.09-68/blib/lib
    /Users/hornenj/perl5/perlbrew/perls/perl-5.18.4/lib/site_perl/5.18.4/darwin-thread-multi-2level
    /Users/hornenj/perl5/perlbrew/perls/perl-5.18.4/lib/site_perl/5.18.4
    /Users/hornenj/perl5/perlbrew/perls/perl-5.18.4/lib/5.18.4/darwin-thread-multi-2level
    /Users/hornenj/perl5/perlbrew/perls/perl-5.18.4/lib/5.18.4
    .