HTTP-Promise vv0.5.3 Perl 5 v5.36.1 x86_64-linux-thread-multi-ld

Status
Pass
From
Chris Williams (BINGOS)
Dist
HTTP-Promise vv0.5.3
Platform
Perl 5 v5.36.1 x86_64-linux-thread-multi-ld
Date
2025-03-15 15:54:37
ID
cbf25cc8-01b5-11f0-98b0-b3c3213a625c
This distribution has been tested as part of the CPAN Testers
project, supporting the Perl programming language.  See
http://wiki.cpantesters.org/ for more information or email
questions to cpan-testers-discuss@perl.org


--

Dear JDEGUEST,

This is a computer-generated error report created automatically by
CPANPLUS, version 0.9914. Testers personal comments may appear
at the end of this report.


Thank you for uploading your work to CPAN.  Congratulations!
All tests were successful.

TEST RESULTS:

Below is the error stack from stage 'make test':

PERL_DL_NONLAZY=1 "/home/cpan/pit/thr-ld/perl-5.36.1/bin/perl" "-MExtUtils::Command::MM" "-MTest::Harness" "-e" "undef *Test::Harness::Switches; test_harness(0, 'blib/lib', 'blib/arch')" t/*.t
t/01.load.t ................ ok
Bad request within package HTTP::Promise::Parser at line 455 in file lib/HTTP/Promise/Parser.pm
Trace begun at lib/HTTP/Promise/Parser.pm line 455
	HTTP::Promise::Parser::parse_headers('HTTP::Promise::Parser', 'SCALAR(0x56391bcd05d0)') called at lib/HTTP/Promise/Parser.pm line 786
	HTTP::Promise::Parser::parse_request_pp('HTTP::Promise::Parser', 'SCALAR(0x56391bcd05d0)') called at t/02.parser.t line 190
	main::__ANON__ at /home/cpan/pit/jail/GqfXRGC7c7/lib/perl5/Test/Builder.pm line 368
	eval {...} at /home/cpan/pit/jail/GqfXRGC7c7/lib/perl5/Test/Builder.pm line 368
	Test::Builder::subtest('Test::Builder=HASH(0x563919cf1570)', 'request', 'CODE(0x56391ad57e80)') called at /home/cpan/pit/jail/GqfXRGC7c7/lib/perl5/Test/More.pm line 831
	Test::More::subtest('request', 'CODE(0x56391ad57e80)') called at t/02.parser.t line 203
Bad request within package HTTP::Promise::Parser at line 455 in file lib/HTTP/Promise/Parser.pm
Trace begun at lib/HTTP/Promise/Parser.pm line 455
	HTTP::Promise::Parser::parse_headers('HTTP::Promise::Parser', 'SCALAR(0x56391bcd05d0)') called at lib/HTTP/Promise/Parser.pm line 786
	HTTP::Promise::Parser::parse_request_pp('HTTP::Promise::Parser', 'SCALAR(0x56391bcd05d0)') called at t/02.parser.t line 190
	main::__ANON__ at /home/cpan/pit/jail/GqfXRGC7c7/lib/perl5/Test/Builder.pm line 368
	eval {...} at /home/cpan/pit/jail/GqfXRGC7c7/lib/perl5/Test/Builder.pm line 368
	Test::Builder::subtest('Test::Builder=HASH(0x563919cf1570)', 'request', 'CODE(0x56391ad57e80)') called at /home/cpan/pit/jail/GqfXRGC7c7/lib/perl5/Test/More.pm line 831
	Test::More::subtest('request', 'CODE(0x56391ad57e80)') called at t/02.parser.t line 203
Bad Request-Line within package HTTP::Promise::Parser at line 450 in file lib/HTTP/Promise/Parser.pm
Trace begun at lib/HTTP/Promise/Parser.pm line 450
	HTTP::Promise::Parser::parse_headers('HTTP::Promise::Parser', 'SCALAR(0x56391bcd05d0)') called at lib/HTTP/Promise/Parser.pm line 786
	HTTP::Promise::Parser::parse_request_pp('HTTP::Promise::Parser', 'SCALAR(0x56391bcd05d0)') called at t/02.parser.t line 190
	main::__ANON__ at /home/cpan/pit/jail/GqfXRGC7c7/lib/perl5/Test/Builder.pm line 368
	eval {...} at /home/cpan/pit/jail/GqfXRGC7c7/lib/perl5/Test/Builder.pm line 368
	Test::Builder::subtest('Test::Builder=HASH(0x563919cf1570)', 'request', 'CODE(0x56391ad57e80)') called at /home/cpan/pit/jail/GqfXRGC7c7/lib/perl5/Test/More.pm line 831
	Test::More::subtest('request', 'CODE(0x56391ad57e80)') called at t/02.parser.t line 203
Incomplete request, call again when there is more data. within package HTTP::Promise::Parser at line 414 in file lib/HTTP/Promise/Parser.pm
Trace begun at lib/HTTP/Promise/Parser.pm line 414
	HTTP::Promise::Parser::parse_headers('HTTP::Promise::Parser', 'SCALAR(0x56391bcd05d0)') called at lib/HTTP/Promise/Parser.pm line 786
	HTTP::Promise::Parser::parse_request_pp('HTTP::Promise::Parser', 'SCALAR(0x56391bcd05d0)') called at t/02.parser.t line 190
	main::__ANON__ at /home/cpan/pit/jail/GqfXRGC7c7/lib/perl5/Test/Builder.pm line 368
	eval {...} at /home/cpan/pit/jail/GqfXRGC7c7/lib/perl5/Test/Builder.pm line 368
	Test::Builder::subtest('Test::Builder=HASH(0x563919cf1570)', 'request', 'CODE(0x56391ad57e80)') called at /home/cpan/pit/jail/GqfXRGC7c7/lib/perl5/Test/More.pm line 831
	Test::More::subtest('request', 'CODE(0x56391ad57e80)') called at t/02.parser.t line 203
Bad request within package HTTP::Promise::Parser at line 455 in file lib/HTTP/Promise/Parser.pm
Trace begun at lib/HTTP/Promise/Parser.pm line 455
	HTTP::Promise::Parser::parse_headers('HTTP::Promise::Parser', 'SCALAR(0x56391bcd05d0)') called at lib/HTTP/Promise/Parser.pm line 786
	HTTP::Promise::Parser::parse_request_pp('HTTP::Promise::Parser', 'SCALAR(0x56391bcd05d0)') called at t/02.parser.t line 190
	main::__ANON__ at /home/cpan/pit/jail/GqfXRGC7c7/lib/perl5/Test/Builder.pm line 368
	eval {...} at /home/cpan/pit/jail/GqfXRGC7c7/lib/perl5/Test/Builder.pm line 368
	Test::Builder::subtest('Test::Builder=HASH(0x563919cf1570)', 'request', 'CODE(0x56391ad57e80)') called at /home/cpan/pit/jail/GqfXRGC7c7/lib/perl5/Test/More.pm line 831
	Test::More::subtest('request', 'CODE(0x56391ad57e80)') called at t/02.parser.t line 203
Bad Request-Line within package HTTP::Promise::Parser at line 450 in file lib/HTTP/Promise/Parser.pm
Trace begun at lib/HTTP/Promise/Parser.pm line 450
	HTTP::Promise::Parser::parse_headers('HTTP::Promise::Parser', 'SCALAR(0x56391bcd05d0)') called at lib/HTTP/Promise/Parser.pm line 786
	HTTP::Promise::Parser::parse_request_pp('HTTP::Promise::Parser', 'SCALAR(0x56391bcd05d0)') called at t/02.parser.t line 190
	main::__ANON__ at /home/cpan/pit/jail/GqfXRGC7c7/lib/perl5/Test/Builder.pm line 368
	eval {...} at /home/cpan/pit/jail/GqfXRGC7c7/lib/perl5/Test/Builder.pm line 368
	Test::Builder::subtest('Test::Builder=HASH(0x563919cf1570)', 'request', 'CODE(0x56391ad57e80)') called at /home/cpan/pit/jail/GqfXRGC7c7/lib/perl5/Test/More.pm line 831
	Test::More::subtest('request', 'CODE(0x56391ad57e80)') called at t/02.parser.t line 203
Incomplete request, call again when there is more data. within package HTTP::Promise::Parser at line 414 in file lib/HTTP/Promise/Parser.pm
Trace begun at lib/HTTP/Promise/Parser.pm line 414
	HTTP::Promise::Parser::parse_headers('HTTP::Promise::Parser', 'SCALAR(0x56391bcd05d0)') called at lib/HTTP/Promise/Parser.pm line 786
	HTTP::Promise::Parser::parse_request_pp('HTTP::Promise::Parser', 'SCALAR(0x56391bcd05d0)') called at t/02.parser.t line 190
	main::__ANON__ at /home/cpan/pit/jail/GqfXRGC7c7/lib/perl5/Test/Builder.pm line 368
	eval {...} at /home/cpan/pit/jail/GqfXRGC7c7/lib/perl5/Test/Builder.pm line 368
	Test::Builder::subtest('Test::Builder=HASH(0x563919cf1570)', 'request', 'CODE(0x56391ad57e80)') called at /home/cpan/pit/jail/GqfXRGC7c7/lib/perl5/Test/More.pm line 831
	Test::More::subtest('request', 'CODE(0x56391ad57e80)') called at t/02.parser.t line 203
Bad request within package HTTP::Promise::Parser at line 476 in file lib/HTTP/Promise/Parser.pm
Trace begun at lib/HTTP/Promise/Parser.pm line 476
	HTTP::Promise::Parser::parse_headers('HTTP::Promise::Parser', 'SCALAR(0x56391bcd05d0)') called at lib/HTTP/Promise/Parser.pm line 786
	HTTP::Promise::Parser::parse_request_pp('HTTP::Promise::Parser', 'SCALAR(0x56391bcd05d0)') called at t/02.parser.t line 190
	main::__ANON__ at /home/cpan/pit/jail/GqfXRGC7c7/lib/perl5/Test/Builder.pm line 368
	eval {...} at /home/cpan/pit/jail/GqfXRGC7c7/lib/perl5/Test/Builder.pm line 368
	Test::Builder::subtest('Test::Builder=HASH(0x563919cf1570)', 'request', 'CODE(0x56391ad57e80)') called at /home/cpan/pit/jail/GqfXRGC7c7/lib/perl5/Test/More.pm line 831
	Test::More::subtest('request', 'CODE(0x56391ad57e80)') called at t/02.parser.t line 203
Bad Request-Line within package HTTP::Promise::Parser at line 450 in file lib/HTTP/Promise/Parser.pm
Trace begun at lib/HTTP/Promise/Parser.pm line 450
	HTTP::Promise::Parser::parse_headers('HTTP::Promise::Parser', 'SCALAR(0x56391bcd05d0)') called at lib/HTTP/Promise/Parser.pm line 786
	HTTP::Promise::Parser::parse_request_pp('HTTP::Promise::Parser', 'SCALAR(0x56391bcd05d0)') called at t/02.parser.t line 190
	main::__ANON__ at /home/cpan/pit/jail/GqfXRGC7c7/lib/perl5/Test/Builder.pm line 368
	eval {...} at /home/cpan/pit/jail/GqfXRGC7c7/lib/perl5/Test/Builder.pm line 368
	Test::Builder::subtest('Test::Builder=HASH(0x563919cf1570)', 'request', 'CODE(0x56391ad57e80)') called at /home/cpan/pit/jail/GqfXRGC7c7/lib/perl5/Test/More.pm line 831
	Test::More::subtest('request', 'CODE(0x56391ad57e80)') called at t/02.parser.t line 203
Bad request within package HTTP::Promise::Parser at line 788 in file lib/HTTP/Promise/Parser.pm
Trace begun at lib/HTTP/Promise/Parser.pm line 788
	HTTP::Promise::Parser::parse_request_pp('HTTP::Promise::Parser', 'SCALAR(0x56391bcd05d0)') called at t/02.parser.t line 190
	main::__ANON__ at /home/cpan/pit/jail/GqfXRGC7c7/lib/perl5/Test/Builder.pm line 368
	eval {...} at /home/cpan/pit/jail/GqfXRGC7c7/lib/perl5/Test/Builder.pm line 368
	Test::Builder::subtest('Test::Builder=HASH(0x563919cf1570)', 'request', 'CODE(0x56391ad57e80)') called at /home/cpan/pit/jail/GqfXRGC7c7/lib/perl5/Test/More.pm line 831
	Test::More::subtest('request', 'CODE(0x56391ad57e80)') called at t/02.parser.t line 203
Bad Response-Line within package HTTP::Promise::Parser at line 450 in file lib/HTTP/Promise/Parser.pm
Trace begun at lib/HTTP/Promise/Parser.pm line 450
	HTTP::Promise::Parser::parse_headers('HTTP::Promise::Parser', 'SCALAR(0x56391bcdb2a0)', 'HASH(0x56391c0b84d8)') called at lib/HTTP/Promise/Parser.pm line 840
	HTTP::Promise::Parser::parse_response_pp('HTTP::Promise::Parser', 'SCALAR(0x56391bcdb2a0)') called at t/02.parser.t line 287
	main::__ANON__ at /home/cpan/pit/jail/GqfXRGC7c7/lib/perl5/Test/Builder.pm line 368
	eval {...} at /home/cpan/pit/jail/GqfXRGC7c7/lib/perl5/Test/Builder.pm line 368
	Test::Builder::subtest('Test::Builder=HASH(0x563919cf1570)', 'response', 'CODE(0x56391bcd0708)') called at /home/cpan/pit/jail/GqfXRGC7c7/lib/perl5/Test/More.pm line 831
	Test::More::subtest('response', 'CODE(0x56391bcd0708)') called at t/02.parser.t line 300
Incomplete request, call again when there is more data. within package HTTP::Promise::Parser at line 414 in file lib/HTTP/Promise/Parser.pm
Trace begun at lib/HTTP/Promise/Parser.pm line 414
	HTTP::Promise::Parser::parse_headers('HTTP::Promise::Parser', 'SCALAR(0x56391bcdb2a0)', 'HASH(0x56391c0b3918)') called at lib/HTTP/Promise/Parser.pm line 840
	HTTP::Promise::Parser::parse_response_pp('HTTP::Promise::Parser', 'SCALAR(0x56391bcdb2a0)') called at t/02.parser.t line 287
	main::__ANON__ at /home/cpan/pit/jail/GqfXRGC7c7/lib/perl5/Test/Builder.pm line 368
	eval {...} at /home/cpan/pit/jail/GqfXRGC7c7/lib/perl5/Test/Builder.pm line 368
	Test::Builder::subtest('Test::Builder=HASH(0x563919cf1570)', 'response', 'CODE(0x56391bcd0708)') called at /home/cpan/pit/jail/GqfXRGC7c7/lib/perl5/Test/More.pm line 831
	Test::More::subtest('response', 'CODE(0x56391bcd0708)') called at t/02.parser.t line 300
Bad Response-Line within package HTTP::Promise::Parser at line 450 in file lib/HTTP/Promise/Parser.pm
Trace begun at lib/HTTP/Promise/Parser.pm line 450
	HTTP::Promise::Parser::parse_headers('HTTP::Promise::Parser', 'SCALAR(0x56391bcdb2a0)', 'HASH(0x56391c0a6528)') called at lib/HTTP/Promise/Parser.pm line 840
	HTTP::Promise::Parser::parse_response_pp('HTTP::Promise::Parser', 'SCALAR(0x56391bcdb2a0)') called at t/02.parser.t line 287
	main::__ANON__ at /home/cpan/pit/jail/GqfXRGC7c7/lib/perl5/Test/Builder.pm line 368
	eval {...} at /home/cpan/pit/jail/GqfXRGC7c7/lib/perl5/Test/Builder.pm line 368
	Test::Builder::subtest('Test::Builder=HASH(0x563919cf1570)', 'response', 'CODE(0x56391bcd0708)') called at /home/cpan/pit/jail/GqfXRGC7c7/lib/perl5/Test/More.pm line 831
	Test::More::subtest('response', 'CODE(0x56391bcd0708)') called at t/02.parser.t line 300
Incomplete request, call again when there is more data. within package HTTP::Promise::Parser at line 414 in file lib/HTTP/Promise/Parser.pm
Trace begun at lib/HTTP/Promise/Parser.pm line 414
	HTTP::Promise::Parser::parse_headers('HTTP::Promise::Parser', 'SCALAR(0x56391bcdb2a0)', 'HASH(0x56391c0abba0)') called at lib/HTTP/Promise/Parser.pm line 840
	HTTP::Promise::Parser::parse_response_pp('HTTP::Promise::Parser', 'SCALAR(0x56391bcdb2a0)') called at t/02.parser.t line 287
	main::__ANON__ at /home/cpan/pit/jail/GqfXRGC7c7/lib/perl5/Test/Builder.pm line 368
	eval {...} at /home/cpan/pit/jail/GqfXRGC7c7/lib/perl5/Test/Builder.pm line 368
	Test::Builder::subtest('Test::Builder=HASH(0x563919cf1570)', 'response', 'CODE(0x56391bcd0708)') called at /home/cpan/pit/jail/GqfXRGC7c7/lib/perl5/Test/More.pm line 831
	Test::More::subtest('response', 'CODE(0x56391bcd0708)') called at t/02.parser.t line 300
Bad response within package HTTP::Promise::Parser at line 476 in file lib/HTTP/Promise/Parser.pm
Trace begun at lib/HTTP/Promise/Parser.pm line 476
	HTTP::Promise::Parser::parse_headers('HTTP::Promise::Parser', 'SCALAR(0x56391bcdb2a0)', 'HASH(0x56391aed7bb8)') called at lib/HTTP/Promise/Parser.pm line 840
	HTTP::Promise::Parser::parse_response_pp('HTTP::Promise::Parser', 'SCALAR(0x56391bcdb2a0)') called at t/02.parser.t line 287
	main::__ANON__ at /home/cpan/pit/jail/GqfXRGC7c7/lib/perl5/Test/Builder.pm line 368
	eval {...} at /home/cpan/pit/jail/GqfXRGC7c7/lib/perl5/Test/Builder.pm line 368
	Test::Builder::subtest('Test::Builder=HASH(0x563919cf1570)', 'response', 'CODE(0x56391bcd0708)') called at /home/cpan/pit/jail/GqfXRGC7c7/lib/perl5/Test/More.pm line 831
	Test::More::subtest('response', 'CODE(0x56391bcd0708)') called at t/02.parser.t line 300
t/02.parser.t .............. ok
Basic authorisation user name cannot contain ':'. within package HTTP::Promise::Headers at line 634 in file lib/HTTP/Promise/Headers.pm
Trace begun at lib/HTTP/Promise/Headers.pm line 634
	HTTP::Promise::Headers::error('HTTP::Promise::Headers=HASH(0x558a54db2400)', 'Basic authorisation user name cannot contain \':\'.') called at lib/HTTP/Promise/Headers.pm line 1481
	HTTP::Promise::Headers::_basic_auth('HTTP::Promise::Headers=HASH(0x558a54db2400)', 'Authorization', 'u2:p') called at lib/HTTP/Promise/Headers.pm line 258
	HTTP::Promise::Headers::authorization_basic('HTTP::Promise::Headers=HASH(0x558a54db2400)', 'u2:p') called at t/03.headers.t line 433
t/03.headers.t ............. ok
No headers data could be retrieved in the first 1 bytes of data read. within package HTTP::Promise::Parser at line 294 in file lib/HTTP/Promise/Parser.pm
Trace begun at lib/HTTP/Promise/Parser.pm line 294
	HTTP::Promise::Parser::parse_fh('HTTP::Promise::Parser=HASH(0x555a1f13e640)', 'Module::Generic::Scalar::IO=GLOB(0x555a1f3b20e0)') called at lib/HTTP/Promise/Parser.pm line 223
	HTTP::Promise::Parser::parse('HTTP::Promise::Parser=HASH(0x555a1f13e640)', 'SCALAR(0x555a1e1cb700)') called at lib/HTTP/Promise/Message.pm line 835
	HTTP::Promise::Message::parse('HTTP::Promise::Message', '^J', 'debug', 0) called at t/04.message.t line 96
Bad request within package HTTP::Promise::Parser at line 455 in file lib/HTTP/Promise/Parser.pm
Trace begun at lib/HTTP/Promise/Parser.pm line 455
	HTTP::Promise::Parser::parse_headers('HTTP::Promise::Parser=HASH(0x555a1f3b3770)', 'SCALAR(0x555a1f30b020)', 'HASH(0x555a1f3b18d0)') called at lib/HTTP/Promise/Parser.pm line 307
	HTTP::Promise::Parser::parse_fh('HTTP::Promise::Parser=HASH(0x555a1f3b3770)', 'Module::Generic::Scalar::IO=GLOB(0x555a1f2e56f8)') called at lib/HTTP/Promise/Parser.pm line 223
	HTTP::Promise::Parser::parse('HTTP::Promise::Parser=HASH(0x555a1f3b3770)', 'SCALAR(0x555a1e1cb700)') called at lib/HTTP/Promise/Message.pm line 835
	HTTP::Promise::Message::parse('HTTP::Promise::Message', '^J^J', 'debug', 0) called at t/04.message.t line 99
No headers data could be retrieved in the first 3 bytes of data read. within package HTTP::Promise::Parser at line 294 in file lib/HTTP/Promise/Parser.pm
Trace begun at lib/HTTP/Promise/Parser.pm line 294
	HTTP::Promise::Parser::parse_fh('HTTP::Promise::Parser=HASH(0x555a1f3c9700)', 'Module::Generic::Scalar::IO=GLOB(0x555a1f3b33b0)') called at lib/HTTP/Promise/Parser.pm line 223
	HTTP::Promise::Parser::parse('HTTP::Promise::Parser=HASH(0x555a1f3c9700)', 'SCALAR(0x555a1e1cb700)') called at lib/HTTP/Promise/Message.pm line 835
	HTTP::Promise::Message::parse('HTTP::Promise::Message', 'foo', 'debug', 0) called at t/04.message.t line 105
No headers data could be retrieved in the first 11 bytes of data read. within package HTTP::Promise::Parser at line 294 in file lib/HTTP/Promise/Parser.pm
Trace begun at lib/HTTP/Promise/Parser.pm line 294
	HTTP::Promise::Parser::parse_fh('HTTP::Promise::Parser=HASH(0x555a1f3dc300)', 'Module::Generic::Scalar::IO=GLOB(0x555a1f3e1d90)') called at lib/HTTP/Promise/Parser.pm line 223
	HTTP::Promise::Parser::parse('HTTP::Promise::Parser=HASH(0x555a1f3dc300)', 'SCALAR(0x555a1e1cb700)') called at lib/HTTP/Promise/Message.pm line 835
	HTTP::Promise::Message::parse('HTTP::Promise::Message', 'foo_bar: 1^J', 'debug', 0) called at t/04.message.t line 111
Incomplete request, call again when there is more data. within package HTTP::Promise::Parser at line 414 in file lib/HTTP/Promise/Parser.pm
Trace begun at lib/HTTP/Promise/Parser.pm line 414
	HTTP::Promise::Parser::parse_headers('HTTP::Promise::Parser=HASH(0x555a1f3e48c8)', 'SCALAR(0x555a1f30b020)', 'HASH(0x555a1f3e1f70)') called at lib/HTTP/Promise/Parser.pm line 307
	HTTP::Promise::Parser::parse_fh('HTTP::Promise::Parser=HASH(0x555a1f3e48c8)', 'Module::Generic::Scalar::IO=GLOB(0x555a1f2e5d58)') called at lib/HTTP/Promise/Parser.pm line 223
	HTTP::Promise::Parser::parse('HTTP::Promise::Parser=HASH(0x555a1f3e48c8)', 'SCALAR(0x555a1e1cb700)') called at lib/HTTP/Promise/Message.pm line 835
	HTTP::Promise::Message::parse('HTTP::Promise::Message', 'foo: 1^Jfoo', 'debug', 0) called at t/04.message.t line 115
No headers data could be retrieved in the first 10 bytes of data read. within package HTTP::Promise::Parser at line 294 in file lib/HTTP/Promise/Parser.pm
Trace begun at lib/HTTP/Promise/Parser.pm line 294
	HTTP::Promise::Parser::parse_fh('HTTP::Promise::Parser=HASH(0x555a1f3e48c8)', 'Module::Generic::Scalar::IO=GLOB(0x555a1f2e5d58)') called at lib/HTTP/Promise/Parser.pm line 223
	HTTP::Promise::Parser::parse('HTTP::Promise::Parser=HASH(0x555a1f3e48c8)', 'SCALAR(0x555a1e1cb700)') called at lib/HTTP/Promise/Message.pm line 835
	HTTP::Promise::Message::parse('HTTP::Promise::Message', 'foo: 1^Jfoo', 'debug', 0) called at t/04.message.t line 115
Incomplete request, call again when there is more data. within package HTTP::Promise::Parser at line 414 in file lib/HTTP/Promise/Parser.pm
Trace begun at lib/HTTP/Promise/Parser.pm line 414
	HTTP::Promise::Parser::parse_headers('HTTP::Promise::Parser=HASH(0x555a1f3fa880)', 'SCALAR(0x555a1f30b020)', 'HASH(0x555a1f3efd38)') called at lib/HTTP/Promise/Parser.pm line 307
	HTTP::Promise::Parser::parse_fh('HTTP::Promise::Parser=HASH(0x555a1f3fa880)', 'Module::Generic::Scalar::IO=GLOB(0x555a1f333ef8)') called at lib/HTTP/Promise/Parser.pm line 223
	HTTP::Promise::Parser::parse('HTTP::Promise::Parser=HASH(0x555a1f3fa880)', 'SCALAR(0x555a1e1cb700)') called at lib/HTTP/Promise/Message.pm line 835
	HTTP::Promise::Message::parse('HTTP::Promise::Message', '  abc^Jfoo: 1^J', 'debug', 0) called at t/04.message.t line 154
No headers data could be retrieved in the first 13 bytes of data read. within package HTTP::Promise::Parser at line 294 in file lib/HTTP/Promise/Parser.pm
Trace begun at lib/HTTP/Promise/Parser.pm line 294
	HTTP::Promise::Parser::parse_fh('HTTP::Promise::Parser=HASH(0x555a1f3fa880)', 'Module::Generic::Scalar::IO=GLOB(0x555a1f333ef8)') called at lib/HTTP/Promise/Parser.pm line 223
	HTTP::Promise::Parser::parse('HTTP::Promise::Parser=HASH(0x555a1f3fa880)', 'SCALAR(0x555a1e1cb700)') called at lib/HTTP/Promise/Message.pm line 835
	HTTP::Promise::Message::parse('HTTP::Promise::Message', '  abc^Jfoo: 1^J', 'debug', 0) called at t/04.message.t line 154
No headers data could be retrieved in the first 9 bytes of data read. within package HTTP::Promise::Parser at line 294 in file lib/HTTP/Promise/Parser.pm
Trace begun at lib/HTTP/Promise/Parser.pm line 294
	HTTP::Promise::Parser::parse_fh('HTTP::Promise::Parser=HASH(0x555a1f3f6d18)', 'Module::Generic::Scalar::IO=GLOB(0x555a1f3ff278)') called at lib/HTTP/Promise/Parser.pm line 223
	HTTP::Promise::Parser::parse('HTTP::Promise::Parser=HASH(0x555a1f3f6d18)', 'SCALAR(0x555a1e1cb700)') called at lib/HTTP/Promise/Message.pm line 835
	HTTP::Promise::Message::parse('HTTP::Promise::Message', ' foo : 1^J', 'debug', 0) called at t/04.message.t line 157
Incomplete request, call again when there is more data. within package HTTP::Promise::Parser at line 414 in file lib/HTTP/Promise/Parser.pm
Trace begun at lib/HTTP/Promise/Parser.pm line 414
	HTTP::Promise::Parser::parse_headers('HTTP::Promise::Parser=HASH(0x555a1f3e1da8)', 'SCALAR(0x555a1f30b020)', 'HASH(0x555a1f3e20a8)') called at lib/HTTP/Promise/Parser.pm line 307
	HTTP::Promise::Parser::parse_fh('HTTP::Promise::Parser=HASH(0x555a1f3e1da8)', 'Module::Generic::Scalar::IO=GLOB(0x555a1f3b3c68)') called at lib/HTTP/Promise/Parser.pm line 223
	HTTP::Promise::Parser::parse('HTTP::Promise::Parser=HASH(0x555a1f3e1da8)', 'SCALAR(0x555a1e1cb700)') called at lib/HTTP/Promise/Message.pm line 835
	HTTP::Promise::Message::parse('HTTP::Promise::Message', '^Jfoo: bar^J', 'debug', 0) called at t/04.message.t line 160
No headers data could be retrieved in the first 10 bytes of data read. within package HTTP::Promise::Parser at line 294 in file lib/HTTP/Promise/Parser.pm
Trace begun at lib/HTTP/Promise/Parser.pm line 294
	HTTP::Promise::Parser::parse_fh('HTTP::Promise::Parser=HASH(0x555a1f3e1da8)', 'Module::Generic::Scalar::IO=GLOB(0x555a1f3b3c68)') called at lib/HTTP/Promise/Parser.pm line 223
	HTTP::Promise::Parser::parse('HTTP::Promise::Parser=HASH(0x555a1f3e1da8)', 'SCALAR(0x555a1e1cb700)') called at lib/HTTP/Promise/Message.pm line 835
	HTTP::Promise::Message::parse('HTTP::Promise::Message', '^Jfoo: bar^J', 'debug', 0) called at t/04.message.t line 160
Only one part allowed for message/http; boundary=aaa content within package HTTP::Promise::Message at line 889 in file lib/HTTP/Promise/Message.pm
Trace begun at lib/HTTP/Promise/Message.pm line 889
	HTTP::Promise::Message::parts('HTTP::Promise::Message=HASH(0x555a1f41b580)', 'HTTP::Promise::Message=HASH(0x555a1f4b9268)', 'HTTP::Promise::Message=HASH(0x555a207abe10)') called at t/04.message.t line 331
Warning: no part name set for this part No. 1
Warning: no part name set for this part No. 2
Warning: no part name set for this part No. 1
Cannot encode multipart/* messages within package HTTP::Promise::Message at line 708 in file lib/HTTP/Promise/Message.pm
Trace begun at lib/HTTP/Promise/Message.pm line 708
	HTTP::Promise::Message::encode(undef) called at t/04.message.t line 428
Cannot encode message/* messages within package HTTP::Promise::Message at line 709 in file lib/HTTP/Promise/Message.pm
Trace begun at lib/HTTP/Promise/Message.pm line 709
	HTTP::Promise::Message::encode(undef) called at t/04.message.t line 431
UTF-8 "\xFF" does not map to Unicode at lib/HTTP/Promise/Entity.pm line 1222. within package HTTP::Promise::Entity at line 1239 in file lib/HTTP/Promise/Entity.pm
Trace begun at lib/HTTP/Promise/Entity.pm line 1239
	HTTP::Promise::Entity::io_encoding('HTTP::Promise::Entity=HASH(0x555a20a86988)', 'charset_strict', 1) called at t/04.message.t line 545
UTF-8 "\xFF" does not map to Unicode at lib/HTTP/Promise/Entity.pm line 1222. within package HTTP::Promise::Entity at line 1239 in file lib/HTTP/Promise/Entity.pm
Trace begun at lib/HTTP/Promise/Entity.pm line 1239
	HTTP::Promise::Entity::io_encoding('HTTP::Promise::Entity=HASH(0x555a20a86988)', 'body', 'HTTP::Promise::Body::Scalar=SCALAR(0x555a2093c880)', 'charset_strict', 1) called at lib/HTTP/Promise/Message.pm line 544
	HTTP::Promise::Message::decoded_content('HTTP::Promise::Message=HASH(0x555a20829390)', 'charset_strict', 1) called at t/04.message.t line 547
Decoding provided "foobar" is unsupported. within package HTTP::Promise::Stream at line 666 in file lib/HTTP/Promise/Stream.pm
Trace begun at lib/HTTP/Promise/Stream.pm line 666
	HTTP::Promise::Stream::init('HTTP::Promise::Stream=HASH(0x555a20b684b8)', 'HTTP::Promise::Body::Scalar=SCALAR(0x555a2093c880)', 'decoding', 'foobar', 'fatal', 0, 'debug', undef) called at /home/cpan/pit/jail/GqfXRGC7c7/lib/perl5/Module/Generic.pm line 359
	Module::Generic::new('HTTP::Promise::Stream', 'HTTP::Promise::Body::Scalar=SCALAR(0x555a2093c880)', 'decoding', 'foobar', 'fatal', 0, 'debug', undef) called at lib/HTTP/Promise/Entity.pm line 705
	HTTP::Promise::Entity::decode_body('HTTP::Promise::Entity=HASH(0x555a20a86988)', 'Module::Generic::Array=ARRAY(0x555a20a964e8)', 'HASH(0x555a20a87288)') called at lib/HTTP/Promise/Message.pm line 517
	HTTP::Promise::Message::decode_content('HTTP::Promise::Message=HASH(0x555a20829390)', 'HASH(0x555a20a87288)') called at lib/HTTP/Promise/Message.pm line 530
	HTTP::Promise::Message::decoded_content('HTTP::Promise::Message=HASH(0x555a20829390)') called at t/04.message.t line 551
# $@ is 'Decoding provided "foobar" is unsupported. within package HTTP::Promise::Stream at line 666 in file lib/HTTP/Promise/Stream.pm
# Trace begun at lib/HTTP/Promise/Stream.pm line 666
# 	HTTP::Promise::Stream::init('HTTP::Promise::Stream=HASH(0x555a20813318)', 'HTTP::Promise::Body::Scalar=SCALAR(0x555a2093c880)', 'decoding', 'foobar', 'fatal', 1, 'debug', undef) called at /home/cpan/pit/jail/GqfXRGC7c7/lib/perl5/Module/Generic.pm line 359
# 	Module::Generic::new('HTTP::Promise::Stream', 'HTTP::Promise::Body::Scalar=SCALAR(0x555a2093c880)', 'decoding', 'foobar', 'fatal', 1, 'debug', undef) called at lib/HTTP/Promise/Entity.pm line 705
# 	HTTP::Promise::Entity::decode_body('HTTP::Promise::Entity=HASH(0x555a20a86988)', 'Module::Generic::Array=ARRAY(0x555a207fab60)', 'HASH(0x555a20a94ad0)') called at lib/HTTP/Promise/Message.pm line 517
# 	HTTP::Promise::Message::decode_content('HTTP::Promise::Message=HASH(0x555a20829390)', 'HASH(0x555a20a94ad0)') called at lib/HTTP/Promise/Message.pm line 530
# 	HTTP::Promise::Message::decoded_content('HTTP::Promise::Message=HASH(0x555a20829390)', 'raise_error', 1) called at t/04.message.t line 558
# 	eval {...} at t/04.message.t line 557
# '
HTTP::Promise::Message content must be bytes within package HTTP::Promise::Message at line 1071 in file lib/HTTP/Promise/Message.pm
Trace begun at lib/HTTP/Promise/Message.pm line 1071
	HTTP::Promise::Message::_utf8_downgrade('HTTP::Promise::Message=HASH(0x555a20a947a0)', '☺') called at lib/HTTP/Promise/Message.pm line 114
	HTTP::Promise::Message::init('HTTP::Promise::Message=HASH(0x555a20a947a0)', 'ARRAY(0x555a20813318)', '☺', 'HASH(0x555a20b627d0)') called at /home/cpan/pit/jail/GqfXRGC7c7/lib/perl5/Module/Generic.pm line 359
	Module::Generic::new('HTTP::Promise::Message', 'ARRAY(0x555a20813318)', '☺', 'HASH(0x555a20b627d0)') called at t/04.message.t line 565
HTTP::Promise::Message content must be bytes within package HTTP::Promise::Message at line 1071 in file lib/HTTP/Promise/Message.pm
Trace begun at lib/HTTP/Promise/Message.pm line 1071
	HTTP::Promise::Message::_utf8_downgrade('HTTP::Promise::Message=HASH(0x555a20b684a0)', '☺') called at lib/HTTP/Promise/Message.pm line 166
	HTTP::Promise::Message::add_content('HTTP::Promise::Message=HASH(0x555a20b684a0)', '☺') called at t/04.message.t line 569
HTTP::Promise::Message content must be bytes within package HTTP::Promise::Message at line 1071 in file lib/HTTP/Promise/Message.pm
Trace begun at lib/HTTP/Promise/Message.pm line 1071
	HTTP::Promise::Message::_utf8_downgrade('HTTP::Promise::Message=HASH(0x555a20b684a0)', '☺') called at lib/HTTP/Promise/Message.pm line 402
	HTTP::Promise::Message::content('HTTP::Promise::Message=HASH(0x555a20b684a0)', '☺') called at t/04.message.t line 572
Unable to decode 14 bytes of data into the stream with deflate and input 'SCALAR(0x555a20bc25d8)' and output '/tmp/BEDE4470-01B5-11F0-BC17-97AE8E06C1AF': Header Error: CRC mismatch. within package HTTP::Promise::Stream at line 902 in file lib/HTTP/Promise/Stream.pm
Trace begun at lib/HTTP/Promise/Stream.pm line 902
	HTTP::Promise::Stream::read('HTTP::Promise::Stream=HASH(0x555a20bc25f0)', 'Module::Generic::Scalar=SCALAR(0x555a20bc7320)') called at lib/HTTP/Promise/Entity.pm line 709
	HTTP::Promise::Entity::decode_body('HTTP::Promise::Entity=HASH(0x555a20b9f290)', 'Module::Generic::Array=ARRAY(0x555a20b9af30)', 'HASH(0x555a20ba7138)') called at lib/HTTP/Promise/Message.pm line 517
	HTTP::Promise::Message::decode_content('HTTP::Promise::Message=HASH(0x555a20b9ae10)', 'HASH(0x555a20ba7138)') called at lib/HTTP/Promise/Message.pm line 530
	HTTP::Promise::Message::decoded_content('HTTP::Promise::Message=HASH(0x555a20b9ae10)') called at t/04.message.t line 627
Encoding provided "not-an-encoding" is unsupported. within package HTTP::Promise::Stream at line 662 in file lib/HTTP/Promise/Stream.pm
Trace begun at lib/HTTP/Promise/Stream.pm line 662
	HTTP::Promise::Stream::init('HTTP::Promise::Stream=HASH(0x555a20bcba78)', 'HTTP::Promise::Body::Scalar=SCALAR(0x555a20bc8220)', 'encoding', 'not-an-encoding') called at /home/cpan/pit/jail/GqfXRGC7c7/lib/perl5/Module/Generic.pm line 359
	Module::Generic::new('HTTP::Promise::Stream', 'HTTP::Promise::Body::Scalar=SCALAR(0x555a20bc8220)', 'encoding', 'not-an-encoding') called at lib/HTTP/Promise/Entity.pm line 1056
	HTTP::Promise::Entity::encode_body('HTTP::Promise::Entity=HASH(0x555a20baa890)', 'Module::Generic::Array=ARRAY(0x555a20b7c5f0)') called at lib/HTTP/Promise/Message.pm line 727
	HTTP::Promise::Message::encode(undef, 'not-an-encoding') called at t/04.message.t line 697
Bad header argument: bad-header within package HTTP::Promise::Message at line 81 in file lib/HTTP/Promise/Message.pm
Trace begun at lib/HTTP/Promise/Message.pm line 81
	HTTP::Promise::Message::init('HTTP::Promise::Message=HASH(0x555a20b7c5f0)', 'bad-header') called at /home/cpan/pit/jail/GqfXRGC7c7/lib/perl5/Module/Generic.pm line 359
	Module::Generic::new('HTTP::Promise::Message', 'bad-header') called at t/04.message.t line 718
Decoding provided "foo" is unsupported. within package HTTP::Promise::Stream at line 666 in file lib/HTTP/Promise/Stream.pm
Trace begun at lib/HTTP/Promise/Stream.pm line 666
	HTTP::Promise::Stream::init('HTTP::Promise::Stream=HASH(0x555a20bc4ec8)', 'HTTP::Promise::Body::Scalar=SCALAR(0x555a20bc4e98)', 'decoding', 'foo', 'fatal', 0, 'debug', undef) called at /home/cpan/pit/jail/GqfXRGC7c7/lib/perl5/Module/Generic.pm line 359
	Module::Generic::new('HTTP::Promise::Stream', 'HTTP::Promise::Body::Scalar=SCALAR(0x555a20bc4e98)', 'decoding', 'foo', 'fatal', 0, 'debug', undef) called at lib/HTTP/Promise/Entity.pm line 705
	HTTP::Promise::Entity::decode_body('HTTP::Promise::Entity=HASH(0x555a20bfd140)', 'Module::Generic::Array=ARRAY(0x555a20b9b3b0)') called at lib/HTTP/Promise/Message.pm line 499
	HTTP::Promise::Message::decode('HTTP::Promise::Message=HASH(0x555a20bcbdf0)') called at t/04.message.t line 723
I was expecting a string or a scalar reference, but instead got ARRAY within package HTTP::Promise::Message at line 399 in file lib/HTTP/Promise/Message.pm
Trace begun at lib/HTTP/Promise/Message.pm line 399
	HTTP::Promise::Message::content('HTTP::Promise::Message=HASH(0x555a20bcb448)', 'ARRAY(0x555a20bfc5b8)') called at t/04.message.t line 731
t/04.message.t ............. ok
URI value provided 'HASH(0x55d274c46468)' does not look like an URI, so I do not know what to do with it: Cannot use a reference as an URI. Received 'HASH(0x55d274c46468)' at /home/cpan/pit/jail/GqfXRGC7c7/lib/perl5/Module/Generic.pm line 5364. within package HTTP::Promise::Request at line 379 in file lib/HTTP/Promise/Request.pm
Trace begun at lib/HTTP/Promise/Request.pm line 379
	HTTP::Promise::Request::uri('HTTP::Promise::Request=HASH(0x55d2741646b0)', 'HASH(0x55d274c46468)') called at t/05.request.t line 78
URI value provided 'ARRAY(0x55d274c48d88)' does not look like an URI, so I do not know what to do with it: Cannot use a reference as an URI. Received 'ARRAY(0x55d274c48d88)' at /home/cpan/pit/jail/GqfXRGC7c7/lib/perl5/Module/Generic.pm line 5364. within package HTTP::Promise::Request at line 379 in file lib/HTTP/Promise/Request.pm
Trace begun at lib/HTTP/Promise/Request.pm line 379
	HTTP::Promise::Request::uri('HTTP::Promise::Request=HASH(0x55d2741646b0)', 'ARRAY(0x55d274c48d88)') called at t/05.request.t line 81
Unable to open file "/home/cpan/pit/thr-ld/conf/perl-5.36.1/.cpanplus/5.36.1/build/BCZ0qIqYWZ/HTTP-Promise-v0.5.3/unknown": Unable to open file "/home/cpan/pit/thr-ld/conf/perl-5.36.1/.cpanplus/5.36.1/build/BCZ0qIqYWZ/HTTP-Promise-v0.5.3/unknown" with arguments: '<': Bad file descriptor within package Module::Generic::File::IO at line 54 in file /home/cpan/pit/jail/GqfXRGC7c7/lib/perl5/Module/Generic/File/IO.pm
Trace begun at /home/cpan/pit/jail/GqfXRGC7c7/lib/perl5/Module/Generic/File/IO.pm line 54
	Module::Generic::File::IO::new('Module::Generic::File::IO', '/home/cpan/pit/thr-ld/conf/perl-5.36.1/.cpanplus/5.36.1/build/BCZ0qIqYWZ/HTTP-Promise-v0.5.3/unknown', '<') called at /home/cpan/pit/jail/GqfXRGC7c7/lib/perl5/Module/Generic/File.pm line 2513
	eval {...} at /home/cpan/pit/jail/GqfXRGC7c7/lib/perl5/Module/Generic/File.pm line 2512
	Module::Generic::File::open('Module::Generic::File=HASH(0x55d274c6a588)', '<') called at lib/HTTP/Promise/Parser.pm line 221
	HTTP::Promise::Parser::parse('HTTP::Promise::Parser=HASH(0x55d274c4e410)', 'unknown', 'HASH(0x55d274c481d0)') called at lib/HTTP/Promise/Request.pm line 333
	HTTP::Promise::Request::parse('HTTP::Promise::Request', 'unknown') called at t/05.request.t line 117 within package Module::Generic::File at line 2519 in file /home/cpan/pit/jail/GqfXRGC7c7/lib/perl5/Module/Generic/File.pm
Trace begun at /home/cpan/pit/jail/GqfXRGC7c7/lib/perl5/Module/Generic/File.pm line 2519
	Module::Generic::File::open('Module::Generic::File=HASH(0x55d274c6a588)', '<') called at lib/HTTP/Promise/Parser.pm line 221
	HTTP::Promise::Parser::parse('HTTP::Promise::Parser=HASH(0x55d274c4e410)', 'unknown', 'HASH(0x55d274c481d0)') called at lib/HTTP/Promise/Request.pm line 333
	HTTP::Promise::Request::parse('HTTP::Promise::Request', 'unknown') called at t/05.request.t line 117
Invalid parameters received. I was expecting either an hash reference or at least a method and a valid uri, but instead got: 'get', '/', 'HTTP::Promise::Headers=HASH(0x55d274c6a3f0)', 'HASH(0x55d274c82000)' within package HTTP::Promise::Request at line 91 in file lib/HTTP/Promise/Request.pm
Trace begun at lib/HTTP/Promise/Request.pm line 91
	HTTP::Promise::Request::init('HTTP::Promise::Request=HASH(0x55d274c94858)', 'get', 'URI::_generic=SCALAR(0x55d274c74928)', 'HTTP::Promise::Headers=HASH(0x55d274c6a3f0)', 'HASH(0x55d274c82000)') called at /home/cpan/pit/jail/GqfXRGC7c7/lib/perl5/Module/Generic.pm line 359
	Module::Generic::new('HTTP::Promise::Request', 'get', 'URI::_generic=SCALAR(0x55d274c74928)', 'HTTP::Promise::Headers=HASH(0x55d274c6a3f0)', 'HASH(0x55d274c82000)') called at lib/HTTP/Promise/Parser.pm line 344
	HTTP::Promise::Parser::parse_fh('HTTP::Promise::Parser=HASH(0x55d274c654a0)', 'Module::Generic::Scalar::IO=GLOB(0x55d2737ea188)', 'HASH(0x55d274c28a78)') called at lib/HTTP/Promise/Parser.pm line 223
	HTTP::Promise::Parser::parse('HTTP::Promise::Parser=HASH(0x55d274c654a0)', 'SCALAR(0x55d274c28520)', 'HASH(0x55d274c28a78)') called at lib/HTTP/Promise/Request.pm line 333
	HTTP::Promise::Request::parse('HTTP::Promise::Request', 'SCALAR(0x55d274c28520)', 'debug', 0) called at t/05.request.t line 119
t/05.request.t ............. ok
Only supported charset is 'utf-8'. within package HTTP::Promise::Headers::ContentDisposition at line 132 in file lib/HTTP/Promise/Headers/ContentDisposition.pm
Trace begun at lib/HTTP/Promise/Headers/ContentDisposition.pm line 132
	HTTP::Promise::Headers::ContentDisposition::filename_charset('HTTP::Promise::Headers::ContentDisposition=HASH(0x559718ec32c0)', 'US-ASCII') called at lib/HTTP/Promise/Headers/ContentDisposition.pm line 108
	HTTP::Promise::Headers::ContentDisposition::filename('HTTP::Promise::Headers::ContentDisposition=HASH(0x559718ec32c0)') called at lib/HTTP/Promise/Response.pm line 179
	HTTP::Promise::Response::filename('HTTP::Promise::Response=HASH(0x559718debec8)') called at t/06.response.t line 230
Error encoding content disposition file name from 'NOT-A-CHARSET' to 'locale_fs': Unknown encoding 'NOT-A-CHARSET' at lib/HTTP/Promise/Headers.pm line 515.
 at lib/HTTP/Promise/Headers/Generic.pm line 56.
Only supported charset is 'utf-8'. within package HTTP::Promise::Headers::ContentDisposition at line 132 in file lib/HTTP/Promise/Headers/ContentDisposition.pm
Trace begun at lib/HTTP/Promise/Headers/ContentDisposition.pm line 132
	HTTP::Promise::Headers::ContentDisposition::filename_charset('HTTP::Promise::Headers::ContentDisposition=HASH(0x559718e4b310)', 'NOT-A-CHARSET') called at lib/HTTP/Promise/Headers/ContentDisposition.pm line 108
	HTTP::Promise::Headers::ContentDisposition::filename('HTTP::Promise::Headers::ContentDisposition=HASH(0x559718e4b310)') called at lib/HTTP/Promise/Response.pm line 179
	HTTP::Promise::Response::filename('HTTP::Promise::Response=HASH(0x559718debec8)') called at t/06.response.t line 232
Only supported charset is 'utf-8'. within package HTTP::Promise::Headers::ContentDisposition at line 132 in file lib/HTTP/Promise/Headers/ContentDisposition.pm
Trace begun at lib/HTTP/Promise/Headers/ContentDisposition.pm line 132
	HTTP::Promise::Headers::ContentDisposition::filename_charset('HTTP::Promise::Headers::ContentDisposition=HASH(0x559718e4eed0)', 'US-ASCII') called at lib/HTTP/Promise/Headers/ContentDisposition.pm line 108
	HTTP::Promise::Headers::ContentDisposition::filename('HTTP::Promise::Headers::ContentDisposition=HASH(0x559718e4eed0)') called at lib/HTTP/Promise/Response.pm line 179
	HTTP::Promise::Response::filename('HTTP::Promise::Response=HASH(0x559718debec8)') called at t/06.response.t line 234
Only supported charset is 'utf-8'. within package HTTP::Promise::Headers::ContentDisposition at line 132 in file lib/HTTP/Promise/Headers/ContentDisposition.pm
Trace begun at lib/HTTP/Promise/Headers/ContentDisposition.pm line 132
	HTTP::Promise::Headers::ContentDisposition::filename_charset('HTTP::Promise::Headers::ContentDisposition=HASH(0x559718e4eae0)', 'US-ASCII') called at lib/HTTP/Promise/Headers/ContentDisposition.pm line 108
	HTTP::Promise::Headers::ContentDisposition::filename('HTTP::Promise::Headers::ContentDisposition=HASH(0x559718e4eae0)') called at lib/HTTP/Promise/Response.pm line 179
	HTTP::Promise::Response::filename('HTTP::Promise::Response=HASH(0x559718debec8)') called at t/06.response.t line 236
t/06.response.t ............ ok
Unknown encoding provided "unknown". within package HTTP::Promise::Stream at line 835 in file lib/HTTP/Promise/Stream.pm
Trace begun at lib/HTTP/Promise/Stream.pm line 835
	HTTP::Promise::Stream::encoding2suffix('HTTP::Promise::Stream=HASH(0x561bd3c6ae38)', 'Module::Generic::Array=ARRAY(0x561bd4820900)') called at t/07.stream-suffix.t line 71
	main::__ANON__ at /home/cpan/pit/jail/GqfXRGC7c7/lib/perl5/Test2/API.pm line 718
	eval {...} at /home/cpan/pit/jail/GqfXRGC7c7/lib/perl5/Test2/API.pm line 718
	Test2::API::run_subtest('suffix', 'CODE(0x561bd303e5b8)', 'HASH(0x561bd3010388)') called at /home/cpan/pit/jail/GqfXRGC7c7/lib/perl5/Test2/Tools/Subtest.pm line 34
	Test2::Tools::Subtest::subtest_buffered('suffix', 'CODE(0x561bd303e5b8)') called at t/07.stream-suffix.t line 81
t/07.stream-suffix.t ....... ok
t/07.stream.t .............. ok
t/07.stream_b64.t .......... ok
t/07.stream_quotedprint.t .. ok
t/07.stream_uu.t ........... ok
t/08.status.t .............. ok
t/09.mime.t ................ ok
t/10.entity_body.t ......... ok
t/11.entity_part.t ......... ok
t/12.entity_parser.t ....... ok
t/12.parser.t .............. ok
t/13.header_fields.t ....... ok
t/14.reader.t .............. ok
t/15.body_form.t ........... ok
t/16.form-data.t ........... ok
t/17.serialisation.t ....... ok
t/90.coverage.t ............ skipped: These tests are for author or release candidate testing
t/91.pod.t ................. skipped: These tests are for author or release candidate testing
t/92.manifest.t ............ skipped: Author tests not required for installation
t/93.signature.t ........... skipped: Set the environment variable AUTHOR_TESTING to enable this test.
t/99.kwalitee.t ............ skipped: These tests are for author or release candidate testing
All tests successful.
Files=27, Tests=1019, 32 wallclock secs ( 0.21 usr  0.04 sys + 29.26 cusr  1.76 csys = 31.27 CPU)
Result: PASS


PREREQUISITES:

Here is a list of prerequisites you specified and versions we
managed to load:

	  Module Name                        Have     Want
	  Cookie                           v0.3.5   v0.3.5
	  CryptX                            0.085    0.078
	  Cwd                                3.84        0
	  Data::UUID                        1.227    1.226
	  DateTime                           1.66     1.59
	  DateTime::Format::Strptime         1.79     1.79
	  DateTime::TimeZone                 2.64     2.60
	  Encode                             3.21     3.19
	  ExtUtils::MakeMaker                7.70        0
	  Fcntl                              1.15        0
	  File::MMagic                       1.30     1.30
	  HTTP::Parser2::XS                  0.01     0.01
	  HTTP::XSHeaders                0.400005 0.400005
	  IO::File                           1.48        0
	  JSON                               4.10     4.10
	  JSON::XS                           4.03     4.03
	  Module::Generic                 v0.38.0  v0.37.5
	  Promise::Me                      v0.5.0   v0.5.0
	  Regexp::Common                 2024080801 2017060201
	  Scalar::Util                       1.68     1.63
	  Socket                            2.038    2.037
	  Symbol                             1.09        0
	  Test2::IPC                     1.302209 1.302190
	  Test2::V0                      1.302209 0.000145
	  Test::More                     1.302209 1.302162
	  Test::Pod                          1.52     1.52
	  Time::HiRes                      1.9770   1.9764
	  URI                                5.31     5.21
	  URI::Encode::XS                    0.11     0.11
	  URI::Escape::XS                    0.14     0.14
	  URL::Encode::XS                    0.03     0.03
	  Want                               0.29     0.29
	  constant                           1.33        0
	  lib                                0.65        0
	  parent                            0.238        0
	  strict                             1.12        0
	  utf8                               1.24        0
	  warnings                           1.58        0

Perl module toolchain versions installed:
	Module Name                        Have
	CPANPLUS                         0.9914
	CPANPLUS::Dist::Build              0.90
	Cwd                                3.84
	ExtUtils::CBuilder             0.280236
	ExtUtils::Command                  7.70
	ExtUtils::Install                  2.22
	ExtUtils::MakeMaker                7.70
	ExtUtils::Manifest                 1.75
	ExtUtils::ParseXS                  3.51
	File::Spec                         3.84
	Module::Build                    0.4234
	Pod::Parser                           0
	Pod::Simple                        3.43
	Test2                          1.302209
	Test::Harness                      3.48
	Test::More                     1.302209
	version                          0.9932

******************************** NOTE ********************************
The comments above are created mechanically, possibly without manual
checking by the sender.  As there are many people performing automatic
tests on each upload to CPAN, it is likely that you will receive
identical messages about the same problem.

If you believe that the message is mistaken, please reply to the first
one with correction and/or additional informations, and do not take
it personally.  We appreciate your patience. :)
**********************************************************************

Additional comments:


This report was machine-generated by CPANPLUS::Dist::YACSmoke 1.08.
Powered by minismokebox version 0.68

CPANPLUS is prefering Build.PL

------------------------------
ENVIRONMENT AND OTHER CONTEXT
------------------------------

Environment variables:

    AUTOMATED_TESTING = 1
    LANG = en_GB.UTF-8
    LANGUAGE = en_GB:en
    NONINTERACTIVE_TESTING = 1
    PATH = /usr/local/sbin:/usr/local/bin:/usr/sbin:/usr/bin:/sbin:/bin:/usr/games:/usr/local/games:/snap/bin
    PERL5LIB = /home/cpan/pit/jail/GqfXRGC7c7/lib/perl5:/home/cpan/pit/thr-ld/conf/perl-5.36.1/.cpanplus/5.36.1/build/BCZ0qIqYWZ/HTTP-Promise-v0.5.3/blib/lib:/home/cpan/pit/thr-ld/conf/perl-5.36.1/.cpanplus/5.36.1/build/BCZ0qIqYWZ/HTTP-Promise-v0.5.3/blib/arch
    PERL5_CPANPLUS_IS_RUNNING = 3926944
    PERL5_CPANPLUS_IS_VERSION = 0.9914
    PERL5_MINISMOKEBOX = 0.68
    PERL5_YACSMOKE_BASE = /home/cpan/pit/thr-ld/conf/perl-5.36.1
    PERL_EXTUTILS_AUTOINSTALL = --defaultdeps
    PERL_LOCAL_LIB_ROOT = /home/cpan/pit/jail/GqfXRGC7c7
    PERL_MB_OPT = --install_base "/home/cpan/pit/jail/GqfXRGC7c7"
    PERL_MM_OPT = INSTALL_BASE=/home/cpan/pit/jail/GqfXRGC7c7
    PERL_MM_USE_DEFAULT = 1
    SHELL = /bin/bash
    TERM = screen.xterm-256color

Perl special variables (and OS-specific diagnostics, for MSWin32):

    Perl: $^X = /home/cpan/pit/thr-ld/perl-5.36.1/bin/perl
    UID:  $<  = 1001
    EUID: $>  = 1001
    GID:  $(  = 1001 1001
    EGID: $)  = 1001 1001


-------------------------------


--

Summary of my perl5 (revision 5 version 36 subversion 1) configuration:
   
  Platform:
    osname=linux
    osvers=5.4.0-126-generic
    archname=x86_64-linux-thread-multi-ld
    uname='linux uchder 5.4.0-126-generic #142-ubuntu smp fri aug 26 12:12:57 utc 2022 x86_64 x86_64 x86_64 gnulinux '
    config_args='-des -Dprefix=/home/cpan/pit/thr-ld/perl-5.36.1 -Dusethreads -Duselongdouble'
    hint=recommended
    useposix=true
    d_sigaction=define
    useithreads=define
    usemultiplicity=define
    use64bitint=define
    use64bitall=define
    uselongdouble=define
    usemymalloc=n
    default_inc_excludes_dot=define
  Compiler:
    cc='cc'
    ccflags ='-D_REENTRANT -D_GNU_SOURCE -fwrapv -fno-strict-aliasing -pipe -fstack-protector-strong -I/usr/local/include -D_LARGEFILE_SOURCE -D_FILE_OFFSET_BITS=64'
    optimize='-O2'
    cppflags='-D_REENTRANT -D_GNU_SOURCE -fwrapv -fno-strict-aliasing -pipe -fstack-protector-strong -I/usr/local/include'
    ccversion=''
    gccversion='9.4.0'
    gccosandvers=''
    intsize=4
    longsize=8
    ptrsize=8
    doublesize=8
    byteorder=12345678
    doublekind=3
    d_longlong=define
    longlongsize=8
    d_longdbl=define
    longdblsize=16
    longdblkind=3
    ivtype='long'
    ivsize=8
    nvtype='long double'
    nvsize=16
    Off_t='off_t'
    lseeksize=8
    alignbytes=16
    prototype=define
  Linker and Libraries:
    ld='cc'
    ldflags =' -fstack-protector-strong -L/usr/local/lib'
    libpth=/usr/local/lib /usr/lib/x86_64-linux-gnu /usr/lib /lib/x86_64-linux-gnu /lib
    libs=-lpthread -lnsl -lgdbm -ldl -lm -lcrypt -lutil -lc
    perllibs=-lpthread -lnsl -ldl -lm -lcrypt -lutil -lc
    libc=libc-2.31.so
    so=so
    useshrplib=false
    libperl=libperl.a
    gnulibc_version='2.31'
  Dynamic Linking:
    dlsrc=dl_dlopen.xs
    dlext=so
    d_dlsymun=undef
    ccdlflags='-Wl,-E'
    cccdlflags='-fPIC'
    lddlflags='-shared -O2 -L/usr/local/lib -fstack-protector-strong'


Characteristics of this binary (from libperl): 
  Compile-time options:
    HAS_TIMES
    MULTIPLICITY
    PERLIO_LAYERS
    PERL_COPY_ON_WRITE
    PERL_DONT_CREATE_GVSV
    PERL_MALLOC_WRAP
    PERL_OP_PARENT
    PERL_PRESERVE_IVUV
    USE_64_BIT_ALL
    USE_64_BIT_INT
    USE_ITHREADS
    USE_LARGE_FILES
    USE_LOCALE
    USE_LOCALE_COLLATE
    USE_LOCALE_CTYPE
    USE_LOCALE_NUMERIC
    USE_LOCALE_TIME
    USE_LONG_DOUBLE
    USE_PERLIO
    USE_PERL_ATOF
    USE_REENTRANT_API
    USE_THREAD_SAFE_LOCALE
  Built under linux
  Compiled at Apr 26 2023 15:10:35
  %ENV:
    PERL5LIB="/home/cpan/pit/jail/GqfXRGC7c7/lib/perl5:/home/cpan/pit/thr-ld/conf/perl-5.36.1/.cpanplus/5.36.1/build/BCZ0qIqYWZ/HTTP-Promise-v0.5.3/blib/lib:/home/cpan/pit/thr-ld/conf/perl-5.36.1/.cpanplus/5.36.1/build/BCZ0qIqYWZ/HTTP-Promise-v0.5.3/blib/arch"
    PERL5_CPANPLUS_IS_RUNNING="3926944"
    PERL5_CPANPLUS_IS_VERSION="0.9914"
    PERL5_MINISMOKEBOX="0.68"
    PERL5_YACSMOKE_BASE="/home/cpan/pit/thr-ld/conf/perl-5.36.1"
    PERL_EXTUTILS_AUTOINSTALL="--defaultdeps"
    PERL_LOCAL_LIB_ROOT="/home/cpan/pit/jail/GqfXRGC7c7"
    PERL_MB_OPT="--install_base "/home/cpan/pit/jail/GqfXRGC7c7""
    PERL_MM_OPT="INSTALL_BASE=/home/cpan/pit/jail/GqfXRGC7c7"
    PERL_MM_USE_DEFAULT="1"
  @INC:
    /home/cpan/pit/jail/GqfXRGC7c7/lib/perl5/5.36.1/x86_64-linux-thread-multi-ld
    /home/cpan/pit/jail/GqfXRGC7c7/lib/perl5/5.36.1
    /home/cpan/pit/jail/GqfXRGC7c7/lib/perl5/x86_64-linux-thread-multi-ld
    /home/cpan/pit/jail/GqfXRGC7c7/lib/perl5
    /home/cpan/pit/thr-ld/conf/perl-5.36.1/.cpanplus/5.36.1/build/BCZ0qIqYWZ/HTTP-Promise-v0.5.3/blib/lib
    /home/cpan/pit/thr-ld/conf/perl-5.36.1/.cpanplus/5.36.1/build/BCZ0qIqYWZ/HTTP-Promise-v0.5.3/blib/arch
    /home/cpan/pit/thr-ld/perl-5.36.1/lib/site_perl/5.36.1/x86_64-linux-thread-multi-ld
    /home/cpan/pit/thr-ld/perl-5.36.1/lib/site_perl/5.36.1
    /home/cpan/pit/thr-ld/perl-5.36.1/lib/5.36.1/x86_64-linux-thread-multi-ld
    /home/cpan/pit/thr-ld/perl-5.36.1/lib/5.36.1