Report for DBIx-Class-Graph-1.05

Back
From: metabase:user:320bfe00-2aae-11df-837a-5e0a49663a4f
Subject: PASS DBIx-Class-Graph-1.05 v5.18.4 GNU/Linux
Date: 2016-05-26T15:30:37Z

This distribution has been tested as part of the CPAN Testers
project, supporting the Perl programming language.  See
http://wiki.cpantesters.org/ for more information or email
questions to cpan-testers-discuss@perl.org


--
Dear Moritz Onken,

This is a computer-generated report for DBIx-Class-Graph-1.05
on perl 5.18.4, created by CPAN-Reporter-1.2017.

Thank you for uploading your work to CPAN.  Congratulations!
All tests were successful.

Sections of this report:

    * Tester comments
    * Program output
    * Prerequisites
    * Environment and other context

------------------------------
TESTER COMMENTS
------------------------------

Additional comments from tester:

this report is from an automated smoke testing program
and was not reviewed by a human for accuracy

------------------------------
PROGRAM OUTPUT
------------------------------

Output from './Build test':

t/00-compile.t ................ ok
# 
# 
# perl: v5.18.4 (wanted any version) on linux from /tmp/basesmoker-reloperl-rlv3/bin/perl
# 
# Class::C3                                     => 0.31       (want any version)
# DBIx::Class                                   => 0.082821   (want any version)
# DBIx::Class::ResultSet                        => <undef>    (want any version)
# DBIx::Class::Schema                           => <undef>    (want any version)
# File::Find                                    => 1.23       (want any version)
# File::Temp                                    => 0.2304     (want any version)
# Graph                                         => 0.9704     (want 0.94)   
# List::MoreUtils                               => 0.415      (want any version)
# Module::Build                                 => 0.4218     (want 0.3601) 
# Moose                                         => 2.1802     (want any version)
# Moose::Role                                   => 2.1802     (want any version)
# Scalar::Util                                  => 1.45       (want any version)
# Test::Memory::Cycle                           => 1.06       (want any version)
# Test::More                                    => 1.302019   (want 0.88)   
# base                                          => 2.23       (want any version)
# strict                                        => 1.07       (want any version)
# warnings                                      => 1.18       (want any version)
# 
# Thanks for using my code.  I hope it works for you.
# If not, please try and include this output in the bug report.
# That will help me reproduce the issue and solve you problem.
# 
t/000-report-versions-tiny.t .. ok
t/complex.t ................... ok
t/leak.t ...................... ok
t/release-has-version.t ....... skipped: these tests are for release candidate testing
t/release-kwalitee.t .......... skipped: these tests are for release candidate testing
t/release-minimum-version.t ... skipped: these tests are for release candidate testing
t/release-pod-coverage.t ...... skipped: these tests are for release candidate testing
t/release-pod-syntax.t ........ skipped: these tests are for release candidate testing
t/result.t .................... ok
t/resultset.t ................. ok
t/simple01.t .................. ok
t/simple02.t .................. ok
t/simplesucc.t ................ ok
t/wrapper.t ................... ok
All tests successful.
Files=15, Tests=69,  6 wallclock secs ( 0.04 usr  0.08 sys +  4.78 cusr  0.67 csys =  5.57 CPU)
Result: PASS

------------------------------
PREREQUISITES
------------------------------

Prerequisite modules loaded:

requires:

    Module                 Need   Have    
    ---------------------- ------ --------
    base                   0      2.23    
    Class::C3              0      0.31    
    DBIx::Class            0      0.082821
    DBIx::Class::ResultSet 0      0       
    Graph                  0.94   0.9704  
    List::MoreUtils        0      0.415   
    Moose                  0      2.1802  
    Moose::Role            0      2.1802  
    Scalar::Util           0      1.45    
    strict                 0      1.07    
    warnings               0      1.18    

build_requires:

    Module                 Need   Have    
    ---------------------- ------ --------
    DBIx::Class::Schema    0      0       
    File::Find             0      1.23    
    File::Temp             0      0.2304  
    Module::Build          0.3601 0.4218  
    Test::Memory::Cycle    0      1.06    
    Test::More             0.88   1.302019

configure_requires:

    Module                 Need   Have    
    ---------------------- ------ --------
    Module::Build          0.3601 0.4218  


------------------------------
ENVIRONMENT AND OTHER CONTEXT
------------------------------

Environment variables:

    AUTOMATED_TESTING = 1
    LANG = C
    PATH = /usr/lib/ccache:/home/sand/bin:/usr/local/bin:/usr/lib/ccache:/usr/bin:/bin:/usr/games:/usr/local/perl/bin:/usr/X11/bin:/sbin:/usr/sbin
    PERL = /tmp/basesmoker-reloperl-rlv3/bin/perl
    PERL5LIB = 
    PERL5OPT = 
    PERL5_CPANPLUS_IS_RUNNING = 6319
    PERL5_CPAN_IS_RUNNING = 6319
    PERL_CANARY_STABILITY_NOPROMPT = 1
    PERL_MM_USE_DEFAULT = 1
    SHELL = /usr/bin/zsh
    TERM = screen

Perl special variables (and OS-specific diagnostics, for MSWin32):

    $^X = /tmp/basesmoker-reloperl-rlv3/bin/perl
    $UID/$EUID = 1005 / 1005
    $GID = 1005 1005
    $EGID = 1005 1005

Perl module toolchain versions installed:

    Module              Have    
    ------------------- --------
    CPAN                2.13    
    CPAN::Meta          2.150005
    Cwd                 3.62    
    ExtUtils::CBuilder  0.280224
    ExtUtils::Command   7.18    
    ExtUtils::Install   1.59    
    ExtUtils::MakeMaker 7.18    
    ExtUtils::Manifest  1.70    
    ExtUtils::ParseXS   3.30    
    File::Spec          3.62    
    JSON                2.90    
    JSON::PP            2.27400 
    Module::Build       0.4218  
    Module::Signature   0.79    
    Parse::CPAN::Meta   1.4417  
    Test::Harness       3.36    
    Test::More          1.302019
    YAML                1.15    
    YAML::Syck          1.29    
    version             0.9916  


--

Summary of my perl5 (revision 5 version 18 subversion 4) configuration:
  Derived from: 51202371ba68f3f52f13124a3ea1bc3c171e0ee2
  Platform:
    osname=linux, osvers=4.5.0-2-amd64, archname=x86_64-linux-ld
    uname='linux k93x64sid 4.5.0-2-amd64 #1 smp debian 4.5.4-1 (2016-05-16) x86_64 gnulinux '
    config_args='-Dprefix=/home/sand/src/perl/repoperls/installed-perls/host/k93x64sid/v5.18.4/3bd2f -Dmyhostname=k93x64sid -Dinstallusrbinperl=n -Uversiononly -Dusedevel -des -Ui_db -Dlibswanted=cl pthread socket inet nsl gdbm dbm malloc dl ld sun m crypt sec util c cposix posix ucb BSD gdbm_compat -Uuseithreads -Duselongdouble -DDEBUGGING=-g'
    hint=recommended, useposix=true, d_sigaction=define
    useithreads=undef, usemultiplicity=undef
    useperlio=define, d_sfio=undef, uselargefiles=define, usesocks=undef
    use64bitint=define, use64bitall=define, uselongdouble=define
    usemymalloc=n, bincompat5005=undef
  Compiler:
    cc='cc', ccflags ='-fno-strict-aliasing -pipe -fstack-protector -I/usr/local/include -D_LARGEFILE_SOURCE -D_FILE_OFFSET_BITS=64',
    optimize='-O2 -g',
    cppflags='-fno-strict-aliasing -pipe -fstack-protector -I/usr/local/include'
    ccversion='', gccversion='5.3.1 20160519', gccosandvers=''
    intsize=4, longsize=8, ptrsize=8, doublesize=8, byteorder=12345678
    d_longlong=define, longlongsize=8, d_longdbl=define, longdblsize=16
    ivtype='long', ivsize=8, nvtype='long double', nvsize=16, Off_t='off_t', lseeksize=8
    alignbytes=16, prototype=define
  Linker and Libraries:
    ld='cc', ldflags =' -fstack-protector -L/usr/local/lib'
    libpth=/usr/local/lib /lib/x86_64-linux-gnu /lib/../lib /usr/lib/x86_64-linux-gnu /usr/lib/../lib /lib /usr/lib
    libs=-lpthread -lnsl -ldl -lm -lcrypt -lutil -lc
    perllibs=-lpthread -lnsl -ldl -lm -lcrypt -lutil -lc
    libc=libc-2.22.so, so=so, useshrplib=false, libperl=libperl.a
    gnulibc_version='2.22'
  Dynamic Linking:
    dlsrc=dl_dlopen.xs, dlext=so, d_dlsymun=undef, ccdlflags='-Wl,-E'
    cccdlflags='-fPIC', lddlflags='-shared -O2 -g -L/usr/local/lib -fstack-protector'


Characteristics of this binary (from libperl): 
  Compile-time options: HAS_TIMES PERLIO_LAYERS PERL_DONT_CREATE_GVSV
                        PERL_HASH_FUNC_ONE_AT_A_TIME_HARD PERL_MALLOC_WRAP
                        PERL_PRESERVE_IVUV PERL_SAWAMPERSAND PERL_USE_DEVEL
                        USE_64_BIT_ALL USE_64_BIT_INT USE_LARGE_FILES
                        USE_LOCALE USE_LOCALE_COLLATE USE_LOCALE_CTYPE
                        USE_LOCALE_NUMERIC USE_LONG_DOUBLE USE_PERLIO
                        USE_PERL_ATOF
  Locally applied patches:
	uncommitted-changes
  Built under linux
  Compiled at Jan  1 1970 00:00:00
  %ENV:
    PERL="/tmp/basesmoker-reloperl-rlv3/bin/perl"
    PERL5LIB=""
    PERL5OPT=""
    PERL5_CPANPLUS_IS_RUNNING="6319"
    PERL5_CPAN_IS_RUNNING="6319"
    PERL_CANARY_STABILITY_NOPROMPT="1"
    PERL_MM_USE_DEFAULT="1"
  @INC:
    /home/sand/src/perl/repoperls/installed-perls/host/k93x64sid/v5.18.4/3bd2f/lib/site_perl/5.18.4/x86_64-linux-ld
    /home/sand/src/perl/repoperls/installed-perls/host/k93x64sid/v5.18.4/3bd2f/lib/site_perl/5.18.4
    /home/sand/src/perl/repoperls/installed-perls/host/k93x64sid/v5.18.4/3bd2f/lib/5.18.4/x86_64-linux-ld
    /home/sand/src/perl/repoperls/installed-perls/host/k93x64sid/v5.18.4/3bd2f/lib/5.18.4
    .