Object-InsideOut v4.05 Perl 5 v5.34.1 i686-linux-thread-multi-64int-ld

Status
Pass
From
D Ruth Holloway
Dist
Object-InsideOut v4.05
Platform
Perl 5 v5.34.1 i686-linux-thread-multi-64int-ld
Date
2022-04-12 01:13:44
ID
cc30eb6c-b9fd-11ec-b33f-d0d6df26dd9c
This distribution has been tested as part of the CPAN Testers
project, supporting the Perl programming language.  See
http://wiki.cpantesters.org/ for more information or email
questions to cpan-testers-discuss@perl.org


--
Dear Jerry D. Hedden,

This is a computer-generated report for Object-InsideOut-4.05
on perl 5.34.1, created by CPAN-Reporter-1.2018.

Thank you for uploading your work to CPAN.  Congratulations!
All tests were successful.

Sections of this report:

    * Tester comments
    * Program output
    * Prerequisites
    * Environment and other context

------------------------------
TESTER COMMENTS
------------------------------

Additional comments from tester:

this report is from an automated smoke testing program
and was not reviewed by a human for accuracy

------------------------------
PROGRAM OUTPUT
------------------------------

Output from './Build test':

# Testing Object::InsideOut 4.05
t/00-load.t ................. ok
t/01-basic.t ................ ok
t/01a-basic.t ............... ok
t/02-auto.t ................. ok
t/03-threads.t .............. ok
t/03a-threads.t ............. ok
t/04-shared.t ............... ok
t/04a-shared.t .............. ok
t/05-require.t .............. ok
t/05a-require.t ............. ok
t/06-id.t ................... ok
t/07-dump.t ................. ok
t/07a-dump.t ................ ok
t/08-access.t ............... ok
t/09-chained.t .............. ok
t/09a-chained.t ............. ok
t/09b-chained.t ............. ok
t/10-cumulative.t ........... ok
t/10a-cumulative.t .......... ok
t/10b-cumulative.t .......... ok
t/11-coercion.t ............. ok
t/12-super.t ................ ok
t/13-pump.t ................. ok
t/14-auto_cc.t .............. ok
t/15-type.t ................. ok
t/15a-type.t ................ ok
t/16-return.t ............... ok
t/17-dynamic.t .............. ok
t/18-inherit.t .............. ok
t/18a-inherit.t ............. ok
t/19-storable.t ............. ok
t/20-clone.t ................ ok
t/21-import.t ............... ok
t/22-import.t ............... ok
t/23-weak.t ................. ok
t/24-preproc.t .............. ok
t/25-access.t ............... ok
t/26-preinit.t .............. ok
t/27-exception.t ............ ok
t/28-lvalue.t ............... skipped: Needs Want v0.12 or later
t/29-non_lvalue.t ........... skipped: Needs Want v0.12 or later
t/30-all.t .................. ok
t/31-attr.t ................. ok
t/32-meta.t ................. ok
t/33-hash_only.t ............ ok
t/34-secure.t ............... skipped: Math::Random::MT::Auto not available
t/34a-secure.t .............. skipped: Math::Random::MT::Auto not available
t/35-add_class.t ............ ok
t/36-require.t .............. ok
t/37-class_perm.t ........... ok
t/38-combined.t ............. ok
t/39-fork.t ................. skipped: Not using pseudo-forks
t/40-normalize.t ............ ok
t/41-def.t .................. ok
t/42-sh_obj.t ............... ok
t/43-overload.t ............. ok
t/44-data.t ................. ok
t/45-unused.t ............... ok
t/46-singleton.t ............ ok
t/46a-singleton.t ........... ok
t/47-sh_reuse.t ............. ok
t/48-not_shared.t ........... ok
t/49-delegators.t ........... ok
t/49a-delegators-non-OIO.t .. ok
t/50-active_defs.t .......... ok
t/51-readonly.t ............. ok
t/99-pod.t .................. skipped: Module maintainer tests
All tests successful.
Files=67, Tests=921, 10 wallclock secs ( 0.28 usr  0.09 sys +  9.47 cusr  0.94 csys = 10.78 CPU)
Result: PASS

------------------------------
PREREQUISITES
------------------------------

Prerequisite modules loaded:

requires:

    Module                 Need   Have    
    ---------------------- ------ --------
    attributes             0      0.33    
    B                      0      1.82    
    Config                 0      5.034001
    Data::Dumper           0      2.179   
    Exception::Class       1.22   1.45    
    overload               0      1.33    
    perl                   v5.6.0 5.034001
    Scalar::Util           1.55   1.55    
    strict                 0      1.12    
    warnings               0      1.51    

build_requires:

    Module                 Need   Have    
    ---------------------- ------ --------
    Test::More             0.5    1.302190

configure_requires:

    Module                 Need   Have    
    ---------------------- ------ --------
    ExtUtils::MakeMaker    0      7.62    

opt_requires:

    Module                 Need   Have    
    ---------------------- ------ --------
  ! Math::Random::MT::Auto 5.04   n/a     
    Storable               2.15   3.23    
    Test::Pod              1.26   1.52    
    Test::Pod::Coverage    1.08   1.10    
    threads                1.43   2.26    
    threads::shared        1.03   1.62    
  ! Want                   0.12   n/a     


------------------------------
ENVIRONMENT AND OTHER CONTEXT
------------------------------

Environment variables:

    AUTOMATED_TESTING = 1
    LANG = en_US.UTF-8
    PATH = /usr/bin:/bin
    PERL5LIB = 
    PERL5OPT = 
    PERL5_CPANPLUS_IS_RUNNING = 9736
    PERL5_CPAN_IS_RUNNING = 9736
    PERL5_CPAN_IS_RUNNING_IN_RECURSION = 14801,9736
    PERL5_MINISMOKEBOX = 0.68
    PERL_EXTUTILS_AUTOINSTALL = --defaultdeps
    PERL_MM_USE_DEFAULT = 1
    PERL_USE_UNSAFE_INC = 1
    SHELL = /bin/sh

Perl special variables (and OS-specific diagnostics, for MSWin32):

    $^X = /home/cpantester/perl5/perlbrew/perls/perl-5.34.1-thread-multi-ld-64int/bin/perl
    $UID/$EUID = 1001 / 1001
    $GID = 1001 1001
    $EGID = 1001 1001

Perl module toolchain versions installed:

    Module              Have    
    ------------------- --------
    CPAN                2.33    
    CPAN::Meta          2.150010
    Cwd                 3.80    
    ExtUtils::CBuilder  0.280236
    ExtUtils::Command   7.62    
    ExtUtils::Install   2.20    
    ExtUtils::MakeMaker 7.62    
    ExtUtils::Manifest  1.73    
    ExtUtils::ParseXS   3.43    
    File::Spec          3.80    
    JSON                n/a     
    JSON::PP            4.06    
    Module::Build       0.4231  
    Module::Signature   n/a     
    Parse::CPAN::Meta   2.150010
    Test::Harness       3.43    
    Test::More          1.302190
    YAML                1.30    
    YAML::Syck          n/a     
    version             0.9928  


--

Summary of my perl5 (revision 5 version 34 subversion 1) configuration:
   
  Platform:
    osname=linux
    osvers=5.10.0-13-686-pae
    archname=i686-linux-thread-multi-64int-ld
    uname='linux test-i86 5.10.0-13-686-pae #1 smp debian 5.10.106-1 (2022-03-17) i686 gnulinux '
    config_args='-de -Dprefix=/home/cpantester/perl5/perlbrew/perls/perl-5.34.1-thread-multi-ld-64int -Dman1dir=none -Dman3dir=none -Dusethreads -Duselongdouble -Dusemultiplicity -Duse64bitint -Aeval:scriptdir=/home/cpantester/perl5/perlbrew/perls/perl-5.34.1-thread-multi-ld-64int/bin'
    hint=recommended
    useposix=true
    d_sigaction=define
    useithreads=define
    usemultiplicity=define
    use64bitint=define
    use64bitall=undef
    uselongdouble=define
    usemymalloc=n
    default_inc_excludes_dot=define
  Compiler:
    cc='cc'
    ccflags ='-D_REENTRANT -D_GNU_SOURCE -fwrapv -fno-strict-aliasing -pipe -fstack-protector-strong -I/usr/local/include -D_LARGEFILE_SOURCE -D_FILE_OFFSET_BITS=64 -D_FORTIFY_SOURCE=2'
    optimize='-O2'
    cppflags='-D_REENTRANT -D_GNU_SOURCE -fwrapv -fno-strict-aliasing -pipe -fstack-protector-strong -I/usr/local/include'
    ccversion=''
    gccversion='10.2.1 20210110'
    gccosandvers=''
    intsize=4
    longsize=4
    ptrsize=4
    doublesize=8
    byteorder=12345678
    doublekind=3
    d_longlong=define
    longlongsize=8
    d_longdbl=define
    longdblsize=12
    longdblkind=3
    ivtype='long long'
    ivsize=8
    nvtype='long double'
    nvsize=12
    Off_t='off_t'
    lseeksize=8
    alignbytes=4
    prototype=define
  Linker and Libraries:
    ld='cc'
    ldflags =' -fstack-protector-strong -L/usr/local/lib'
    libpth=/usr/local/lib /usr/lib/i386-linux-gnu /usr/lib /usr/lib64
    libs=-lpthread -lnsl -ldl -lm -lcrypt -lutil -lc
    perllibs=-lpthread -lnsl -ldl -lm -lcrypt -lutil -lc
    libc=libc-2.31.so
    so=so
    useshrplib=false
    libperl=libperl.a
    gnulibc_version='2.31'
  Dynamic Linking:
    dlsrc=dl_dlopen.xs
    dlext=so
    d_dlsymun=undef
    ccdlflags='-Wl,-E'
    cccdlflags='-fPIC'
    lddlflags='-shared -O2 -L/usr/local/lib -fstack-protector-strong'


Characteristics of this binary (from libperl): 
  Compile-time options:
    HAS_TIMES
    MULTIPLICITY
    PERLIO_LAYERS
    PERL_COPY_ON_WRITE
    PERL_DONT_CREATE_GVSV
    PERL_IMPLICIT_CONTEXT
    PERL_MALLOC_WRAP
    PERL_OP_PARENT
    PERL_PRESERVE_IVUV
    USE_64_BIT_INT
    USE_ITHREADS
    USE_LARGE_FILES
    USE_LOCALE
    USE_LOCALE_COLLATE
    USE_LOCALE_CTYPE
    USE_LOCALE_NUMERIC
    USE_LOCALE_TIME
    USE_LONG_DOUBLE
    USE_PERLIO
    USE_PERL_ATOF
    USE_REENTRANT_API
    USE_THREAD_SAFE_LOCALE
  Built under linux
  Compiled at Apr  4 2022 14:38:19
  %ENV:
    PERL5LIB=""
    PERL5OPT=""
    PERL5_CPANPLUS_IS_RUNNING="9736"
    PERL5_CPAN_IS_RUNNING="9736"
    PERL5_CPAN_IS_RUNNING_IN_RECURSION="14801,9736"
    PERL5_MINISMOKEBOX="0.68"
    PERL_EXTUTILS_AUTOINSTALL="--defaultdeps"
    PERL_MM_USE_DEFAULT="1"
    PERL_USE_UNSAFE_INC="1"
  @INC:
    /home/cpantester/perl5/perlbrew/perls/perl-5.34.1-thread-multi-ld-64int/lib/site_perl/5.34.1/i686-linux-thread-multi-64int-ld
    /home/cpantester/perl5/perlbrew/perls/perl-5.34.1-thread-multi-ld-64int/lib/site_perl/5.34.1
    /home/cpantester/perl5/perlbrew/perls/perl-5.34.1-thread-multi-ld-64int/lib/5.34.1/i686-linux-thread-multi-64int-ld
    /home/cpantester/perl5/perlbrew/perls/perl-5.34.1-thread-multi-ld-64int/lib/5.34.1
    .