Dist-Zilla-Plugin-DynamicPrereqs v0.040 Perl 5 v5.37.11 x86_64-linux-ld

Status
Pass
From
Andreas J. König (ANDK)
Dist
Dist-Zilla-Plugin-DynamicPrereqs v0.040
Platform
Perl 5 v5.37.11 x86_64-linux-ld
Date
2024-04-08 08:12:53
ID
cc460b5e-f57f-11ee-bc3c-7e63bdd9f4c2
This distribution has been tested as part of the CPAN Testers
project, supporting the Perl programming language.  See
http://wiki.cpantesters.org/ for more information or email
questions to cpan-testers-discuss@perl.org


--
Dear Karen Etheridge,

This is a computer-generated report for Dist-Zilla-Plugin-DynamicPrereqs-0.040
on perl 5.37.11, created by CPAN-Reporter-1.2019.

Thank you for uploading your work to CPAN.  Congratulations!
All tests were successful.

Sections of this report:

    * Tester comments
    * Program output
    * Prerequisites
    * Environment and other context

------------------------------
TESTER COMMENTS
------------------------------

Additional comments from tester:

this report is from an automated smoke testing program
and was not reviewed by a human for accuracy

------------------------------
PROGRAM OUTPUT
------------------------------

Output from '/usr/bin/make test':

Skip blib/lib/auto/share/module/Dist-Zilla-Plugin-DynamicPrereqs/include_subs/prompt_default_no (unchanged)
Skip blib/lib/auto/share/module/Dist-Zilla-Plugin-DynamicPrereqs/include_subs/is_os (unchanged)
Skip blib/lib/auto/share/module/Dist-Zilla-Plugin-DynamicPrereqs/include_subs/is_interactive (unchanged)
Skip blib/lib/auto/share/module/Dist-Zilla-Plugin-DynamicPrereqs/include_subs/can_run (unchanged)
Skip blib/lib/auto/share/module/Dist-Zilla-Plugin-DynamicPrereqs/include_subs/_add_prereq (unchanged)
Skip blib/lib/auto/share/module/Dist-Zilla-Plugin-DynamicPrereqs/include_subs/maybe_command (unchanged)
Skip blib/lib/auto/share/module/Dist-Zilla-Plugin-DynamicPrereqs/include_subs/is_smoker (unchanged)
Skip blib/lib/auto/share/module/Dist-Zilla-Plugin-DynamicPrereqs/include_subs/runtime_requires (unchanged)
Skip blib/lib/auto/share/module/Dist-Zilla-Plugin-DynamicPrereqs/include_subs/isnt_os (unchanged)
Skip blib/lib/auto/share/module/Dist-Zilla-Plugin-DynamicPrereqs/include_subs/parse_args (unchanged)
Skip blib/lib/auto/share/module/Dist-Zilla-Plugin-DynamicPrereqs/include_subs/can_cc (unchanged)
Skip blib/lib/auto/share/module/Dist-Zilla-Plugin-DynamicPrereqs/include_subs/can_xs (unchanged)
Skip blib/lib/auto/share/module/Dist-Zilla-Plugin-DynamicPrereqs/include_subs/prompt_default_yes (unchanged)
Skip blib/lib/auto/share/module/Dist-Zilla-Plugin-DynamicPrereqs/include_subs/is_miniperl (unchanged)
Skip blib/lib/auto/share/module/Dist-Zilla-Plugin-DynamicPrereqs/include_subs/is_trial (unchanged)
Skip blib/lib/auto/share/module/Dist-Zilla-Plugin-DynamicPrereqs/include_subs/requires (unchanged)
Skip blib/lib/auto/share/module/Dist-Zilla-Plugin-DynamicPrereqs/include_subs/build_requires (unchanged)
Skip blib/lib/auto/share/module/Dist-Zilla-Plugin-DynamicPrereqs/include_subs/can_use (unchanged)
Skip blib/lib/auto/share/module/Dist-Zilla-Plugin-DynamicPrereqs/include_subs/has_module (unchanged)
Skip blib/lib/auto/share/module/Dist-Zilla-Plugin-DynamicPrereqs/include_subs/test_requires (unchanged)
Skip blib/lib/auto/share/module/Dist-Zilla-Plugin-DynamicPrereqs/include_subs/want_xs (unchanged)
Skip blib/lib/auto/share/module/Dist-Zilla-Plugin-DynamicPrereqs/include_subs/want_pp (unchanged)
PERL_DL_NONLAZY=1 "/home/sand/src/perl/repoperls/installed-perls/host/k93msid/v5.37.11/fc43/bin/perl" "-MExtUtils::Command::MM" "-MTest::Harness" "-e" "undef *Test::Harness::Switches; test_harness(0, 'blib/lib', 'blib/arch')" t/*.t
# 
# Versions for all modules listed in MYMETA.json (including optional ones):
# 
# === Configure Requires ===
# 
#     Module                  Want Have
#     ----------------------- ---- ----
#     ExtUtils::MakeMaker      any 7.70
#     File::ShareDir::Install 0.06 0.14
# 
# === Build Requires ===
# 
#     Module              Want Have
#     ------------------- ---- ----
#     ExtUtils::MakeMaker  any 7.70
# 
# === Test Requires ===
# 
#     Module                          Want       Have
#     ------------------------------ ----- ----------
#     Capture::Tiny                    any       0.48
#     Dist::Zilla::Plugin::MakeMaker 5.022      6.030
#     ExtUtils::MakeMaker             6.64       7.70
#     File::Spec                       any       3.88
#     File::pushd                      any      1.016
#     Module::CoreList                3.06 5.20240320
#     PadWalker                        any        2.5
#     Test::DZil                       any      6.030
#     Test::Deep                       any      1.204
#     Test::Deep::JSON                 any       0.05
#     Test::Fatal                      any      0.017
#     Test::File::ShareDir             any   1.001002
#     Test::More                      0.88   1.302195
#     Test::Needs                      any   0.002010
#     if                               any     0.0610
#     lib                              any       0.65
# 
# === Test Recommends ===
# 
#     Module         Want     Have
#     ---------- -------- --------
#     CPAN::Meta 2.120900 2.150010
# 
# === Test Conflicts ===
# 
#     Module      Want Have
#     ----------- ---- ----
#     CPAN::Index 0.01 2.29
# 
# === Runtime Requires ===
# 
#     Module                             Want   Have
#     --------------------------------- ----- ------
#     Dist::Zilla::Plugin::MakeMaker    5.022  6.030
#     Dist::Zilla::Role::AfterBuild       any  6.030
#     Dist::Zilla::Role::FileGatherer     any  6.030
#     Dist::Zilla::Role::FileMunger       any  6.030
#     Dist::Zilla::Role::MetaProvider     any  6.030
#     Dist::Zilla::Role::ModuleMetadata   any  0.006
#     Dist::Zilla::Role::PrereqSource     any  6.030
#     Dist::Zilla::Role::TextTemplate     any  6.030
#     File::ShareDir                      any  1.118
#     List::Util                         1.45   1.63
#     Module::Runtime                     any  0.016
#     Moose                               any 2.2206
#     Path::Tiny                          any  0.144
#     Term::ANSIColor                    3.00   5.01
#     Try::Tiny                           any   0.31
#     namespace::autoclean                any   0.29
#     strict                              any   1.12
#     warnings                            any   1.64
# 
# === Other Modules ===
# 
#     Module                                    Have
#     --------------------------------------- ------
#     Dist::Zilla::Plugin::MakeMaker::Awesome   0.49
#     Encode                                    3.20
#     File::Temp                              0.2311
#     JSON::PP                                  4.16
#     Module::Runtime                          0.016
#     Pod::Coverage                             0.23
#     Sub::Name                                 0.27
#     YAML                                      1.30
#     autodie                                   2.36
# 
t/00-report-prereqs.t ........... ok
t/01-basic.t .................... ok
t/02-no-makefile.t .............. ok
t/03-build_pl.t ................. ok
t/04-two-plugins.t .............. ok
t/05-overshadow-static.t ........ ok
t/06-makemaker-awesome.t ........ ok
t/07-unknown-arguments.t ........ ok
t/08-empty-prereqs.t ............ ok
t/09-delimiter-whitespace.t ..... ok
t/10-raw-from-file.t ............ ok
t/11-include-sub.t .............. ok
t/12-include-sub-definitions.t .. skipped: Need ExtUtils::HasCompiler 0.014
t/13-two-plugins.t .............. ok
t/14-nonexistent-sub.t .......... ok
t/15-conditions-raw.t ........... ok
t/17-sub-prereqs-core.t ......... ok
t/18-subs.t ..................... ok
t/19-include-subs-requires.t .... ok
t/20-include-subs-allraw.t ...... ok
t/21-body-from-file.t ........... ok
t/22-conditions-body.t .......... ok
t/23-inlined-module.t ........... ok
t/zzz-check-breaks.t ............ ok
All tests successful.
Files=24, Tests=174, 43 wallclock secs ( 0.08 usr  0.05 sys + 27.54 cusr  4.51 csys = 32.18 CPU)
Result: PASS

------------------------------
PREREQUISITES
------------------------------

Prerequisite modules loaded:

requires:

    Module                            Need  Have      
    --------------------------------- ----- ----------
    Dist::Zilla::Plugin::MakeMaker    5.022 6.030     
    Dist::Zilla::Role::AfterBuild     0     6.030     
    Dist::Zilla::Role::FileGatherer   0     6.030     
    Dist::Zilla::Role::FileMunger     0     6.030     
    Dist::Zilla::Role::MetaProvider   0     6.030     
    Dist::Zilla::Role::ModuleMetadata 0     0.006     
    Dist::Zilla::Role::PrereqSource   0     6.030     
    Dist::Zilla::Role::TextTemplate   0     6.030     
    File::ShareDir                    0     1.118     
    List::Util                        1.45  1.63      
    Module::Runtime                   0     0.016     
    Moose                             0     2.2206    
    namespace::autoclean              0     0.29      
    Path::Tiny                        0     0.144     
    perl                              5.010 5.037011  
    strict                            0     1.12      
    Term::ANSIColor                   3.00  5.01      
    Try::Tiny                         0     0.31      
    warnings                          0     1.64      

build_requires:

    Module                            Need  Have      
    --------------------------------- ----- ----------
    Capture::Tiny                     0     0.48      
    Dist::Zilla::Plugin::MakeMaker    5.022 6.030     
    ExtUtils::MakeMaker               6.64  7.70      
    File::pushd                       0     1.016     
    File::Spec                        0     3.88      
    if                                0     0.0610    
    lib                               0     0.65      
    Module::CoreList                  3.06  5.20240320
    PadWalker                         0     2.5       
    Test::Deep                        0     1.204     
    Test::Deep::JSON                  0     0.05      
    Test::DZil                        0     6.030     
    Test::Fatal                       0     0.017     
    Test::File::ShareDir              0     1.001002  
    Test::More                        0.88  1.302195  
    Test::Needs                       0     0.002010  

configure_requires:

    Module                            Need  Have      
    --------------------------------- ----- ----------
    ExtUtils::MakeMaker               0     7.70      
    File::ShareDir::Install           0.06  0.14      
    perl                              5.006 5.037011  


------------------------------
ENVIRONMENT AND OTHER CONTEXT
------------------------------

Environment variables:

    AUTOMATED_TESTING = 1
    LANG = en_US.UTF-8
    LANGUAGE = en_US:en
    PATH = /home/sand/bin:/usr/local/bin:/usr/bin:/bin:/usr/games:/usr/local/perl/bin:/usr/X11/bin:/sbin:/usr/sbin
    PERL5LIB = 
    PERL5OPT = 
    PERL5_CPANPLUS_IS_RUNNING = 3555007
    PERL5_CPAN_IS_RUNNING = 3555007
    PERL_CANARY_STABILITY_NOPROMPT = 1
    PERL_MM_USE_DEFAULT = 1
    PERL_USE_UNSAFE_INC = 1
    SHELL = /usr/bin/zsh
    TERM = screen

Perl special variables (and OS-specific diagnostics, for MSWin32):

    $^X = /home/sand/src/perl/repoperls/installed-perls/host/k93msid/v5.37.11/fc43/bin/perl
    $UID/$EUID = 1005 / 1005
    $GID = 1005 1005
    $EGID = 1005 1005

Perl module toolchain versions installed:

    Module              Have    
    ------------------- --------
    CPAN                2.34    
    CPAN::Meta          2.150010
    Cwd                 3.89    
    ExtUtils::CBuilder  0.280238
    ExtUtils::Command   7.70    
    ExtUtils::Install   2.22    
    ExtUtils::MakeMaker 7.70    
    ExtUtils::Manifest  1.75    
    ExtUtils::ParseXS   3.51    
    File::Spec          3.88    
    JSON                4.10    
    JSON::PP            4.16    
    Module::Build       0.4234  
    Module::Signature   0.88    
    Parse::CPAN::Meta   2.150010
    Test2               1.302195
    Test::Harness       3.44    
    Test::More          1.302195
    YAML                1.30    
    YAML::Syck          1.34    
    version             0.9929  


--

Summary of my perl5 (revision 5 version 37 subversion 11) configuration:
  Commit id: f94aafcf7b0649f7058ce2679b1be428d0b1bca8
  Platform:
    osname=linux
    osvers=6.1.0-7-amd64
    archname=x86_64-linux-ld
    uname='linux k93msid 6.1.0-7-amd64 #1 smp preempt_dynamic debian 6.1.20-1 (2023-03-19) x86_64 gnulinux '
    config_args='-Dprefix=/home/sand/src/perl/repoperls/installed-perls/host/k93msid/v5.37.11/fc43 -Dmyhostname=k93msid -Dinstallusrbinperl=n -Uversiononly -Dusedevel -des -Ui_db -Dlibswanted=cl pthread socket inet nsl gdbm dbm malloc dl ld sun m crypt sec util c cposix posix ucb BSD gdbm_compat -Uuseithreads -Duselongdouble -DEBUGGING=both'
    hint=recommended
    useposix=true
    d_sigaction=define
    useithreads=undef
    usemultiplicity=undef
    use64bitint=define
    use64bitall=define
    uselongdouble=define
    usemymalloc=n
    default_inc_excludes_dot=define
  Compiler:
    cc='cc'
    ccflags ='-fwrapv -DDEBUGGING -fno-strict-aliasing -pipe -fstack-protector-strong -I/usr/local/include -D_LARGEFILE_SOURCE -D_FILE_OFFSET_BITS=64 -D_FORTIFY_SOURCE=2'
    optimize='-O2 -g'
    cppflags='-fwrapv -DDEBUGGING -fno-strict-aliasing -pipe -fstack-protector-strong -I/usr/local/include'
    ccversion=''
    gccversion='12.2.0'
    gccosandvers=''
    intsize=4
    longsize=8
    ptrsize=8
    doublesize=8
    byteorder=12345678
    doublekind=3
    d_longlong=define
    longlongsize=8
    d_longdbl=define
    longdblsize=16
    longdblkind=3
    ivtype='long'
    ivsize=8
    nvtype='long double'
    nvsize=16
    Off_t='off_t'
    lseeksize=8
    alignbytes=16
    prototype=define
  Linker and Libraries:
    ld='cc'
    ldflags =' -fstack-protector-strong -L/usr/local/lib'
    libpth=/usr/local/lib /usr/lib/x86_64-linux-gnu /usr/lib /usr/lib64
    libs=-lpthread -lnsl -ldl -lm -lcrypt -lutil -lc
    perllibs=-lpthread -lnsl -ldl -lm -lcrypt -lutil -lc
    libc=/lib/x86_64-linux-gnu/libc.so.6
    so=so
    useshrplib=false
    libperl=libperl.a
    gnulibc_version='2.36'
  Dynamic Linking:
    dlsrc=dl_dlopen.xs
    dlext=so
    d_dlsymun=undef
    ccdlflags='-Wl,-E'
    cccdlflags='-fPIC'
    lddlflags='-shared -O2 -g -L/usr/local/lib -fstack-protector-strong'


Characteristics of this binary (from libperl): 
  Compile-time options:
    DEBUGGING
    HAS_LONG_DOUBLE
    HAS_STRTOLD
    HAS_TIMES
    PERLIO_LAYERS
    PERL_COPY_ON_WRITE
    PERL_DONT_CREATE_GVSV
    PERL_HASH_FUNC_SIPHASH13
    PERL_HASH_USE_SBOX32
    PERL_MALLOC_WRAP
    PERL_OP_PARENT
    PERL_PRESERVE_IVUV
    PERL_USE_DEVEL
    PERL_USE_SAFE_PUTENV
    USE_64_BIT_ALL
    USE_64_BIT_INT
    USE_LARGE_FILES
    USE_LOCALE
    USE_LOCALE_COLLATE
    USE_LOCALE_CTYPE
    USE_LOCALE_NUMERIC
    USE_LOCALE_TIME
    USE_LONG_DOUBLE
    USE_PERLIO
    USE_PERL_ATOF
  Built under linux
  Compiled at Apr 21 2023 08:47:32
  %ENV:
    PERL5LIB=""
    PERL5OPT=""
    PERL5_CPANPLUS_IS_RUNNING="3555007"
    PERL5_CPAN_IS_RUNNING="3555007"
    PERL_CANARY_STABILITY_NOPROMPT="1"
    PERL_MM_USE_DEFAULT="1"
    PERL_USE_UNSAFE_INC="1"
  @INC:
    /home/sand/src/perl/repoperls/installed-perls/host/k93msid/v5.37.11/fc43/lib/site_perl/5.37.11/x86_64-linux-ld
    /home/sand/src/perl/repoperls/installed-perls/host/k93msid/v5.37.11/fc43/lib/site_perl/5.37.11
    /home/sand/src/perl/repoperls/installed-perls/host/k93msid/v5.37.11/fc43/lib/5.37.11/x86_64-linux-ld
    /home/sand/src/perl/repoperls/installed-perls/host/k93msid/v5.37.11/fc43/lib/5.37.11
    .