MooseX-SimpleConfig v0.11 Perl 5 v5.8.9 i386-freebsd-thread-multi-64int

Status
Pass
From
Chris Williams (BINGOS)
Dist
MooseX-SimpleConfig v0.11
Platform
Perl 5 v5.8.9 i386-freebsd-thread-multi-64int
Date
2019-08-30 11:03:29
ID
cc6fc834-cb15-11e9-9066-e374b0ba08e8
This distribution has been tested as part of the CPAN Testers
project, supporting the Perl programming language.  See
http://wiki.cpantesters.org/ for more information or email
questions to cpan-testers-discuss@perl.org


--

Dear Karen Etheridge,

This is a computer-generated error report created automatically by
CPANPLUS, version 0.9176. Testers personal comments may appear
at the end of this report.


Thank you for uploading your work to CPAN.  Congratulations!
All tests were successful.

TEST RESULTS:

Below is the error stack from stage 'make test':

# 
# Versions for all modules listed in MYMETA.json (including optional ones):
# 
# === Configure Requires ===
# 
#     Module               Want  Have
#     ------------------- ----- -----
#     Module::Build::Tiny 0.039 0.039
# 
# === Test Requires ===
# 
#     Module                Want     Have
#     --------------------- ---- --------
#     ExtUtils::MakeMaker    any     7.36
#     File::Spec             any     3.75
#     File::Spec::Functions  any     3.75
#     File::Temp             any   0.2309
#     Moose                  any   2.2011
#     Test::Fatal            any    0.014
#     Test::More            0.88 1.302164
#     lib                    any     0.61
#     strict                 any     1.03
#     warnings               any  1.05_01
# 
# === Test Recommends ===
# 
#     Module         Want     Have
#     ---------- -------- --------
#     CPAN::Meta 2.120900 2.150010
# 
# === Runtime Requires ===
# 
#     Module                 Want   Have
#     ---------------------- ---- ------
#     Config::Any            0.13   0.32
#     Moose::Role             any 2.2011
#     MooseX::ConfigFromFile  any   0.14
# 
# === Other Modules ===
# 
#     Module               Want Have
#     -------------------- ---- ----
#     Dist::CheckConflicts  any 0.11
# 
t/00-report-prereqs.t .. ok
t/01use.t .............. ok
t/10simple.t ........... skipped: YAML or YAML::Syck required for this test
t/11default.t .......... skipped: YAML or YAML::Syck required for this test
t/12config_any_args.t .. ok
t/multiple.t ........... skipped: YAML or YAML::Syck required for this test
t/zzz-check-breaks.t ... ok
All tests successful.
Files=7, Tests=10,  6 wallclock secs ( 0.08 usr  0.03 sys +  4.46 cusr  0.83 csys =  5.40 CPU)
Result: PASS


PREREQUISITES:

Here is a list of prerequisites you specified and versions we
managed to load:

	  Module Name                        Have     Want
	  Config::Any                        0.32     0.13
	  ExtUtils::MakeMaker                7.36        0
	  File::Spec                         3.75        0
	  File::Spec::Functions              3.75        0
	  File::Temp                       0.2309        0
	  Moose                            2.2011        0
	  Moose::Role                      2.2011        0
	  MooseX::ConfigFromFile             0.14        0
	  Test::Fatal                       0.014        0
	  Test::More                     1.302164     0.88
	  lib                                0.61        0
	  strict                             1.03        0
	  warnings                        1.05_01        0

Perl module toolchain versions installed:
	Module Name                        Have
	CPANPLUS                         0.9176
	CPANPLUS::Dist::Build              0.90
	Cwd                                3.75
	ExtUtils::CBuilder             0.280231
	ExtUtils::Command                  7.36
	ExtUtils::Install                  2.14
	ExtUtils::MakeMaker                7.36
	ExtUtils::Manifest                 1.72
	ExtUtils::ParseXS                  3.35
	File::Spec                         3.75
	Module::Build                    0.4229
	Pod::Parser                        1.63
	Pod::Simple                        3.35
	Test2                          1.302164
	Test::Harness                      3.42
	Test::More                     1.302164
	version                          0.9924

******************************** NOTE ********************************
The comments above are created mechanically, possibly without manual
checking by the sender.  As there are many people performing automatic
tests on each upload to CPAN, it is likely that you will receive
identical messages about the same problem.

If you believe that the message is mistaken, please reply to the first
one with correction and/or additional informations, and do not take
it personally.  We appreciate your patience. :)
**********************************************************************

Additional comments:


This report was machine-generated by CPANPLUS::Dist::YACSmoke 1.08.
Powered by minismokebox version 0.68

CPANPLUS is prefering Build.PL

------------------------------
ENVIRONMENT AND OTHER CONTEXT
------------------------------

Environment variables:

    AUTOMATED_TESTING = 1
    NONINTERACTIVE_TESTING = 1
    PATH = /sbin:/bin:/usr/sbin:/usr/bin:/usr/local/sbin:/usr/local/bin:/home/cpan/bin
    PERL5LIB = /usr/home/cpan/pit/jail/0Wx2UV8Zru/lib/perl5:/usr/home/cpan/pit/rel/conf/perl-5.8.9/.cpanplus/5.8.9/build/6iBfsrmIaR/MooseX-ConfigFromFile-0.14/blib/lib:/usr/home/cpan/pit/rel/conf/perl-5.8.9/.cpanplus/5.8.9/build/6iBfsrmIaR/MooseX-ConfigFromFile-0.14/blib/arch:/usr/home/cpan/pit/rel/conf/perl-5.8.9/.cpanplus/5.8.9/build/wMXgAyl5n7/MooseX-SimpleConfig-0.11/blib/lib:/usr/home/cpan/pit/rel/conf/perl-5.8.9/.cpanplus/5.8.9/build/wMXgAyl5n7/MooseX-SimpleConfig-0.11/blib/arch
    PERL5_CPANPLUS_IS_RUNNING = 74644
    PERL5_CPANPLUS_IS_VERSION = 0.9176
    PERL5_MINISMOKEBOX = 0.68
    PERL5_YACSMOKE_BASE = /usr/home/cpan/pit/rel/conf/perl-5.8.9
    PERL_EXTUTILS_AUTOINSTALL = --defaultdeps
    PERL_LOCAL_LIB_ROOT = /usr/home/cpan/pit/jail/0Wx2UV8Zru
    PERL_MB_OPT = --install_base "/usr/home/cpan/pit/jail/0Wx2UV8Zru"
    PERL_MM_OPT = INSTALL_BASE=/usr/home/cpan/pit/jail/0Wx2UV8Zru
    PERL_MM_USE_DEFAULT = 1
    PERL_USE_UNSAFE_INC = 1
    SHELL = /usr/local/bin/bash
    TERM = screen

Perl special variables (and OS-specific diagnostics, for MSWin32):

    Perl: $^X = /usr/home/cpan/pit/rel/perl-5.8.9/bin/perl
    UID:  $<  = 1002
    EUID: $>  = 1002
    GID:  $(  = 1002 1002
    EGID: $)  = 1002 1002


-------------------------------


--

Summary of my perl5 (revision 5 version 8 subversion 9) configuration:
  Platform:
    osname=freebsd, osvers=12.0-release, archname=i386-freebsd-thread-multi-64int
    uname='freebsd ffyrc 12.0-release freebsd 12.0-release r341666 generic i386 '
    config_args='-des -Dprefix=/usr/home/cpan/pit/rel/perl-5.8.9 -Dusethreads -Duse64bitint'
    hint=recommended, useposix=true, d_sigaction=define
    usethreads=define use5005threads=undef useithreads=define usemultiplicity=define
    useperlio=define d_sfio=undef uselargefiles=define usesocks=undef
    use64bitint=define use64bitall=undef uselongdouble=undef
    usemymalloc=n, bincompat5005=undef
  Compiler:
    cc='cc', ccflags ='-DHAS_FPSETMASK -DHAS_FLOATINGPOINT_H -fno-strict-aliasing -pipe -I/usr/local/include',
    optimize='-O2',
    cppflags='-DHAS_FPSETMASK -DHAS_FLOATINGPOINT_H -fno-strict-aliasing -pipe -I/usr/local/include'
    ccversion='', gccversion='4.2.1 Compatible FreeBSD Clang 6.0.1 (tags/RELEASE_601/final 335540)', gccosandvers=''
    intsize=4, longsize=4, ptrsize=4, doublesize=8, byteorder=12345678
    d_longlong=define, longlongsize=8, d_longdbl=define, longdblsize=12
    ivtype='long long', ivsize=8, nvtype='double', nvsize=8, Off_t='off_t', lseeksize=8
    alignbytes=4, prototype=define
  Linker and Libraries:
    ld='cc', ldflags ='-pthread -Wl,-E  -L/usr/local/lib'
    libpth=/usr/lib /usr/local/lib
    libs=-lgdbm -ldl -lm -lcrypt -lutil
    perllibs=-ldl -lm -lcrypt -lutil
    libc=, so=so, useshrplib=false, libperl=libperl.a
    gnulibc_version=''
  Dynamic Linking:
    dlsrc=dl_dlopen.xs, dlext=so, d_dlsymun=undef, ccdlflags=' '
    cccdlflags='-DPIC -fPIC', lddlflags='-shared  -L/usr/local/lib'


Characteristics of this binary (from libperl): 
  Compile-time options: MULTIPLICITY PERL_IMPLICIT_CONTEXT PERL_MALLOC_WRAP
                        USE_64_BIT_INT USE_FAST_STDIO USE_ITHREADS
                        USE_LARGE_FILES USE_PERLIO USE_REENTRANT_API
  Locally applied patches:
	Devel::PatchPerl 1.52
  Built under freebsd
  Compiled at Dec 15 2018 21:56:18
  %ENV:
    PERL5LIB="/usr/home/cpan/pit/jail/0Wx2UV8Zru/lib/perl5:/usr/home/cpan/pit/rel/conf/perl-5.8.9/.cpanplus/5.8.9/build/6iBfsrmIaR/MooseX-ConfigFromFile-0.14/blib/lib:/usr/home/cpan/pit/rel/conf/perl-5.8.9/.cpanplus/5.8.9/build/6iBfsrmIaR/MooseX-ConfigFromFile-0.14/blib/arch:/usr/home/cpan/pit/rel/conf/perl-5.8.9/.cpanplus/5.8.9/build/wMXgAyl5n7/MooseX-SimpleConfig-0.11/blib/lib:/usr/home/cpan/pit/rel/conf/perl-5.8.9/.cpanplus/5.8.9/build/wMXgAyl5n7/MooseX-SimpleConfig-0.11/blib/arch"
    PERL5_CPANPLUS_IS_RUNNING="74644"
    PERL5_CPANPLUS_IS_VERSION="0.9176"
    PERL5_MINISMOKEBOX="0.68"
    PERL5_YACSMOKE_BASE="/usr/home/cpan/pit/rel/conf/perl-5.8.9"
    PERL_EXTUTILS_AUTOINSTALL="--defaultdeps"
    PERL_LOCAL_LIB_ROOT="/usr/home/cpan/pit/jail/0Wx2UV8Zru"
    PERL_MB_OPT="--install_base "/usr/home/cpan/pit/jail/0Wx2UV8Zru""
    PERL_MM_OPT="INSTALL_BASE=/usr/home/cpan/pit/jail/0Wx2UV8Zru"
    PERL_MM_USE_DEFAULT="1"
    PERL_USE_UNSAFE_INC="1"
  @INC:
    /usr/home/cpan/pit/jail/0Wx2UV8Zru/lib/perl5/5.8.9/i386-freebsd-thread-multi-64int
    /usr/home/cpan/pit/jail/0Wx2UV8Zru/lib/perl5/5.8.9
    /usr/home/cpan/pit/jail/0Wx2UV8Zru/lib/perl5/i386-freebsd-thread-multi-64int
    /usr/home/cpan/pit/jail/0Wx2UV8Zru/lib/perl5
    /usr/home/cpan/pit/rel/conf/perl-5.8.9/.cpanplus/5.8.9/build/6iBfsrmIaR/MooseX-ConfigFromFile-0.14/blib/lib
    /usr/home/cpan/pit/rel/conf/perl-5.8.9/.cpanplus/5.8.9/build/6iBfsrmIaR/MooseX-ConfigFromFile-0.14/blib/arch
    /usr/home/cpan/pit/rel/conf/perl-5.8.9/.cpanplus/5.8.9/build/wMXgAyl5n7/MooseX-SimpleConfig-0.11/blib/lib
    /usr/home/cpan/pit/rel/conf/perl-5.8.9/.cpanplus/5.8.9/build/wMXgAyl5n7/MooseX-SimpleConfig-0.11/blib/arch
    /usr/home/cpan/pit/rel/perl-5.8.9/lib/5.8.9/i386-freebsd-thread-multi-64int
    /usr/home/cpan/pit/rel/perl-5.8.9/lib/5.8.9
    /usr/home/cpan/pit/rel/perl-5.8.9/lib/site_perl/5.8.9/i386-freebsd-thread-multi-64int
    /usr/home/cpan/pit/rel/perl-5.8.9/lib/site_perl/5.8.9
    .