Starman v0.4017 Perl 5 v5.38.2 darwin-2level

Status
Pass
From
Slaven Rezić
Dist
Starman v0.4017
Platform
Perl 5 v5.38.2 darwin-2level
Date
2024-03-03 00:13:01
ID
cc7f40ee-d8f2-11ee-8936-45186e8775ea
This distribution has been tested as part of the CPAN Testers
project, supporting the Perl programming language.  See
http://wiki.cpantesters.org/ for more information or email
questions to cpan-testers-discuss@perl.org


--
Dear Tatsuhiko Miyagawa,

This is a computer-generated report for Starman-0.4017
on perl 5.38.2, created by CPAN-Reporter-1.2019.

Thank you for uploading your work to CPAN.  Congratulations!
All tests were successful.

Sections of this report:

    * Tester comments
    * Program output
    * Prerequisites
    * Environment and other context

------------------------------
TESTER COMMENTS
------------------------------

Additional comments from tester:

none provided

------------------------------
PROGRAM OUTPUT
------------------------------

Output from './Build test':

t/00_compile.t ........... ok
t/author-pod-syntax.t .... skipped: these tests are for testing by the author
2024/03/02-23:30:09 Starman::Server (type Net::Server::PreFork) starting! pid(37192)
Binding to TCP port 53297 on host 127.0.0.1 with IPv4
Setting gid to "20 20 20 501 701 12 61 702 98 100 703"
2024/03/02-23:30:09 Server closing!
t/chunked_req.t .......... ok
t/chunked_termination.t .. ok
2024/03/02-23:30:10 Starman::Server (type Net::Server::PreFork) starting! pid(37215)
Binding to TCP port 53306 on host 127.0.0.1 with IPv4
Setting gid to "20 20 20 501 701 12 61 702 98 100 703"
2024/03/02-23:30:10 Server closing!
t/chunked_zero_length.t .. ok
2024/03/02-23:30:10 Starman::Server (type Net::Server::PreFork) starting! pid(37225)
Binding to TCP port 53315 on host 127.0.0.1 with IPv4
Setting gid to "20 20 20 501 701 12 61 702 98 100 703"
2024/03/02-23:30:10 Server closing!
t/early-hints.t .......... ok
2024/03/02-23:30:10 Starman::Server (type Net::Server::PreFork) starting! pid(37240)
Binding to TCP port 53323 on host 127.0.0.1 with IPv4
Setting gid to "20 20 20 501 701 12 61 702 98 100 703"
2024/03/02-23:30:11 Server closing!
t/eintr.t ................ ok
2024/03/02-23:30:11 Starman::Server (type Net::Server::PreFork) starting! pid(37281)
Binding to TCP port 53329 on host 127.0.0.1 with IPv4
Setting gid to "20 20 20 501 701 12 61 702 98 100 703"
2024/03/02-23:30:12 Server closing!
t/expect.t ............... ok
2024/03/02-23:30:12 Starman::Server (type Net::Server::PreFork) starting! pid(37289)
Binding to TCP port 53337 on host 127.0.0.1 with IPv4
Setting gid to "20 20 20 501 701 12 61 702 98 100 703"
2024/03/02-23:30:12 Server closing!
2024/03/02-23:30:12 Starman::Server (type Net::Server::PreFork) starting! pid(37295)
Binding to TCP port 53368 on host 127.0.0.1 with IPv4
Setting gid to "20 20 20 501 701 12 61 702 98 100 703"
2024/03/02-23:30:12 Server closing!
t/harakiri.t ............. ok
2024/03/02-23:30:12 Starman::Server (type Net::Server::PreFork) starting! pid(37332)
Binding to TCP port 53398 on host 127.0.0.1 with IPv4
Setting gid to "20 20 20 501 701 12 61 702 98 100 703"
2024/03/02-23:30:12 Server closing!
t/lf_only_request.t ...... ok
2024/03/02-23:30:12 Starman::Server (type Net::Server::PreFork) starting! pid(37339)
Binding to TCP port 53406 on host 127.0.0.1 with IPv4
Setting gid to "20 20 20 501 701 12 61 702 98 100 703"
2024/03/02-23:30:12 Server closing!
t/no_chunked_head.t ...... ok
t/release-findbin.t ...... skipped: these tests are for release candidate testing
t/release-rand.t ......... skipped: these tests are for release candidate testing
2024/03/02-23:30:13 Starman::Server (type Net::Server::PreFork) starting! pid(37359)
Binding to TCP port 53414 on host 127.0.0.1 with IPv4
Setting gid to "20 20 20 501 701 12 61 702 98 100 703"
2024/03/02-23:30:13 Server closing!
t/single_zero.t .......... ok
2024/03/02-23:30:13 Starman::Server (type Net::Server::PreFork) starting! pid(37371)
Resolved [localhost]:53422 to [127.0.0.1]:53422, IPv4
Binding to SSL port 53422 on host 127.0.0.1 with IPv4
Setting gid to "20 20 20 501 701 12 61 702 98 100 703"
Could not finalize SSL connection with client handle (SSL accept attempt failed error:0A000126:SSL routines::unexpected eof while reading)
2024/03/02-23:30:13 Server closing!
t/ssl.t .................. ok
2024/03/02-23:30:13 Starman::Server (type Net::Server::PreFork) starting! pid(37387)
Resolved [localhost]:53431 to [127.0.0.1]:53431, IPv4
Binding to SSL port 53431 on host 127.0.0.1 with IPv4
Setting gid to "20 20 20 501 701 12 61 702 98 100 703"
Could not finalize SSL connection with client handle (SSL accept attempt failed error:0A000126:SSL routines::unexpected eof while reading)
2024/03/02-23:30:13 Server closing!
t/ssl_largebody.t ........ ok
2024/03/02-23:30:14 Starman::Server (type Net::Server::PreFork) starting! pid(37395)
Binding to TCP port 53440 on host 127.0.0.1 with IPv4
Setting gid to "20 20 20 501 701 12 61 702 98 100 703"
2024/03/02-23:30:14 Server closing!
t/suite.t ................ ok
All tests successful.
Files=17, Tests=125,  5 wallclock secs ( 0.06 usr  0.04 sys +  2.73 cusr  1.16 csys =  3.99 CPU)
Result: PASS

------------------------------
PREREQUISITES
------------------------------

Prerequisite modules loaded:

requires:

    Module              Need     Have    
    ------------------- -------- --------
    Data::Dump          0        1.25    
    HTTP::Date          0        6.06    
    HTTP::Parser::XS    0        0.17    
    HTTP::Status        0        6.45    
    Net::Server         2.007    2.014   
    parent              0        0.241   
    perl                5.008001 5.038002
    Plack               0.9971   1.0051  
    Test::TCP           2.00     2.22    

build_requires:

    Module              Need     Have    
    ------------------- -------- --------
    LWP::UserAgent      0        6.76    
    Test::More          0        1.302198
    Test::Requires      0        0.11    

configure_requires:

    Module              Need     Have    
    ------------------- -------- --------
    Module::Build::Tiny 0.034    0.047   


------------------------------
ENVIRONMENT AND OTHER CONTEXT
------------------------------

Environment variables:

    LANG = en_US.UTF-8
    PATH = /usr/local/bin:/usr/bin:/bin:/usr/local/sbin:/usr/sbin:/sbin:/Users/slaven.rezic/bin/darwin21.0:/Users/slaven.rezic/bin/sh:/Users/slaven.rezic/bin:/Users/slaven.rezic/bin/pistachio-perl/bin:/usr/games:/Users/slaven.rezic/devel:/Users/slaven.rezic/work/drafts-slaven.rezic/misc:/Users/slaven.rezic/work2/fzf/bin:/Users/slaven.rezic/src/srezic-misc/scripts
    PERL5LIB = 
    PERL5OPT = 
    PERL5_CPANPLUS_IS_RUNNING = 37006
    PERL5_CPAN_IS_RUNNING = 37006
    PERL5_CPAN_IS_RUNNING_IN_RECURSION = 16110,37006
    PERLDOC = -MPod::Perldoc::ToTextOverstrike
    PERL_BATCH = yes
    PERL_CANARY_STABILITY_NOPROMPT = 1
    PERL_CPAN_REPORTER_CONFIG = /var/tmp/cpansmoker-501/2024030223/cpanreporter_000_config.ini
    PERL_EXTUTILS_AUTOINSTALL = --defaultdeps
    PERL_USE_UNSAFE_INC = 1
    PISTACHIO_PERL_MANAGER = 1
    SHELL = /bin/zsh
    TERM = screen
    TMPDIR = /var/tmp/cpansmoker-501/2024030223

Perl special variables (and OS-specific diagnostics, for MSWin32):

    $^X = /opt/perl-5.38.2/bin/perl
    $UID/$EUID = 501 / 501
    $GID = 20 20 501 701 12 61 702 98 100 703
    $EGID = 20 20 501 701 12 61 702 98 100 703

Perl module toolchain versions installed:

    Module              Have    
    ------------------- --------
    CPAN                2.36    
    CPAN::Meta          2.150010
    Cwd                 3.89    
    ExtUtils::CBuilder  0.280238
    ExtUtils::Command   7.70    
    ExtUtils::Install   2.22    
    ExtUtils::MakeMaker 7.70    
    ExtUtils::Manifest  1.73    
    ExtUtils::ParseXS   3.51    
    File::Spec          3.88    
    JSON                4.10    
    JSON::PP            4.16    
    Module::Build       0.4234  
    Module::Signature   n/a     
    Parse::CPAN::Meta   2.150010
    Test2               1.302198
    Test::Harness       3.44    
    Test::More          1.302198
    YAML                1.31    
    YAML::Syck          1.34    
    version             0.9929  


--

Summary of my perl5 (revision 5 version 38 subversion 2) configuration:
   
  Platform:
    osname=darwin
    osvers=21.6.0
    archname=darwin-2level
    uname='darwin w3tk 21.6.0 darwin kernel version 21.6.0: sun dec 17 22:55:27 pst 2023; root:xnu-8020.240.18.706.2~1release_x86_64 x86_64 '
    config_args='-ds -e -Dprefix=/opt/perl-5.38.2 -Dcf_email=srezic@cpan.org'
    hint=previous
    useposix=true
    d_sigaction=define
    useithreads=undef
    usemultiplicity=undef
    use64bitint=define
    use64bitall=define
    uselongdouble=undef
    usemymalloc=n
    default_inc_excludes_dot=define
  Compiler:
    cc='cc'
    ccflags ='-fno-common -DPERL_DARWIN -mmacosx-version-min=12.7 -DNO_POSIX_2008_LOCALE -fno-strict-aliasing -pipe -fstack-protector-strong -I/usr/local/include'
    optimize='-O3'
    cppflags='-fno-common -DPERL_DARWIN -mmacosx-version-min=12.7 -DNO_POSIX_2008_LOCALE -fno-strict-aliasing -pipe -fstack-protector-strong -I/usr/local/include'
    ccversion=''
    gccversion='Apple LLVM 14.0.0 (clang-1400.0.29.202)'
    gccosandvers=''
    intsize=4
    longsize=8
    ptrsize=8
    doublesize=8
    byteorder=12345678
    doublekind=3
    d_longlong=define
    longlongsize=8
    d_longdbl=define
    longdblsize=16
    longdblkind=3
    ivtype='long'
    ivsize=8
    nvtype='double'
    nvsize=8
    Off_t='off_t'
    lseeksize=8
    alignbytes=8
    prototype=define
  Linker and Libraries:
    ld='cc'
    ldflags =' -mmacosx-version-min=12.7 -fstack-protector-strong -L/usr/local/lib'
    libpth=/usr/local/lib /Library/Developer/CommandLineTools/usr/lib/clang/13.1.6/lib /Library/Developer/CommandLineTools/SDKs/MacOSX12.3.sdk/usr/lib /Library/Developer/CommandLineTools/usr/lib /usr/lib /Library/Developer/CommandLineTools/usr/lib/clang/14.0.0/lib /Library/Developer/CommandLineTools/SDKs/MacOSX13.1.sdk/usr/lib
    libs=-lgdbm -ldbm -ldb
    perllibs=
    libc=
    so=dylib
    useshrplib=false
    libperl=libperl.a
    gnulibc_version=''
  Dynamic Linking:
    dlsrc=dl_dlopen.xs
    dlext=bundle
    d_dlsymun=undef
    ccdlflags=' '
    cccdlflags=' '
    lddlflags=' -mmacosx-version-min=12.7 -bundle -undefined dynamic_lookup -L/usr/local/lib -fstack-protector-strong'


Characteristics of this binary (from libperl): 
  Compile-time options:
    HAS_LONG_DOUBLE
    HAS_STRTOLD
    HAS_TIMES
    PERLIO_LAYERS
    PERL_COPY_ON_WRITE
    PERL_DONT_CREATE_GVSV
    PERL_HASH_FUNC_SIPHASH13
    PERL_HASH_USE_SBOX32
    PERL_MALLOC_WRAP
    PERL_OP_PARENT
    PERL_PRESERVE_IVUV
    PERL_USE_SAFE_PUTENV
    USE_64_BIT_ALL
    USE_64_BIT_INT
    USE_LARGE_FILES
    USE_LOCALE
    USE_LOCALE_COLLATE
    USE_LOCALE_CTYPE
    USE_LOCALE_NUMERIC
    USE_LOCALE_TIME
    USE_PERLIO
    USE_PERL_ATOF
  Built under darwin
  Compiled at Mar  2 2024 20:42:28
  %ENV:
    PERL5LIB=""
    PERL5OPT=""
    PERL5_CPANPLUS_IS_RUNNING="37006"
    PERL5_CPAN_IS_RUNNING="37006"
    PERL5_CPAN_IS_RUNNING_IN_RECURSION="16110,37006"
    PERLDOC="-MPod::Perldoc::ToTextOverstrike"
    PERL_BATCH="yes"
    PERL_CANARY_STABILITY_NOPROMPT="1"
    PERL_CPAN_REPORTER_CONFIG="/var/tmp/cpansmoker-501/2024030223/cpanreporter_000_config.ini"
    PERL_EXTUTILS_AUTOINSTALL="--defaultdeps"
    PERL_USE_UNSAFE_INC="1"
  @INC:
    /opt/perl-5.38.2/lib/site_perl/5.38.2/darwin-2level
    /opt/perl-5.38.2/lib/site_perl/5.38.2
    /opt/perl-5.38.2/lib/5.38.2/darwin-2level
    /opt/perl-5.38.2/lib/5.38.2
    .