Report for Test-Pod-LinkCheck-0.008

Back
From: metabase:user:320bfe00-2aae-11df-837a-5e0a49663a4f
Subject: PASS Test-Pod-LinkCheck-0.008 v5.21.8 GNU/Linux
Date: 2015-03-22T02:04:40Z

This distribution has been tested as part of the CPAN Testers
project, supporting the Perl programming language.  See
http://wiki.cpantesters.org/ for more information or email
questions to cpan-testers-discuss@perl.org


--
Dear Apocalypse,

This is a computer-generated report for Test-Pod-LinkCheck-0.008
on perl 5.21.8, created by CPAN-Reporter-1.2011.

Thank you for uploading your work to CPAN.  Congratulations!
All tests were successful.

Sections of this report:

    * Tester comments
    * Program output
    * Prerequisites
    * Environment and other context

------------------------------
TESTER COMMENTS
------------------------------

Additional comments from tester:

this report is from an automated smoke testing program
and was not reviewed by a human for accuracy

------------------------------
PROGRAM OUTPUT
------------------------------

Output from './Build test':

t/00-compile.t ................ ok
# 
You should load Test::Tester before Test::Builder (or anything that loads Test::Builder) at /home/sand/src/perl/repoperls/installed-perls/perl/v5.21.8/a2da/lib/site_perl/5.21.8/Test/Tester.pm line 9.
# 
# Generated by Dist::Zilla::Plugin::ReportVersions::Tiny v1.10
# perl: 5.021008 (wanted 5.006) on linux from /home/sand/src/perl/repoperls/installed-perls/perl/v5.21.8/a2da/bin/perl
# 
# App::PodLinkCheck::ParseLinks                 => 12         (want 4)      
# App::PodLinkCheck::ParseSections              => 12         (want any version)
# Capture::Tiny                                 => 0.28       (want any version)
# Exporter                                      => 5.72       (want any version)
# ExtUtils::MakeMaker                           => 7.04       (want any version)
# File::Spec                                    => 3.53       (want any version)
# File::Temp                                    => 0.2304     (want any version)
# IO::Handle                                    => 1.35       (want any version)
# IPC::Open3                                    => 1.18       (want any version)
# Module::Build::Tiny                           => 0.039      (want 0.039)  
# Moose                                         => 2.1403     (want 1.01)   
# Moose::Util::TypeConstraints                  => 2.1403     (want 1.01)   
# Pod::Find                                     => 1.62       (want any version)
# Test::Builder                                 => 1.001014   (want 0.94)   
# Test::More                                    => 1.001014   (want 0.88)   
# Test::Pod                                     => 1.48       (want 1.44)   
# Test::Tester                                  => 0.114      (want any version)
# parent                                        => 0.232      (want any version)
# strict                                        => 1.09       (want any version)
# warnings                                      => 1.3        (want any version)
# 
# Thanks for using my code.  I hope it works for you.
# If not, please try and include this output in the bug report.
# That will help me reproduce the issue and solve your problem.
# 
t/000-report-versions-tiny.t .. ok
t/apocalypse.t ................ skipped: Test::Apocalypse required for validating the distribution
t/cpan_backend.t .............. ok
t/functions.t ................. ok
t/simple.t .................... ok
All tests successful.

Test Summary Report
-------------------
t/cpan_backend.t            (Wstat: 0 Tests: 24 Failed: 0)
  TODO passed:   1-8, 17-24
Files=6, Tests=130, 16 wallclock secs ( 0.06 usr  0.05 sys +  8.76 cusr  2.14 csys = 11.01 CPU)
Result: PASS

------------------------------
PREREQUISITES
------------------------------

Prerequisite modules loaded:

requires:

    Module                           Need  Have    
    -------------------------------- ----- --------
    App::PodLinkCheck::ParseLinks    4     12      
    App::PodLinkCheck::ParseSections 0     12      
    Capture::Tiny                    0     0.28    
    Exporter                         0     5.72    
    File::Spec                       0     3.53    
    Moose                            1.01  2.1403  
    Moose::Util::TypeConstraints     1.01  2.1403  
    parent                           0     0.232   
    perl                             5.006 5.021008
    Pod::Find                        0     1.62    
    strict                           0     1.09    
    Test::Builder                    0.94  1.001014
    Test::Pod                        1.44  1.48    
    warnings                         0     1.30    

build_requires:

    Module                           Need  Have    
    -------------------------------- ----- --------
    File::Spec                       0     3.53    
    File::Temp                       0     0.2304  
    IO::Handle                       0     1.35    
    IPC::Open3                       0     1.18    
    perl                             5.006 5.021008
    Test::More                       0.88  1.001014
    Test::Tester                     0     0.114   

configure_requires:

    Module                           Need  Have    
    -------------------------------- ----- --------
    ExtUtils::MakeMaker              0     7.04    
    Module::Build::Tiny              0.039 0.039   
    perl                             5.006 5.021008


------------------------------
ENVIRONMENT AND OTHER CONTEXT
------------------------------

Environment variables:

    AUTOMATED_TESTING = 1
    LANG = en_US.UTF-8
    LANGUAGE = en_US:en
    PATH = /home/sand/bin:/usr/local/bin:/usr/bin:/bin:/usr/games:/usr/local/perl/bin:/usr/X11/bin:/sbin:/usr/sbin
    PERL5LIB = 
    PERL5OPT = 
    PERL5_CPANPLUS_IS_RUNNING = 15023
    PERL5_CPAN_IS_RUNNING = 15023
    PERL_MM_USE_DEFAULT = 1
    SHELL = /usr/bin/zsh
    TERM = screen

Perl special variables (and OS-specific diagnostics, for MSWin32):

    $^X = /home/sand/src/perl/repoperls/installed-perls/perl/v5.21.8/a2da/bin/perl
    $UID/$EUID = 1005 / 1005
    $GID = 1005 1005
    $EGID = 1005 1005

Perl module toolchain versions installed:

    Module              Have    
    ------------------- --------
    CPAN                2.10    
    CPAN::Meta          2.150001
    Cwd                 3.54    
    ExtUtils::CBuilder  0.280221
    ExtUtils::Command   1.20    
    ExtUtils::Install   2.04    
    ExtUtils::MakeMaker 7.04    
    ExtUtils::Manifest  1.70    
    ExtUtils::ParseXS   3.27    
    File::Spec          3.53    
    JSON                2.90    
    JSON::PP            2.27300 
    Module::Build       0.4211  
    Module::Signature   0.73    
    Parse::CPAN::Meta   1.4414  
    Test::Harness       3.35    
    Test::More          1.001014
    YAML                1.14    
    YAML::Syck          1.29    
    version             0.9912  


--

Summary of my perl5 (revision 5 version 21 subversion 8) configuration:
  Commit id: eaee347ce4f7d9b8965d022a06b90c4b07bcad4a
  Platform:
    osname=linux, osvers=3.16.0-4-amd64, archname=x86_64-linux-thread-multi-ld
    uname='linux k83 3.16.0-4-amd64 #1 smp debian 3.16.7-ckt7-1 (2015-03-01) x86_64 gnulinux '
    config_args='-Dprefix=/home/sand/src/perl/repoperls/installed-perls/perl/v5.21.8/a2da -Dmyhostname=k83 -Dinstallusrbinperl=n -Uversiononly -Dusedevel -des -Ui_db -Duseithreads -Duselongdouble -DDEBUGGING=-g'
    hint=recommended, useposix=true, d_sigaction=define
    useithreads=define, usemultiplicity=define
    use64bitint=define, use64bitall=define, uselongdouble=define
    usemymalloc=n, bincompat5005=undef
  Compiler:
    cc='cc', ccflags ='-D_REENTRANT -D_GNU_SOURCE -fwrapv -fno-strict-aliasing -pipe -fstack-protector-strong -I/usr/local/include -D_LARGEFILE_SOURCE -D_FILE_OFFSET_BITS=64 -D_FORTIFY_SOURCE=2',
    optimize='-O2 -g',
    cppflags='-D_REENTRANT -D_GNU_SOURCE -fwrapv -fno-strict-aliasing -pipe -fstack-protector-strong -I/usr/local/include'
    ccversion='', gccversion='4.9.2', gccosandvers=''
    intsize=4, longsize=8, ptrsize=8, doublesize=8, byteorder=12345678, doublekind=3
    d_longlong=define, longlongsize=8, d_longdbl=define, longdblsize=16, longdblkind=3
    ivtype='long', ivsize=8, nvtype='long double', nvsize=16, Off_t='off_t', lseeksize=8
    alignbytes=16, prototype=define
  Linker and Libraries:
    ld='cc', ldflags =' -fstack-protector-strong -L/usr/local/lib'
    libpth=/usr/local/lib /usr/lib/gcc/x86_64-linux-gnu/4.9/include-fixed /usr/include/x86_64-linux-gnu /usr/lib /lib/x86_64-linux-gnu /lib/../lib /usr/lib/x86_64-linux-gnu /usr/lib/../lib /lib
    libs=-lpthread -lnsl -lgdbm -ldb -ldl -lm -lcrypt -lutil -lc -lgdbm_compat
    perllibs=-lpthread -lnsl -ldl -lm -lcrypt -lutil -lc
    libc=libc-2.19.so, so=so, useshrplib=false, libperl=libperl.a
    gnulibc_version='2.19'
  Dynamic Linking:
    dlsrc=dl_dlopen.xs, dlext=so, d_dlsymun=undef, ccdlflags='-Wl,-E'
    cccdlflags='-fPIC', lddlflags='-shared -O2 -g -L/usr/local/lib -fstack-protector-strong'


Characteristics of this binary (from libperl): 
  Compile-time options: HAS_TIMES MULTIPLICITY PERLIO_LAYERS
                        PERL_DONT_CREATE_GVSV
                        PERL_HASH_FUNC_ONE_AT_A_TIME_HARD
                        PERL_IMPLICIT_CONTEXT PERL_MALLOC_WRAP
                        PERL_NEW_COPY_ON_WRITE PERL_PRESERVE_IVUV
                        PERL_USE_DEVEL USE_64_BIT_ALL USE_64_BIT_INT
                        USE_ITHREADS USE_LARGE_FILES USE_LOCALE
                        USE_LOCALE_COLLATE USE_LOCALE_CTYPE
                        USE_LOCALE_NUMERIC USE_LOCALE_TIME USE_LONG_DOUBLE
                        USE_PERLIO USE_PERL_ATOF USE_REENTRANT_API
  Built under linux
  Compiled at Mar 15 2015 01:19:41
  %ENV:
    PERL5LIB=""
    PERL5OPT=""
    PERL5_CPANPLUS_IS_RUNNING="15023"
    PERL5_CPAN_IS_RUNNING="15023"
    PERL_MM_USE_DEFAULT="1"
  @INC:
    /home/sand/src/perl/repoperls/installed-perls/perl/v5.21.8/a2da/lib/site_perl/5.21.8/x86_64-linux-thread-multi-ld
    /home/sand/src/perl/repoperls/installed-perls/perl/v5.21.8/a2da/lib/site_perl/5.21.8
    /home/sand/src/perl/repoperls/installed-perls/perl/v5.21.8/a2da/lib/5.21.8/x86_64-linux-thread-multi-ld
    /home/sand/src/perl/repoperls/installed-perls/perl/v5.21.8/a2da/lib/5.21.8
    .