Unicode-UTF8 v0.62 Perl 5 v5.39.5 x86_64-cygwin-thread-quadmath
- Status
- Pass
- From
- Peter John Acklam (PJACKLAM)
- Dist
-
Unicode-UTF8 v0.62
- Platform
- Perl 5 v5.39.5 x86_64-cygwin-thread-quadmath
- Date
- 2024-06-03 08:28:56
- ID
- ccb3ae79-7a24-1014-888a-bb0ecb5a66f2
This distribution has been tested as part of the CPAN Testers
project, supporting the Perl programming language. See
http://wiki.cpantesters.org/ for more information or email
questions to cpan-testers-discuss@perl.org
--
Dear Christian Hansen,
This is a computer-generated report for Unicode-UTF8-0.62
on perl 5.39.5, created by CPAN-Reporter-1.2019.
Thank you for uploading your work to CPAN. Congratulations!
All tests were successful.
Sections of this report:
* Tester comments
* Program output
* Prerequisites
* Environment and other context
------------------------------
TESTER COMMENTS
------------------------------
Additional comments from tester:
this report is from an automated smoke testing program
and was not reviewed by a human for accuracy
------------------------------
PROGRAM OUTPUT
------------------------------
Output from '/usr/bin/make test':
"/cygdrive/d/opt/perl5/cygwin_nt-10.0/3.4.5/x86_64/perl/5.39.5/x86_64-cygwin-thread-quadmath/bin/perl5.39.5.exe" "-Iinc" -MExtUtils::Command::MM -e 'cp_nonempty' -- UTF8.bs blib/arch/auto/Unicode/UTF8/UTF8.bs 644
PERL_DL_NONLAZY=1 "/cygdrive/d/opt/perl5/cygwin_nt-10.0/3.4.5/x86_64/perl/5.39.5/x86_64-cygwin-thread-quadmath/bin/perl5.39.5.exe" "-MExtUtils::Command::MM" "-MTest::Harness" "-e" "undef *Test::Harness::Switches; test_harness(0, 'inc', 'blib/lib', 'blib/arch')" t/*.t t/*/*.t
# Unicode::UTF8 0.62, Perl 5.039005, /cygdrive/d/opt/perl5/cygwin_nt-10.0/3.4.5/x86_64/perl/5.39.5/x86_64-cygwin-thread-quadmath/bin/perl5.39.5
t/000_load.t ............... ok
t/010_basic.t .............. ok
t/030_native.t ............. ok
t/040_wide_characters.t .... ok
t/045_replacement.t ........ ok
t/050_noncharacters.t ...... ok
t/060_surrogates.t ......... ok
t/080_super.t .............. ok
t/090_non_shortest_form.t .. ok
t/100_incomplete.t ......... ok
t/120_fallback.t ........... ok
t/150_subwarnings.t ........ ok
t/170_steal.t .............. ok
t/200_leaks.t .............. ok
t/210_tainted.t ............ skipped: Taint::Runtime 0.03 is required for this test
t/220_magic.t .............. skipped: Variable::Magic is required for this test
t/999_pod.t ................ skipped: Test::Pod 1.00 required for this test
All tests successful.
Files=17, Tests=12021, 83 wallclock secs ( 1.81 usr 1.47 sys + 11.24 cusr 45.69 csys = 60.21 CPU)
Result: PASS
------------------------------
PREREQUISITES
------------------------------
Prerequisite modules loaded:
requires:
Module Need Have
------------------- -------- --------
Carp 0 1.54
Exporter 0 5.77
perl 5.008001 5.039005
XSLoader 0 0.32
build_requires:
Module Need Have
------------------- -------- --------
Encode 1.9801 3.20
ExtUtils::MakeMaker 6.59 7.70
Test::Fatal 0.006 0.017
Test::More 0.47 1.302195
configure_requires:
Module Need Have
------------------- -------- --------
ExtUtils::MakeMaker 6.59 7.70
------------------------------
ENVIRONMENT AND OTHER CONTEXT
------------------------------
Environment variables:
AUTOMATED_TESTING = 1
COMSPEC = C:\WINDOWS\system32\cmd.exe
NUMBER_OF_PROCESSORS = 8
PATH = /opt/perl5/cygwin_nt-10.0/3.4.5/x86_64/perl/5.39.5/x86_64-cygwin-thread-quadmath/bin:/opt/perl5/cygwin_nt-10.0/3.4.5/x86_64/perl/5.39.5/x86_64-cygwin-thread-quadmath/local/bin:/usr/lib/lapack:/usr/local/bin:/usr/bin:/bin
PERL5LIB = /opt/perl5/cygwin_nt-10.0/3.4.5/x86_64/perl/5.39.5/x86_64-cygwin-thread-quadmath/local/lib/perl5:/opt/perl5/cygwin_nt-10.0/3.4.5/x86_64/perl/5.39.5/x86_64-cygwin-thread-quadmath/local/lib/site_perl:/opt/perl5/cygwin_nt-10.0/3.4.5/x86_64/perl/5.39.5/x86_64-cygwin-thread-quadmath/local/lib
PERL5OPT =
PERL5_CPANPLUS_IS_RUNNING = 63052
PERL5_CPAN_IS_RUNNING = 63052
PERL_CANARY_STABILITY_NOPROMPT = 1
PERL_CPAN_REPORTER_CONFIG = /cygdrive/d/home/peter/.cpanreporter/config-cygwin-rigel.ini
PERL_EXTUTILS_AUTOINSTALL = 1
PERL_MB_OPT = --install_base /opt/perl5/cygwin_nt-10.0/3.4.5/x86_64/perl/5.39.5/x86_64-cygwin-thread-quadmath/local
PERL_MM_OPT = INSTALL_BASE=/opt/perl5/cygwin_nt-10.0/3.4.5/x86_64/perl/5.39.5/x86_64-cygwin-thread-quadmath/local LIBS=-lquadmath
PERL_MM_USE_DEFAULT = 1
PERL_TEST_CRITIC = 1
PERL_TEST_CRITIC = 1
PERL_TEST_POD = 1
PERL_TEST_POD = 1
PERL_USE_UNSAFE_INC = 1
POD_TESTING = 1
POD_TESTS = 1
PROCESSOR_IDENTIFIER = Intel64 Family 6 Model 42 Stepping 7, GenuineIntel
SHELL = /bin/bash
TEMP = /tmp
TERM = xterm
Perl special variables (and OS-specific diagnostics, for MSWin32):
$^X = /cygdrive/d/opt/perl5/cygwin_nt-10.0/3.4.5/x86_64/perl/5.39.5/x86_64-cygwin-thread-quadmath/bin/perl5.39.5
$UID/$EUID = 197609 / 197609
$GID = 197609 401408 545 4 66049 11 15 68380 113 4095 66048 262180
$EGID = 197609 401408 545 4 66049 11 15 68380 113 4095 66048 262180
Perl module toolchain versions installed:
Module Have
------------------- --------
CPAN 2.36
CPAN::Meta 2.150010
Cwd 3.90
ExtUtils::CBuilder 0.280240
ExtUtils::Command 7.70
ExtUtils::Install 2.22
ExtUtils::MakeMaker 7.70
ExtUtils::Manifest 1.75
ExtUtils::ParseXS 3.51
File::Spec 3.90
JSON n/a
JSON::PP 4.16
Module::Build 0.4234
Module::Signature n/a
Parse::CPAN::Meta 2.150010
Test2 1.302195
Test::Harness 3.48
Test::More 1.302195
YAML 1.31
YAML::Syck n/a
version 0.9930
--
Summary of my perl5 (revision 5 version 39 subversion 5) configuration:
Platform:
osname=cygwin
osvers=3.4.5-1.x86_64
archname=x86_64-cygwin-thread-quadmath
uname='cygwin_nt-10.0-19045 rigel 3.4.5-1.x86_64 2023-01-19 19:09 utc x86_64 cygwin '
config_args='-de -Dmksymlinks -Dusedevel -Uinc_version_list -Uinstallusrbinperl -Dusethreads -Uusemultiplicity -Dusequadmath -Uloclibpth -Dlibpth=/usr/lib /usr/lib/gcc/x86_64-pc-cygwin/11 -Dprefix=/opt/perl5/cygwin_nt-10.0/3.4.5/x86_64/perl/5.39.5/x86_64-cygwin-thread-quadmath -Darchname=x86_64-cygwin-thread-quadmath'
hint=recommended
useposix=true
d_sigaction=define
useithreads=define
usemultiplicity=undef
use64bitint=define
use64bitall=define
uselongdouble=undef
usemymalloc=n
default_inc_excludes_dot=define
Compiler:
cc='gcc'
ccflags ='-U__STRICT_ANSI__ -D_GNU_SOURCE -fwrapv -fno-strict-aliasing -pipe -fstack-protector-strong -D_FORTIFY_SOURCE=2'
optimize='-O3'
cppflags='-U__STRICT_ANSI__ -D_GNU_SOURCE -fwrapv -fno-strict-aliasing -pipe -fstack-protector-strong'
ccversion=''
gccversion='11.3.0'
gccosandvers=''
intsize=4
longsize=8
ptrsize=8
doublesize=8
byteorder=12345678
doublekind=3
d_longlong=define
longlongsize=8
d_longdbl=define
longdblsize=16
longdblkind=3
ivtype='long'
ivsize=8
nvtype='__float128'
nvsize=16
Off_t='off_t'
lseeksize=8
alignbytes=16
prototype=define
Linker and Libraries:
ld='g++'
ldflags =' -Wl,--enable-auto-import -Wl,--export-all-symbols -Wl,--enable-auto-image-base -fstack-protector-strong'
libpth=/usr/lib /usr/lib/gcc/x86_64-pc-cygwin/11 /usr/lib/w32api /lib /usr/local/lib
libs=-lpthread -lgdbm -ldb -ldl -lcrypt -lgdbm_compat -lquadmath
perllibs=-lpthread -ldl -lcrypt -lquadmath
libc=/usr/lib/libcygwin.a
so=dll
useshrplib=true
libperl=cygperl5_39_5.dll
gnulibc_version=''
Dynamic Linking:
dlsrc=dl_dlopen.xs
dlext=dll
d_dlsymun=undef
ccdlflags=' '
cccdlflags=' '
lddlflags=' --shared -Wl,--enable-auto-import -Wl,--export-all-symbols -Wl,--enable-auto-image-base -fstack-protector-strong'
Characteristics of this binary (from libperl):
Compile-time options:
HAS_LONG_DOUBLE
HAS_STRTOLD
HAS_TIMES
MULTIPLICITY
PERLIO_LAYERS
PERL_COPY_ON_WRITE
PERL_DONT_CREATE_GVSV
PERL_HASH_FUNC_SIPHASH13
PERL_HASH_USE_SBOX32
PERL_MALLOC_WRAP
PERL_OP_PARENT
PERL_PRESERVE_IVUV
PERL_USE_DEVEL
PERL_USE_SAFE_PUTENV
USE_64_BIT_ALL
USE_64_BIT_INT
USE_ITHREADS
USE_LARGE_FILES
USE_LOCALE
USE_LOCALE_COLLATE
USE_LOCALE_CTYPE
USE_LOCALE_NUMERIC
USE_LOCALE_TIME
USE_PERLIO
USE_PERL_ATOF
USE_QUADMATH
USE_REENTRANT_API
Built under cygwin
Compiled at May 20 2024 02:25:57
%ENV:
PERL5LIB="/opt/perl5/cygwin_nt-10.0/3.4.5/x86_64/perl/5.39.5/x86_64-cygwin-thread-quadmath/local/lib/perl5:/opt/perl5/cygwin_nt-10.0/3.4.5/x86_64/perl/5.39.5/x86_64-cygwin-thread-quadmath/local/lib/site_perl:/opt/perl5/cygwin_nt-10.0/3.4.5/x86_64/perl/5.39.5/x86_64-cygwin-thread-quadmath/local/lib"
PERL5OPT=""
PERL5_CPANPLUS_IS_RUNNING="63052"
PERL5_CPAN_IS_RUNNING="63052"
PERL_CANARY_STABILITY_NOPROMPT="1"
PERL_CPAN_REPORTER_CONFIG="/cygdrive/d/home/peter/.cpanreporter/config-cygwin-rigel.ini"
PERL_EXTUTILS_AUTOINSTALL="1"
PERL_MB_OPT="--install_base /opt/perl5/cygwin_nt-10.0/3.4.5/x86_64/perl/5.39.5/x86_64-cygwin-thread-quadmath/local"
PERL_MM_OPT="INSTALL_BASE=/opt/perl5/cygwin_nt-10.0/3.4.5/x86_64/perl/5.39.5/x86_64-cygwin-thread-quadmath/local LIBS=-lquadmath"
PERL_MM_USE_DEFAULT="1"
PERL_TEST_CRITIC="1"
PERL_TEST_POD="1"
PERL_USE_UNSAFE_INC="1"
@INC:
/opt/perl5/cygwin_nt-10.0/3.4.5/x86_64/perl/5.39.5/x86_64-cygwin-thread-quadmath/local/lib/perl5/x86_64-cygwin-thread-quadmath
/opt/perl5/cygwin_nt-10.0/3.4.5/x86_64/perl/5.39.5/x86_64-cygwin-thread-quadmath/local/lib/perl5
/opt/perl5/cygwin_nt-10.0/3.4.5/x86_64/perl/5.39.5/x86_64-cygwin-thread-quadmath/local/lib/site_perl
/opt/perl5/cygwin_nt-10.0/3.4.5/x86_64/perl/5.39.5/x86_64-cygwin-thread-quadmath/local/lib
/opt/perl5/cygwin_nt-10.0/3.4.5/x86_64/perl/5.39.5/x86_64-cygwin-thread-quadmath/lib/site_perl/5.39.5/x86_64-cygwin-thread-quadmath
/opt/perl5/cygwin_nt-10.0/3.4.5/x86_64/perl/5.39.5/x86_64-cygwin-thread-quadmath/lib/site_perl/5.39.5
/opt/perl5/cygwin_nt-10.0/3.4.5/x86_64/perl/5.39.5/x86_64-cygwin-thread-quadmath/lib/5.39.5/x86_64-cygwin-thread-quadmath
/opt/perl5/cygwin_nt-10.0/3.4.5/x86_64/perl/5.39.5/x86_64-cygwin-thread-quadmath/lib/5.39.5
.