Back
From: metabase:user:e7b34f46-36ca-11e0-a826-945c7ca43f85
Subject: PASS DBIx-Skinny-0.0742 v5.10.1 FreeBSD
Date: 2011-10-17T11:40:23Z
This distribution has been tested as part of the CPAN Testers
project, supporting the Perl programming language. See
http://wiki.cpantesters.org/ for more information or email
questions to cpan-testers-discuss@perl.org
--
Dear Atsushi Kobayashi,
This is a computer-generated report for DBIx-Skinny-0.0742
on perl 5.10.1, created by CPAN-Reporter-1.1902.
Thank you for uploading your work to CPAN. Congratulations!
All tests were successful.
Sections of this report:
* Tester comments
* Program output
* Prerequisites
* Environment and other context
------------------------------
TESTER COMMENTS
------------------------------
Additional comments from tester:
this report is from an automated smoke testing program
and was not reviewed by a human for accuracy
------------------------------
PROGRAM OUTPUT
------------------------------
Output from '/usr/bin/make test':
PERL_DL_NONLAZY=1 /usr/local/bin/perl "-MExtUtils::Command::MM" "-e" "test_harness(0, 'inc', 'blib/lib', 'blib/arch')" t/*.t t/*/*.t t/*/*/*.t
# DBD::SQLite versin is 1.34_01
t/001_basic/001_compile.t ............................................... ok
t/001_basic/002_schema_info.t ........................................... ok
t/001_basic/003_explicit_schema.t ....................................... ok
t/001_basic/004_sql.t ................................................... ok
t/001_basic/005_set_columns.t ........................................... ok
t/001_basic/006_all_in_one_file.t ....................................... ok
t/001_basic/007_connect_info.t .......................................... ok
t/001_basic/008_mixin.t ................................................. ok
t/001_basic/009_no_check_schema.t ....................................... ok
t/001_basic/010_dbh.t ................................................... ok
t/001_basic/011_inflate.t ............................................... ok
t/001_basic/012_trigger.t ............................................... ok
t/001_basic/013_common_trigger.t ........................................ ok
t/001_basic/014_utf8.t .................................................. ok
t/001_basic/015_row_class.t ............................................. ok
t/001_basic/016_row_exception.t ......................................... ok
t/001_basic/017_profile.t ............................................... ok
t/001_basic/018_custom_profiler.t ....................................... ok
t/001_basic/019_profiler_trace.t ........................................ ok
t/001_basic/020_on_connect_do.t ......................................... ok
t/001_basic/021_reconnect.t ............................................. ok
t/001_basic/022_transaction.t ........................................... ok
t/001_basic/023_bulk_insert.t ........................................... ok
t/001_basic/024_bind_column.t ........................................... ok
t/002_common/000_new.t .................................................. ok
t/002_common/001_insert.t ............................................... ok
t/002_common/002_update.t ............................................... ok
t/002_common/003_delete.t ............................................... ok
t/002_common/004_find_or_create.t ....................................... ok
t/002_common/005_count.t ................................................ ok
t/002_common/006_single.t ............................................... ok
t/002_common/007_search.t ............................................... ok
t/002_common/008_search_named.t ......................................... ok
t/002_common/009_search_by_sql.t ........................................ ok
t/002_common/010_resultset.t ............................................ ok
t/002_common/011_do.t ................................................... ok
t/002_common/012_replace.t .............................................. ok
t/002_common/014_find_or_new.t .......................................... ok
t/002_common/015_data2row.t ............................................. ok
t/002_common/016_hash_to_row.t .......................................... ok
t/002_common/017_iterator.t ............................................. ok
t/002_common/018_refetch.t .............................................. ok
t/002_common/019_get_columns.t .......................................... ok
t/002_common/020_get_column.t ........................................... ok
t/002_common/021_quote.t ................................................ ok
t/002_common/022_disconnect.t ........................................... ok
t/002_common/023_multi_pk.t ............................................. ok
t/002_common/024_txn_scope.t ............................................ ok
t/002_common/999_delete_by_sql.t ........................................ ok
t/002_common/999_update_by_sql.t ........................................ ok
t/500_deprecated/001_deprecated_setup.t ................................. ok
t/500_deprecated/002_deprecated_profiler.t .............................. ok
t/999_regression/bind_param.t ........................................... ok
t/999_regression/data2itr_objectarray.t ................................. ok
t/999_regression/dbh_and_txn_manager.t .................................. ok
t/999_regression/deflate_bug.t .......................................... ok
t/999_regression/deflate_scalarref.t .................................... ok
t/999_regression/duplicate_update.t ..................................... ok
t/999_regression/empty_update.t ......................................... ok
t/999_regression/get_row_class.t ........................................ ok
t/999_regression/guess_table_name.t ..................................... ok
t/999_regression/loose_connect_options_after_new.t ...................... ok
t/999_regression/new_attr.t ............................................. ok
t/999_regression/no_schema.t ............................................ ok
t/999_regression/prepare_error_handling.t ............................... ok
t/999_regression/row_update_by_scalarref.t .............................. ok
t/999_regression/transaction/call_txn_scope_after_fork.t ................ ok
t/999_regression/transaction/call_txn_scope_after_missing_connect.t ..... ok
t/999_regression/transaction/call_txn_scope_and_fork.t .................. ok
t/999_regression/transaction/call_txn_scope_before_fork.t ............... ok
t/999_regression/transaction/call_txn_scope_before_fork_and_rollback.t .. ok
t/999_regression/where_condition_in.t ................................... ok
All tests successful.
Files=72, Tests=280, 10 wallclock secs ( 0.82 usr 0.66 sys + 7.05 cusr 1.84 csys = 10.37 CPU)
Result: PASS
------------------------------
PREREQUISITES
------------------------------
Prerequisite modules loaded:
requires:
Module Need Have
------------------------ ---- -------
Carp 0 1.23
Class::Accessor::Lite 0 0.05
Class::Load 0 0.11
DBI 0 1.616
DBIx::TransactionManager 1.07 1.09
IO::Handle 0 1.28
Scalar::Util 0 1.23
Try::Tiny 0 0.11
UNIVERSAL::require 0 0.13
build_requires:
Module Need Have
------------------------ ---- -------
ExtUtils::MakeMaker 6.42 6.61_01
Test::More 0.96 0.98
Test::SharedFork 0.15 0.18
configure_requires:
Module Need Have
------------------------ ---- -------
ExtUtils::MakeMaker 6.42 6.61_01
------------------------------
ENVIRONMENT AND OTHER CONTEXT
------------------------------
Environment variables:
AUTOMATED_TESTING = 1
LD_LIBRARY_PATH = /home/tom/local/lib:
PATH = /home/tom/perl5/bin:/home/tom/etc/cpan/bin:/home/tom/local/bin:/sbin:/bin:/usr/sbin:/usr/bin:/usr/games:/usr/local/sbin:/usr/local/bin:/home/tom/bin
PERL5LIB = /home/tom/perl5/lib/perl5/amd64-freebsd:/home/tom/perl5/lib/perl5
PERL5OPT =
PERL5_CPANPLUS_IS_RUNNING = 88531
PERL5_CPAN_IS_RUNNING = 88531
PERL5_CPAN_IS_RUNNING_IN_RECURSION = 1004,88531
PERL_CR_SMOKER_CURRENT = DBIx-Skinny-Pager-0.11
PERL_EXTUTILS_AUTOINSTALL = --defaultdeps
PERL_LOCAL_LIB_ROOT = /home/tom/perl5
PERL_MB_OPT = --install_base /home/tom/perl5
PERL_MM_OPT = INSTALL_BASE=/home/tom/perl5
PERL_MM_USE_DEFAULT = 1
SHELL = /usr/local/bin/bash
TERM = cons25
Perl special variables (and OS-specific diagnostics, for MSWin32):
$^X = /usr/local/bin/perl
$UID/$EUID = 1001 / 1001
$GID = 1001 1001 0 5
$EGID = 1001 1001 0 5
Perl module toolchain versions installed:
Module Have
------------------- --------
CPAN 1.9600
Cwd 3.33
ExtUtils::CBuilder 0.280202
ExtUtils::Command 1.17
ExtUtils::Install 1.54
ExtUtils::MakeMaker 6.61_01
ExtUtils::Manifest 1.58
ExtUtils::ParseXS 3.05
File::Spec 3.33
Module::Build 0.39_01
Module::Signature 0.66
Test::Harness 3.23
Test::More 0.98
YAML 0.77
YAML::Syck 1.17
version 0.93
--
Summary of my perl5 (revision 5 version 10 subversion 1) configuration:
Platform:
osname=freebsd, osvers=8.0-release-p2, archname=amd64-freebsd
uname='freebsd freebsd.org 8.0-release-p2 freebsd 8.0-release-p2 #0: mon nov 8 01:52:51 pst 2010 kris@freebsd.org:usrsrcsysmagickernelpath amd64 '
config_args='-sde -Dprefix=/usr/local -Darchlib=/usr/local/lib/perl5/5.10.1/mach -Dprivlib=/usr/local/lib/perl5/5.10.1 -Dman3dir=/usr/local/lib/perl5/5.10.1/perl/man/man3 -Dman1dir=/usr/local/man/man1 -Dsitearch=/usr/local/lib/perl5/site_perl/5.10.1/mach -Dsitelib=/usr/local/lib/perl5/site_perl/5.10.1 -Dscriptdir=/usr/local/bin -Dsiteman3dir=/usr/local/lib/perl5/5.10.1/man/man3 -Dsiteman1dir=/usr/local/man/man1 -Ui_malloc -Ui_iconv -Uinstallusrbinperl -Dcc=cc -Duseshrplib -Dinc_version_list=none -Dccflags=-DAPPLLIB_EXP="/usr/local/lib/perl5/5.10.1/BSDPAN" -Doptimize=-O2 -pipe -fno-strict-aliasing -Ud_dosuid -Ui_gdbm -Dusethreads=n -Dusemymalloc=n -Duse64bitint'
hint=recommended, useposix=true, d_sigaction=define
useithreads=undef, usemultiplicity=undef
useperlio=define, d_sfio=undef, uselargefiles=define, usesocks=undef
use64bitint=define, use64bitall=define, uselongdouble=undef
usemymalloc=n, bincompat5005=undef
Compiler:
cc='cc', ccflags ='-DAPPLLIB_EXP="/usr/local/lib/perl5/5.10.1/BSDPAN" -DHAS_FPSETMASK -DHAS_FLOATINGPOINT_H -fno-strict-aliasing -pipe -fstack-protector -I/usr/local/include',
optimize='-O2 -pipe -fno-strict-aliasing',
cppflags='-DAPPLLIB_EXP="/usr/local/lib/perl5/5.10.1/BSDPAN" -DHAS_FPSETMASK -DHAS_FLOATINGPOINT_H -fno-strict-aliasing -pipe -fstack-protector -I/usr/local/include'
ccversion='', gccversion='4.2.1 20070719 [FreeBSD]', gccosandvers=''
intsize=4, longsize=8, ptrsize=8, doublesize=8, byteorder=12345678
d_longlong=define, longlongsize=8, d_longdbl=define, longdblsize=16
ivtype='long', ivsize=8, nvtype='double', nvsize=8, Off_t='off_t', lseeksize=8
alignbytes=8, prototype=define
Linker and Libraries:
ld='cc', ldflags =' -Wl,-E -fstack-protector -L/usr/local/lib'
libpth=/usr/lib /usr/local/lib
libs=-lm -lcrypt -lutil
perllibs=-lm -lcrypt -lutil
libc=, so=so, useshrplib=true, libperl=libperl.so
gnulibc_version=''
Dynamic Linking:
dlsrc=dl_dlopen.xs, dlext=so, d_dlsymun=undef, ccdlflags=' -Wl,-R/usr/local/lib/perl5/5.10.1/mach/CORE'
cccdlflags='-DPIC -fPIC', lddlflags='-shared -L/usr/local/lib -fstack-protector'
Characteristics of this binary (from libperl):
Compile-time options: PERL_DONT_CREATE_GVSV PERL_MALLOC_WRAP USE_64_BIT_ALL
USE_64_BIT_INT USE_LARGE_FILES USE_PERLIO
Built under freebsd
Compiled at Nov 8 2010 09:55:01
%ENV:
PERL5LIB="/home/tom/perl5/lib/perl5/amd64-freebsd:/home/tom/perl5/lib/perl5"
PERL5OPT=""
PERL5_CPANPLUS_IS_RUNNING="88531"
PERL5_CPAN_IS_RUNNING="88531"
PERL5_CPAN_IS_RUNNING_IN_RECURSION="1004,88531"
PERL_CR_SMOKER_CURRENT="DBIx-Skinny-Pager-0.11"
PERL_EXTUTILS_AUTOINSTALL="--defaultdeps"
PERL_LOCAL_LIB_ROOT="/home/tom/perl5"
PERL_MB_OPT="--install_base /home/tom/perl5"
PERL_MM_OPT="INSTALL_BASE=/home/tom/perl5"
PERL_MM_USE_DEFAULT="1"
@INC:
/home/tom/perl5/lib/perl5/amd64-freebsd
/home/tom/perl5/lib/perl5/amd64-freebsd
/home/tom/perl5/lib/perl5
/usr/local/lib/perl5/5.10.1/BSDPAN
/usr/local/lib/perl5/site_perl/5.10.1/mach
/usr/local/lib/perl5/site_perl/5.10.1
/usr/local/lib/perl5/5.10.1/mach
/usr/local/lib/perl5/5.10.1
.