Back
From: metabase:user:30f0bd62-2aae-11df-837a-5e0a49663a4f
Subject: PASS POE-Component-SSLify-1.008 v5.12.5 MirOS BSD
Date: 2013-01-01T18:19:37Z
This distribution has been tested as part of the CPAN Testers
project, supporting the Perl programming language. See
http://wiki.cpantesters.org/ for more information or email
questions to cpan-testers-discuss@perl.org
--
Dear Apocalypse,
This is a computer-generated report for POE-Component-SSLify-1.008
on perl 5.12.5, created by CPAN-Reporter-1.2009.
Thank you for uploading your work to CPAN. Congratulations!
All tests were successful.
Sections of this report:
* Tester comments
* Program output
* Prerequisites
* Environment and other context
------------------------------
TESTER COMMENTS
------------------------------
Additional comments from tester:
this report is from an automated smoke testing program
and was not reviewed by a human for accuracy
------------------------------
PROGRAM OUTPUT
------------------------------
Output from './Build test':
t/00-compile.t ................ ok
#
#
# Generated by Dist::Zilla::Plugin::ReportVersions::Tiny v1.03
# perl: v5.12.5 (wanted 5.006) on mirbsd from /home/sts/cpansmoke/perl-5.12.5/bin/perl
#
# Exporter => 5.64_01 (want any version)
# File::Find => 1.15 (want any version)
# File::Temp => 0.22 (want any version)
# IO::Handle => 1.28 (want 1.28)
# Module::Build => 0.3603 (want 0.3601)
# Net::SSLeay => 1.51 (want 1.36)
# POE => 1.354 (want 1.267)
# POE::Component::Client::TCP => 1.354 (want any version)
# POE::Component::Server::TCP => 1.354 (want any version)
# Scalar::Util => 1.22 (want any version)
# Socket => 1.87_01 (want any version)
# Symbol => 1.07 (want any version)
# Task::Weaken => 1.04 (want 1.03)
# Test::More => 0.98 (want 0.88)
# parent => 0.223 (want any version)
#
# Thanks for using my code. I hope it works for you.
# If not, please try and include this output in the bug report.
# That will help me reproduce the issue and solve your problem.
#
t/000-report-versions-tiny.t .. ok
t/1_simple.t .................. ok
t/2_renegotiate_client.t ...... ok
t/3_upgrade.t ................. ok
t/4_connect_hook.t ............ ok
t/5_connfail_client.t ......... ok
t/6_connfail_server.t ......... ok
t/7_connect_hook_nodata.t ..... ok
t/8_renegotiate_server.t ...... ok
t/98_renegotiate.t ............ skipped: AUTHOR TEST
t/99_mire_test.t .............. skipped: AUTHOR TEST
t/apocalypse.t ................ skipped: Test::Apocalypse required for validating the distribution
All tests successful.
Files=13, Tests=131, 11 wallclock secs ( 0.10 usr 0.08 sys + 3.39 cusr 0.60 csys = 4.17 CPU)
Result: PASS
------------------------------
PREREQUISITES
------------------------------
Prerequisite modules loaded:
requires:
Module Need Have
--------------------------- ------ --------
Exporter 0 5.64_01
IO::Handle 1.28 1.28
Net::SSLeay 1.36 1.51
parent 0 0.223
perl 5.006 5.012005
POE 0 1.354
Scalar::Util 0 1.22
Symbol 0 1.07
Task::Weaken 1.03 1.04
build_requires:
Module Need Have
--------------------------- ------ --------
File::Find 0 1.15
File::Temp 0 0.22
Module::Build 0.3601 0.3603
POE 1.267 1.354
POE::Component::Client::TCP 0 1.354
POE::Component::Server::TCP 0 1.354
Socket 0 1.87_01
Test::More 0.88 0.98
configure_requires:
Module Need Have
--------------------------- ------ --------
Module::Build 0.3601 0.3603
------------------------------
ENVIRONMENT AND OTHER CONTEXT
------------------------------
Environment variables:
AUTOMATED_TESTING = 1
LC_CTYPE = en_US.UTF-8
PATH = /home/sts/bin:/home/sts/.etc/bin:/usr/local/bin:/usr/mpkg/bin:/usr/bin:/bin:/usr/X11R6/bin:/usr/sbin:/sbin:/usr/mpkg/sbin:/usr/games
PERL5LIB = /home/sts/cpansmoke/perl-5.12.5/cpan/build/Task-Weaken-1.04-qOQAQY/blib/arch:/home/sts/cpansmoke/perl-5.12.5/cpan/build/Task-Weaken-1.04-qOQAQY/blib/lib:/home/sts/cpansmoke/perl-5.12.5/cpan/build/POE-1.354-RWhv9l/blib/arch:/home/sts/cpansmoke/perl-5.12.5/cpan/build/POE-1.354-RWhv9l/blib/lib:/home/sts/cpansmoke/perl-5.12.5/cpan/build/IO-Tty-1.10-OGRfsc/blib/arch:/home/sts/cpansmoke/perl-5.12.5/cpan/build/IO-Tty-1.10-OGRfsc/blib/lib:/home/sts/cpansmoke/perl-5.12.5/cpan/build/POE-Test-Loops-1.351-g5vtoc/blib/arch:/home/sts/cpansmoke/perl-5.12.5/cpan/build/POE-Test-Loops-1.351-g5vtoc/blib/lib
PERL5OPT =
PERL5_CPANPLUS_IS_RUNNING = 11102
PERL5_CPAN_IS_RUNNING = 11102
PERL5_CPAN_IS_RUNNING_IN_RECURSION = 14756,11102
PERL_CR_SMOKER_CURRENT = Net-Gmail-IMAP-Label-0.006
PERL_EXTUTILS_AUTOINSTALL = --defaultdeps
PERL_MM_USE_DEFAULT = 1
SHELL = /bin/mksh
TERM = screen
TMPDIR = /home/sts/cpansmoke/tmp
Perl special variables (and OS-specific diagnostics, for MSWin32):
$^X = /home/sts/cpansmoke/perl-5.12.5/bin/perl
$UID/$EUID = 3000 / 3000
$GID = 3000 3000 0 9 20
$EGID = 3000 3000 0 9 20
Perl module toolchain versions installed:
Module Have
------------------- -------
CPAN 1.9800
CPAN::Meta n/a
Cwd 3.31
ExtUtils::CBuilder 0.27
ExtUtils::Command 1.16
ExtUtils::Install 1.55
ExtUtils::MakeMaker 6.56
ExtUtils::Manifest 1.57
ExtUtils::ParseXS 2.21
File::Spec 3.31_01
JSON 2.53
JSON::PP n/a
Module::Build 0.3603
Module::Signature n/a
Parse::CPAN::Meta 1.40
Test::Harness 3.17
Test::More 0.98
YAML n/a
YAML::Syck n/a
version 0.82
--
Summary of my perl5 (revision 5 version 12 subversion 5) configuration:
Platform:
osname=mirbsd, osvers=10, archname=MirBSD.i386-mirbsd-thread-multi
uname='mirbsd cpansmoke8 10 kv#10uaf-20110818 generic#1330 i386 '
config_args='-des -Dusethreads -Dprefix=/home/sts/cpansmoke/perl-5.12.5'
hint=recommended, useposix=true, d_sigaction=define
useithreads=define, usemultiplicity=define
useperlio=define, d_sfio=undef, uselargefiles=define, usesocks=undef
use64bitint=undef, use64bitall=undef, uselongdouble=undef
usemymalloc=n, bincompat5005=undef
Compiler:
cc='mgcc', ccflags ='-pthread -fhonour-copts -I/usr/mpkg/include -I/usr/local/include',
optimize='-O2',
cppflags='-fhonour-copts -I/usr/mpkg/include -pthread -fhonour-copts -I/usr/mpkg/include -I/usr/local/include'
ccversion='', gccversion='3.4.6 (propolice; gpc; MirOS 0AAB)', gccosandvers='mirbsd10'
intsize=4, longsize=4, ptrsize=4, doublesize=8, byteorder=1234
d_longlong=define, longlongsize=8, d_longdbl=define, longdblsize=12
ivtype='long', ivsize=4, nvtype='double', nvsize=8, Off_t='off_t', lseeksize=8
alignbytes=4, prototype=define
Linker and Libraries:
ld='mgcc', ldflags ='-pthread -Wl,-E -L/usr/mpkg/lib -L/usr/local/lib'
libpth=/usr/mpkg/lib /usr/local/lib /usr/lib
libs=-lm -lutil -lc
perllibs=-lm -lutil -lc
libc=/usr/lib/libc.so.41.9, so=so, useshrplib=false, libperl=libperl.a
gnulibc_version=''
Dynamic Linking:
dlsrc=dl_dlopen.xs, dlext=so, d_dlsymun=undef, ccdlflags=' '
cccdlflags='-DPIC -fPIC ', lddlflags='-shared -fPIC -L/usr/mpkg/lib -L/usr/local/lib'
Characteristics of this binary (from libperl):
Compile-time options: MULTIPLICITY PERL_DONT_CREATE_GVSV
PERL_IMPLICIT_CONTEXT PERL_MALLOC_WRAP USE_ITHREADS
USE_LARGE_FILES USE_PERLIO USE_PERL_ATOF
USE_REENTRANT_API
Built under mirbsd
Compiled at Dec 30 2012 17:50:55
%ENV:
PERL5LIB="/home/sts/cpansmoke/perl-5.12.5/cpan/build/Task-Weaken-1.04-qOQAQY/blib/arch:/home/sts/cpansmoke/perl-5.12.5/cpan/build/Task-Weaken-1.04-qOQAQY/blib/lib:/home/sts/cpansmoke/perl-5.12.5/cpan/build/POE-1.354-RWhv9l/blib/arch:/home/sts/cpansmoke/perl-5.12.5/cpan/build/POE-1.354-RWhv9l/blib/lib:/home/sts/cpansmoke/perl-5.12.5/cpan/build/IO-Tty-1.10-OGRfsc/blib/arch:/home/sts/cpansmoke/perl-5.12.5/cpan/build/IO-Tty-1.10-OGRfsc/blib/lib:/home/sts/cpansmoke/perl-5.12.5/cpan/build/POE-Test-Loops-1.351-g5vtoc/blib/arch:/home/sts/cpansmoke/perl-5.12.5/cpan/build/POE-Test-Loops-1.351-g5vtoc/blib/lib"
PERL5OPT=""
PERL5_CPANPLUS_IS_RUNNING="11102"
PERL5_CPAN_IS_RUNNING="11102"
PERL5_CPAN_IS_RUNNING_IN_RECURSION="14756,11102"
PERL_CR_SMOKER_CURRENT="Net-Gmail-IMAP-Label-0.006"
PERL_EXTUTILS_AUTOINSTALL="--defaultdeps"
PERL_MM_USE_DEFAULT="1"
@INC:
/home/sts/cpansmoke/perl-5.12.5/cpan/build/Task-Weaken-1.04-qOQAQY/blib/arch
/home/sts/cpansmoke/perl-5.12.5/cpan/build/Task-Weaken-1.04-qOQAQY/blib/lib
/home/sts/cpansmoke/perl-5.12.5/cpan/build/POE-1.354-RWhv9l/blib/arch
/home/sts/cpansmoke/perl-5.12.5/cpan/build/POE-1.354-RWhv9l/blib/lib
/home/sts/cpansmoke/perl-5.12.5/cpan/build/IO-Tty-1.10-OGRfsc/blib/arch
/home/sts/cpansmoke/perl-5.12.5/cpan/build/IO-Tty-1.10-OGRfsc/blib/lib
/home/sts/cpansmoke/perl-5.12.5/cpan/build/POE-Test-Loops-1.351-g5vtoc/blib/arch
/home/sts/cpansmoke/perl-5.12.5/cpan/build/POE-Test-Loops-1.351-g5vtoc/blib/lib
/home/sts/cpansmoke/perl-5.12.5/lib/site_perl/5.12.5/MirBSD.i386-mirbsd-thread-multi
/home/sts/cpansmoke/perl-5.12.5/lib/site_perl/5.12.5
/home/sts/cpansmoke/perl-5.12.5/lib/5.12.5/MirBSD.i386-mirbsd-thread-multi
/home/sts/cpansmoke/perl-5.12.5/lib/5.12.5
.