Scalar-List-Utils v1.69 Perl 5 v5.40.0 darwin-2level

Status
Pass
From
Burak Gursoy
Dist
Scalar-List-Utils v1.69
Platform
Perl 5 v5.40.0 darwin-2level
Date
2025-04-08 21:52:43
ID
cd03702c-14c3-11f0-a3aa-db2186c8e9d7
This distribution has been tested as part of the CPAN Testers
project, supporting the Perl programming language.  See
http://wiki.cpantesters.org/ for more information or email
questions to cpan-testers-discuss@perl.org


--
Dear Paul Evans,

This is a computer-generated report for Scalar-List-Utils-1.69
on perl 5.40.0, created by CPAN-Reporter-1.2020.

Thank you for uploading your work to CPAN.  Congratulations!
All tests were successful.

Sections of this report:

    * Tester comments
    * Program output
    * Prerequisites
    * Environment and other context

------------------------------
TESTER COMMENTS
------------------------------

Additional comments from tester:

none provided

------------------------------
PROGRAM OUTPUT
------------------------------

Output from '/usr/bin/make test':

"/Users/burak/.plenv/versions/5.40.0/bin/perl5.40.0" -MExtUtils::Command::MM -e 'cp_nonempty' -- Util.bs blib/arch/auto/List/Util/Util.bs 644
PERL_DL_NONLAZY=1 "/Users/burak/.plenv/versions/5.40.0/bin/perl5.40.0" "-MExtUtils::Command::MM" "-MTest::Harness" "-e" "undef *Test::Harness::Switches; test_harness(0, 'blib/lib', 'blib/arch')" t/*.t
t/00version.t ......... ok
t/any-all.t ........... ok
t/blessed.t ........... ok
t/dualvar.t ........... ok
t/exotic_names.t ...... ok
t/first.t ............. ok
t/getmagic-once.t ..... ok
t/head-tail.t ......... ok
t/isvstring.t ......... ok
t/lln.t ............... ok
t/max.t ............... ok
t/maxstr.t ............ ok
t/mesh.t .............. ok
t/min.t ............... ok
t/minstr.t ............ ok
t/openhan.t ........... ok
t/pair.t .............. ok
t/product.t ........... ok
t/prototype.t ......... ok
t/readonly.t .......... ok
t/reduce.t ............ ok
t/reductions.t ........ ok
t/refaddr.t ........... ok
t/reftype.t ........... ok
t/rt-96343.t .......... ok
t/sample.t ............ ok
t/scalarutil-proto.t .. ok
t/shuffle.t ........... ok
t/stack-corruption.t .. ok
t/subname.t ........... ok
t/sum.t ............... ok
t/sum0.t .............. ok
t/tainted.t ........... ok
t/undefined-block.t ... ok
t/uniq.t .............. ok
t/uniqnum.t ........... ok
t/weak.t .............. ok
t/zip.t ............... ok
All tests successful.
Files=38, Tests=2160,  1 wallclock secs ( 0.06 usr  0.03 sys +  0.83 cusr  0.14 csys =  1.06 CPU)
Result: PASS

------------------------------
PREREQUISITES
------------------------------

Prerequisite modules loaded:

requires:

    Module              Need  Have    
    ------------------- ----- --------
    perl                5.006 5.040000

build_requires:

    Module              Need  Have    
    ------------------- ----- --------
    ExtUtils::MakeMaker 0     7.72    
    Test::More          0     1.302209

configure_requires:

    Module              Need  Have    
    ------------------- ----- --------
    ExtUtils::MakeMaker 0     7.72    


------------------------------
ENVIRONMENT AND OTHER CONTEXT
------------------------------

Environment variables:

    LANG = en_US.UTF-8
    LC_CTYPE = UTF-8
    PATH = /Users/burak/.plenv/versions/5.40.0/bin:/Users/burak/.plenv/libexec:/Users/burak/.plenv/plugins/perl-build/bin:/Users/burak/.plenv/shims:/Users/burak/.plenv/bin:/Users/burak/bin:/Users/burak/Library/Python/3.9/bin:/opt/homebrew/bin:/opt/homebrew/sbin:/usr/local/bin:/System/Cryptexes/App/usr/bin:/usr/bin:/bin:/usr/sbin:/sbin:/var/run/com.apple.security.cryptexd/codex.system/bootstrap/usr/local/bin:/var/run/com.apple.security.cryptexd/codex.system/bootstrap/usr/bin:/var/run/com.apple.security.cryptexd/codex.system/bootstrap/usr/appleinternal/bin:/Library/Apple/usr/bin:/Library/TeX/texbin:/opt/homebrew/Cellar/rakudo/2024.09/share/perl6/site/bin
    PERL5LIB = 
    PERL5OPT = 
    PERL5_CPANPLUS_IS_RUNNING = 15500
    PERL5_CPAN_IS_RUNNING = 15500
    PERL_USE_UNSAFE_INC = 1
    SHELL = /bin/sh
    TERM = xterm-256color

Perl special variables (and OS-specific diagnostics, for MSWin32):

    $^X = /Users/burak/.plenv/versions/5.40.0/bin/perl5.40.0
    $UID/$EUID = 0 / 0
    $GID = 0 0 1 2 3 4 5 8 9 12 20 29 61 80 701 33 98
    $EGID = 0 0 1 2 3 4 5 8 9 12 20 29 61 80 701 33 98

Perl module toolchain versions installed:

    Module              Have    
    ------------------- --------
    CPAN                2.38    
    CPAN::Meta          2.150010
    Cwd                 3.90    
    ExtUtils::CBuilder  0.280240
    ExtUtils::Command   7.72    
    ExtUtils::Install   2.22    
    ExtUtils::MakeMaker 7.72    
    ExtUtils::Manifest  1.75    
    ExtUtils::ParseXS   3.51    
    File::Spec          3.90    
    JSON                4.10    
    JSON::PP            4.16    
    Module::Build       0.4234  
    Module::Signature   n/a     
    Parse::CPAN::Meta   2.150010
    Test2               1.302209
    Test::Harness       3.50    
    Test::More          1.302209
    YAML                n/a     
    YAML::Syck          n/a     
    version             0.9933  


--

Summary of my perl5 (revision 5 version 40 subversion 0) configuration:
   
  Platform:
    osname=darwin
    osvers=23.5.0
    archname=darwin-2level
    uname='darwin galador.local 23.5.0 darwin kernel version 23.5.0: wed may 1 20:14:38 pdt 2024; root:xnu-10063.121.3~5release_arm64_t6020 arm64 '
    config_args='-Dprefix=/Users/burak/.plenv/versions/5.40.0 -de -Dversiononly -A'eval:scriptdir=/Users/burak/.plenv/versions/5.40.0/bin''
    hint=recommended
    useposix=true
    d_sigaction=define
    useithreads=undef
    usemultiplicity=undef
    use64bitint=define
    use64bitall=define
    uselongdouble=undef
    usemymalloc=n
    default_inc_excludes_dot=define
  Compiler:
    cc='cc'
    ccflags ='-fno-common -DPERL_DARWIN -mmacosx-version-min=14.5 -DNO_THREAD_SAFE_QUERYLOCALE -DNO_POSIX_2008_LOCALE -fno-strict-aliasing -pipe -fstack-protector-strong'
    optimize='-O3'
    cppflags='-fno-common -DPERL_DARWIN -mmacosx-version-min=14.5 -DNO_THREAD_SAFE_QUERYLOCALE -DNO_POSIX_2008_LOCALE -fno-strict-aliasing -pipe -fstack-protector-strong'
    ccversion=''
    gccversion='Apple LLVM 15.0.0 (clang-1500.1.0.2.5)'
    gccosandvers=''
    intsize=4
    longsize=8
    ptrsize=8
    doublesize=8
    byteorder=12345678
    doublekind=3
    d_longlong=define
    longlongsize=8
    d_longdbl=define
    longdblsize=8
    longdblkind=0
    ivtype='long'
    ivsize=8
    nvtype='double'
    nvsize=8
    Off_t='off_t'
    lseeksize=8
    alignbytes=8
    prototype=define
  Linker and Libraries:
    ld='cc'
    ldflags =' -mmacosx-version-min=14.5 -fstack-protector-strong'
    libpth=/Applications/Xcode.app/Contents/Developer/Toolchains/XcodeDefault.xctoolchain/usr/lib/clang/15.0.0/lib /Applications/Xcode.app/Contents/Developer/Platforms/MacOSX.platform/Developer/SDKs/MacOSX.sdk/usr/lib /Applications/Xcode.app/Contents/Developer/Toolchains/XcodeDefault.xctoolchain/usr/lib /usr/lib
    libs= 
    perllibs=
    libc=
    so=dylib
    useshrplib=false
    libperl=libperl.a
    gnulibc_version=''
  Dynamic Linking:
    dlsrc=dl_dlopen.xs
    dlext=bundle
    d_dlsymun=undef
    ccdlflags=' '
    cccdlflags=' '
    lddlflags=' -mmacosx-version-min=14.5 -bundle -undefined dynamic_lookup -fstack-protector-strong'


Characteristics of this binary (from libperl): 
  Compile-time options:
    HAS_LONG_DOUBLE
    HAS_STRTOLD
    HAS_TIMES
    PERLIO_LAYERS
    PERL_COPY_ON_WRITE
    PERL_DONT_CREATE_GVSV
    PERL_HASH_FUNC_SIPHASH13
    PERL_HASH_USE_SBOX32
    PERL_MALLOC_WRAP
    PERL_OP_PARENT
    PERL_PRESERVE_IVUV
    PERL_USE_SAFE_PUTENV
    USE_64_BIT_ALL
    USE_64_BIT_INT
    USE_LARGE_FILES
    USE_LOCALE
    USE_LOCALE_COLLATE
    USE_LOCALE_CTYPE
    USE_LOCALE_NUMERIC
    USE_LOCALE_TIME
    USE_PERLIO
    USE_PERL_ATOF
  Built under darwin
  Compiled at Aug 13 2024 00:08:00
  %ENV:
    PERL5LIB=""
    PERL5OPT=""
    PERL5_CPANPLUS_IS_RUNNING="15500"
    PERL5_CPAN_IS_RUNNING="15500"
    PERL_USE_UNSAFE_INC="1"
  @INC:
    /Users/burak/.plenv/versions/5.40.0/lib/perl5/site_perl/5.40.0/darwin-2level
    /Users/burak/.plenv/versions/5.40.0/lib/perl5/site_perl/5.40.0
    /Users/burak/.plenv/versions/5.40.0/lib/perl5/5.40.0/darwin-2level
    /Users/burak/.plenv/versions/5.40.0/lib/perl5/5.40.0
    .