Report for HTML-Format-2.11

Back
From: metabase:user:30f4dfbe-2aae-11df-837a-5e0a49663a4f
Subject: PASS HTML-Format-2.11 v5.20.1 Mac OS X
Date: 2015-02-08T07:19:21Z

This distribution has been tested as part of the CPAN Testers
project, supporting the Perl programming language.  See
http://wiki.cpantesters.org/ for more information or email
questions to cpan-testers-discuss@perl.org


--
Dear Nigel Metheringham,

This is a computer-generated report for HTML-Format-2.11
on perl 5.20.1, created by CPAN-Reporter-1.2011.

Thank you for uploading your work to CPAN.  Congratulations!
All tests were successful.

Sections of this report:

    * Tester comments
    * Program output
    * Prerequisites
    * Environment and other context

------------------------------
TESTER COMMENTS
------------------------------

Additional comments from tester:

this report is from an automated smoke testing program
and was not reviewed by a human for accuracy

------------------------------
PROGRAM OUTPUT
------------------------------

Output from './Build test':

t/00-compile.t ............... ok
# Testing with Perl 5.020001, /Users/hornenj/perl5/perlbrew/perls/perl-5.20.1/bin/perl
#     Carp version is 1.3301
#     Data::Dumper version is 2.154
#     Encode version is 2.67
#     File::Slurp version is 9999.19
#     File::Spec version is 3.48
#     Font::Metrics::Courier version is undefined
#     Font::Metrics::CourierBold version is undefined
#     Font::Metrics::CourierBoldOblique version is undefined
#     Font::Metrics::CourierOblique version is undefined
#     Font::Metrics::Helvetica version is undefined
#     Font::Metrics::HelveticaBold version is undefined
#     Font::Metrics::HelveticaBoldOblique version is undefined
#     Font::Metrics::HelveticaOblique version is undefined
#     Font::Metrics::TimesBold version is undefined
#     Font::Metrics::TimesBoldItalic version is undefined
#     Font::Metrics::TimesItalic version is undefined
#     Font::Metrics::TimesRoman version is undefined
#     HTML::Element version is 5.03
#     HTML::TreeBuilder version is 5.03
#     IO::File version is 1.16
#     IO::Handle version is 1.35
#     IPC::Open3 version is 1.16
#     Module::Build version is 0.4211
#     Scalar::Util version is 1.41
#     Test::More version is 1.001014
#     base version is 2.22
#     bytes version is 1.04
#     integer version is 1.01
#     parent version is 0.228
#     strict version is 1.08
#     utf8 version is 1.13_01
#     warnings version is 1.23
t/000-report-versions.t ...... ok
t/01_ps.t .................... ok
t/02_rtf.t ................... ok
t/03_text.t .................. ok
t/04_md.t .................... ok
t/author-critic.t ............ skipped: these tests are for testing by the author
t/author-pod-spell.t ......... skipped: these tests are for testing by the author
t/release-dist-manifest.t .... skipped: these tests are for release candidate testing
t/release-distmeta.t ......... skipped: these tests are for release candidate testing
t/release-eol.t .............. skipped: these tests are for release candidate testing
t/release-has-version.t ...... skipped: these tests are for release candidate testing
t/release-minimum-version.t .. skipped: these tests are for release candidate testing
t/release-no-tabs.t .......... skipped: these tests are for release candidate testing
t/release-pod-syntax.t ....... skipped: these tests are for release candidate testing
t/release-portability.t ...... skipped: these tests are for release candidate testing
t/release-synopsis.t ......... skipped: these tests are for release candidate testing
t/release-unused-vars.t ...... skipped: these tests are for release candidate testing
t/rt69426.t .................. ok
All tests successful.
Files=19, Tests=103,  1 wallclock secs ( 0.06 usr  0.05 sys +  0.82 cusr  0.15 csys =  1.08 CPU)
Result: PASS

------------------------------
PREREQUISITES
------------------------------

Prerequisite modules loaded:

requires:

    Module                              Need   Have    
    ----------------------------------- ------ --------
    base                                0      2.22    
    Carp                                0      1.3301  
    Data::Dumper                        0      2.154   
    Encode                              0      2.67    
    Font::Metrics::Courier              0      0       
    Font::Metrics::CourierBold          0      0       
    Font::Metrics::CourierBoldOblique   0      0       
    Font::Metrics::CourierOblique       0      0       
    Font::Metrics::Helvetica            0      0       
    Font::Metrics::HelveticaBold        0      0       
    Font::Metrics::HelveticaBoldOblique 0      0       
    Font::Metrics::HelveticaOblique     0      0       
    Font::Metrics::TimesBold            0      0       
    Font::Metrics::TimesBoldItalic      0      0       
    Font::Metrics::TimesItalic          0      0       
    Font::Metrics::TimesRoman           0      0       
    HTML::Element                       3.15   5.03    
    HTML::TreeBuilder                   0      5.03    
    integer                             0      1.01    
    IO::File                            0      1.16    
    parent                              0      0.228   
    perl                                5.008  5.020001
    strict                              0      1.08    
    utf8                                0      1.13_01 
    warnings                            0      1.23    

build_requires:

    Module                              Need   Have    
    ----------------------------------- ------ --------
    bytes                               0      1.04    
    File::Slurp                         0      9999.19 
    File::Spec                          0      3.48    
    IO::Handle                          0      1.35    
    IPC::Open3                          0      1.16    
    Module::Build                       0.3601 0.4211  
    Scalar::Util                        0      1.41    
    Test::More                          0.96   1.001014

configure_requires:

    Module                              Need   Have    
    ----------------------------------- ------ --------
    Module::Build                       0.3601 0.4211  


------------------------------
ENVIRONMENT AND OTHER CONTEXT
------------------------------

Environment variables:

    AUTOMATED_TESTING = 1
    LANG = en_US.UTF-8
    LC_ALL = POSIX
    LD_LIBRARY_PATH = :/net/traces01.be-md.ncbi.nlm.nih.gov/trace_software/vdb/mac/release/x86_64/lib
    PATH = /Users/hornenj/perl5/perlbrew/bin:/Users/hornenj/perl5/perlbrew/perls/perl-5.20.1/bin:/Users/hornenj/perl5/perlbrew/bin:/Users/hornenj/perl5/perlbrew/perls/perl-5.14.2/bin:/Users/hornenj/bin:/sw/lib/perl5/ExtUtils:/sw/bin:/am/ncbiapdata/bin:/usr/bin:/bin:/usr/X11R6/bin:/netopt/ncbi_tools/bin:/usr/local/ncbi/blast/bin:/net/traces01.be-md.ncbi.nlm.nih.gov/trace_software/vdb/mac/release/x86_64/bin
    PERL5LIB = /Users/hornenj/.cpan/build/File-Slurp-9999.19-EzPovR/blib/arch:/Users/hornenj/.cpan/build/File-Slurp-9999.19-EzPovR/blib/lib:/Users/hornenj/.cpan/build/Font-AFM-1.20-pMe0Qx/blib/arch:/Users/hornenj/.cpan/build/Font-AFM-1.20-pMe0Qx/blib/lib:/Users/hornenj/.cpan/build/HTML-Tree-5.03-H3WEVC/blib/arch:/Users/hornenj/.cpan/build/HTML-Tree-5.03-H3WEVC/blib/lib
    PERL5OPT = 
    PERL5_CPANPLUS_IS_RUNNING = 93166
    PERL5_CPAN_IS_RUNNING = 93166
    PERL5_MINISMOKEBOX = 0.58
    PERLBREW_BASHRC_VERSION = 0.69
    PERLBREW_HOME = /Users/hornenj/.perlbrew
    PERLBREW_MANPATH = /Users/hornenj/perl5/perlbrew/perls/perl-5.20.1/man
    PERLBREW_PATH = /Users/hornenj/perl5/perlbrew/bin:/Users/hornenj/perl5/perlbrew/perls/perl-5.20.1/bin
    PERLBREW_PERL = perl-5.20.1
    PERLBREW_ROOT = /Users/hornenj/perl5/perlbrew
    PERLBREW_VERSION = 0.69
    PERL_EXTUTILS_AUTOINSTALL = --defaultdeps
    PERL_MM_USE_DEFAULT = 1
    SHELL = /bin/bash
    TERM = xterm-256color
    TMPDIR = /var/folders/pz/pd7y1qjs6s3cbk170cw50fjc000c61/T/
    VERSIONER_PERL_PREFER_32_BIT = no
    VERSIONER_PERL_VERSION = 5.16
    ac_cv_path_INTLTOOL_PERL = /usr/bin/perl

Perl special variables (and OS-specific diagnostics, for MSWin32):

    $^X = /Users/hornenj/perl5/perlbrew/perls/perl-5.20.1/bin/perl
    $UID/$EUID = 12481 / 12481
    $GID = 14 14 5344 527 241
    $EGID = 14 14 5344 527 241

Perl module toolchain versions installed:

    Module              Have    
    ------------------- --------
    CPAN                2.05    
    CPAN::Meta          2.143240
    Cwd                 3.48    
    ExtUtils::CBuilder  0.280220
    ExtUtils::Command   1.20    
    ExtUtils::Install   2.04    
    ExtUtils::MakeMaker 7.04    
    ExtUtils::Manifest  1.70    
    ExtUtils::ParseXS   3.24    
    File::Spec          3.48    
    JSON                2.90    
    JSON::PP            2.27300 
    Module::Build       0.4211  
    Module::Signature   n/a     
    Parse::CPAN::Meta   1.4414  
    Test::Harness       3.35    
    Test::More          1.001014
    YAML                1.14    
    YAML::Syck          1.29    
    version             0.9909  


--

Summary of my perl5 (revision 5 version 20 subversion 1) configuration:
   
  Platform:
    osname=darwin, osvers=12.5.0, archname=darwin-thread-multi-2level
    uname='darwin ncbimac2008.ncbi.nlm.nih.gov 12.5.0 darwin kernel version 12.5.0: sun sep 29 13:33:47 pdt 2013; root:xnu-2050.48.12~1release_x86_64 x86_64 '
    config_args='-de -Dprefix=/Users/hornenj/perl5/perlbrew/perls/perl-5.20.1 -Duseithreads -Dusemultiplicity -Accflags=-O2 -W -Wformat=2 -Wswitch -Wshadow -Wwrite-strings -Wuninitialized -Wall -pipe -mtune=native -march=native -fomit-frame-pointer -msse2 -msse -mmmx -pedantic -D_FORTIFY_SOURCE=2 -Wpointer-arith -Wstrict-prototypes -fstack-protector -Wstack-protector -Wextra -Wbad-function-cast -Wcast-align -Wcast-qual -Wdisabled-optimization -Wendif-labels -Wfloat-equal -Wformat-nonliteral -Winline -Wmissing-declarations -Wmissing-prototypes -Wnested-externs -Wpointer-arith -Wundef -Wformat-security -fassociative-math -Acc=cc -Aeval:scriptdir=/Users/hornenj/perl5/perlbrew/perls/perl-5.20.1/bin'
    hint=recommended, useposix=true, d_sigaction=define
    useithreads=define, usemultiplicity=define
    use64bitint=define, use64bitall=define, uselongdouble=undef
    usemymalloc=n, bincompat5005=undef
  Compiler:
    cc=' cc', ccflags ='-fno-common -DPERL_DARWIN -O2 -W -Wformat=2 -Wswitch -Wshadow -Wwrite-strings -Wuninitialized -Wall -pipe -mtune=native -march=native -fomit-frame-pointer -msse2 -msse -mmmx -pedantic -D_FORTIFY_SOURCE=2 -Wpointer-arith -Wstrict-prototypes -fstack-protector -Wstack-protector -Wextra -Wbad-function-cast -Wcast-align -Wcast-qual -Wdisabled-optimization -Wendif-labels -Wfloat-equal -Wformat-nonliteral -Winline -Wmissing-declarations -Wmissing-prototypes -Wnested-externs -Wpointer-arith -Wundef -Wformat-security -fassociative-math -fno-strict-aliasing -I/usr/local/include',
    optimize='-O3',
    cppflags='-fno-common -DPERL_DARWIN -O2 -W -Wformat=2 -Wswitch -Wshadow -Wwrite-strings -Wuninitialized -Wall -pipe -mtune=native -march=native -fomit-frame-pointer -msse2 -msse -mmmx -pedantic -D_FORTIFY_SOURCE=2 -Wpointer-arith -Wstrict-prototypes -fstack-protector -Wstack-protector -Wextra -Wbad-function-cast -Wcast-align -Wcast-qual -Wdisabled-optimization -Wendif-labels -Wfloat-equal -Wformat-nonliteral -Winline -Wmissing-declarations -Wmissing-prototypes -Wnested-externs -Wpointer-arith -Wundef -Wformat-security -fassociative-math -fno-strict-aliasing -I/usr/local/include'
    ccversion='', gccversion='4.2.1 Compatible Apple LLVM 4.2 (clang-425.0.24)', gccosandvers=''
    intsize=4, longsize=8, ptrsize=8, doublesize=8, byteorder=12345678
    d_longlong=define, longlongsize=8, d_longdbl=define, longdblsize=16
    ivtype='long', ivsize=8, nvtype='double', nvsize=8, Off_t='off_t', lseeksize=8
    alignbytes=8, prototype=define
  Linker and Libraries:
    ld='env MACOSX_DEPLOYMENT_TARGET=10.3 cc', ldflags =' -fstack-protector -L/usr/local/lib'
    libpth=/usr/local/lib /usr/bin/../lib/clang/4.2/lib /usr/lib
    libs=-ldbm -ldl -lm -lutil -lc
    perllibs=-ldl -lm -lutil -lc
    libc=, so=dylib, useshrplib=false, libperl=libperl.a
    gnulibc_version=''
  Dynamic Linking:
    dlsrc=dl_dlopen.xs, dlext=bundle, d_dlsymun=undef, ccdlflags=' '
    cccdlflags=' ', lddlflags=' -bundle -undefined dynamic_lookup -L/usr/local/lib -fstack-protector'


Characteristics of this binary (from libperl): 
  Compile-time options: HAS_TIMES MULTIPLICITY PERLIO_LAYERS
                        PERL_DONT_CREATE_GVSV
                        PERL_HASH_FUNC_ONE_AT_A_TIME_HARD
                        PERL_IMPLICIT_CONTEXT PERL_MALLOC_WRAP
                        PERL_NEW_COPY_ON_WRITE PERL_PRESERVE_IVUV
                        USE_64_BIT_ALL USE_64_BIT_INT USE_ITHREADS
                        USE_LARGE_FILES USE_LOCALE USE_LOCALE_COLLATE
                        USE_LOCALE_CTYPE USE_LOCALE_NUMERIC USE_PERLIO
                        USE_PERL_ATOF USE_REENTRANT_API
  Built under darwin
  Compiled at Sep 15 2014 09:27:45
  %ENV:
    PERL5LIB="/Users/hornenj/.cpan/build/File-Slurp-9999.19-EzPovR/blib/arch:/Users/hornenj/.cpan/build/File-Slurp-9999.19-EzPovR/blib/lib:/Users/hornenj/.cpan/build/Font-AFM-1.20-pMe0Qx/blib/arch:/Users/hornenj/.cpan/build/Font-AFM-1.20-pMe0Qx/blib/lib:/Users/hornenj/.cpan/build/HTML-Tree-5.03-H3WEVC/blib/arch:/Users/hornenj/.cpan/build/HTML-Tree-5.03-H3WEVC/blib/lib"
    PERL5OPT=""
    PERL5_CPANPLUS_IS_RUNNING="93166"
    PERL5_CPAN_IS_RUNNING="93166"
    PERL5_MINISMOKEBOX="0.58"
    PERLBREW_BASHRC_VERSION="0.69"
    PERLBREW_HOME="/Users/hornenj/.perlbrew"
    PERLBREW_MANPATH="/Users/hornenj/perl5/perlbrew/perls/perl-5.20.1/man"
    PERLBREW_PATH="/Users/hornenj/perl5/perlbrew/bin:/Users/hornenj/perl5/perlbrew/perls/perl-5.20.1/bin"
    PERLBREW_PERL="perl-5.20.1"
    PERLBREW_ROOT="/Users/hornenj/perl5/perlbrew"
    PERLBREW_VERSION="0.69"
    PERL_EXTUTILS_AUTOINSTALL="--defaultdeps"
    PERL_MM_USE_DEFAULT="1"
  @INC:
    /Users/hornenj/.cpan/build/File-Slurp-9999.19-EzPovR/blib/arch
    /Users/hornenj/.cpan/build/File-Slurp-9999.19-EzPovR/blib/lib
    /Users/hornenj/.cpan/build/Font-AFM-1.20-pMe0Qx/blib/arch
    /Users/hornenj/.cpan/build/Font-AFM-1.20-pMe0Qx/blib/lib
    /Users/hornenj/.cpan/build/HTML-Tree-5.03-H3WEVC/blib/arch
    /Users/hornenj/.cpan/build/HTML-Tree-5.03-H3WEVC/blib/lib
    /Users/hornenj/perl5/perlbrew/perls/perl-5.20.1/lib/site_perl/5.20.1/darwin-thread-multi-2level
    /Users/hornenj/perl5/perlbrew/perls/perl-5.20.1/lib/site_perl/5.20.1
    /Users/hornenj/perl5/perlbrew/perls/perl-5.20.1/lib/5.20.1/darwin-thread-multi-2level
    /Users/hornenj/perl5/perlbrew/perls/perl-5.20.1/lib/5.20.1
    .