Back
From: metabase:user:314402c4-2aae-11df-837a-5e0a49663a4f
Subject: PASS App-PerlWatcher-Engine-0.20 v5.18.2 RC4 FreeBSD
Date: 2013-12-30T14:15:14Z
This distribution has been tested as part of the CPAN Testers
project, supporting the Perl programming language. See
http://wiki.cpantesters.org/ for more information or email
questions to cpan-testers-discuss@perl.org
--
Dear Ivan Baidakou,
This is a computer-generated report for App-PerlWatcher-Engine-0.20
on perl 5.18.2, created by CPAN-Reporter-1.2010.
Thank you for uploading your work to CPAN. Congratulations!
All tests were successful.
Sections of this report:
* Tester comments
* Program output
* Prerequisites
* Environment and other context
------------------------------
TESTER COMMENTS
------------------------------
Additional comments from tester:
none provided
------------------------------
PROGRAM OUTPUT
------------------------------
Output from '/usr/bin/make test':
Skip blib/lib/auto/share/dist/App-PerlWatcher-Engine/examples/engine.conf.example (unchanged)
PERL_DL_NONLAZY=1 /usr/perl5.18.2-RC4/bin/perl "-MExtUtils::Command::MM" "-MTest::Harness" "-e" "undef *Test::Harness::Switches; test_harness(0, 'blib/lib', 'blib/arch')" t/*.t
t/000-compile.t .......................... ok
t/001-01-levels.t ........................ ok
t/001-02-shelf.t ......................... ok
t/002-bootstrap.t ........................ ok
t/005-watcher-01-config-merge.t .......... ok
t/005-watcher-02-memory.t ................ ok
t/005-watcher-03-id.t .................... ok
t/011-http-simple.t ...................... ok
t/012-weather-watcher.t .................. ok
t/015-ping-watcher.t ..................... ok
t/020-generic-executor.t ................. ok
t/100-engine-simple.t .................... ok
t/101-engine-with-ping.t ................. ok
t/102-engine-shelf-simple-persistance.t .. ok
t/103-engine-shelf-default-config.t ...... ok
All tests successful.
Files=15, Tests=220, 15 wallclock secs ( 0.05 usr 0.06 sys + 5.72 cusr 2.88 csys = 8.71 CPU)
Result: PASS
------------------------------
PREREQUISITES
------------------------------
Prerequisite modules loaded:
requires:
Module Need Have
------------------------------ -------- --------
aliased 0.31 0.31
AnyEvent 7.04 7.07
AnyEvent::HTTP 2.15 2.15
Class::Load 0.20 0.20
Data::Dump 1.22 1.22
File::ReadBackwards 1.05 1.05
File::ShareDir::ProjectDistDir v0.4.4 0.5.2
IPC::Cmd 0.90 0.90
IPC::Run3 0.045 0.046
List::MoreUtils 0.33 0.33
Moo 1.003000 1.004001
Net::Ping::External 0.13 0.14
Path::Tiny 0.049 0.051
Smart::Comments 1.000004 1.000005
Storable 2.45 2.45
URI 1.60 1.60
XML::XPath 1.13 1.13
build_requires:
Module Need Have
------------------------------ -------- --------
AnyEvent::HTTPD 0.93 0.93
File::Spec 0 3.40
File::Temp 0 0.2304
IO::Handle 0 1.34
IPC::Open3 0 1.13
Test::More 0 1.001002
Test::TCP 1.26 2.02
Test::Warnings 0.013 0.013
configure_requires:
Module Need Have
------------------------------ -------- --------
ExtUtils::MakeMaker 6.72 6.84
File::ShareDir::Install 0.03 0.05
------------------------------
ENVIRONMENT AND OTHER CONTEXT
------------------------------
Environment variables:
DBIC_NO_WARN_BAD_PERL = 1
PATH = /usr/local/bin:/usr/bin:/bin:/usr/local/sbin:/usr/sbin:/sbin:/home/cpansand/bin/freebsd10.0:/home/cpansand/bin/sh:/home/cpansand/bin:/usr/games:/home/cpansand/devel:/home/eserte/src/srezic-misc/scripts
PERL5LIB =
PERL5OPT =
PERL5_CPANPLUS_IS_RUNNING = 21932
PERL5_CPAN_IS_RUNNING = 21932
PERL5_CPAN_IS_RUNNING_IN_RECURSION = 21916,21932
PERLDOC = -MPod::Perldoc::ToTextOverstrike
PERL_BATCH = yes
PERL_CPAN_REPORTER_CONFIG = /var/tmp/cpansmoker-1023/WrDZ64kQCZ_config.ini
PERL_EXTUTILS_AUTOINSTALL = --defaultdeps
PERL_HTML_DISPLAY_CLASS = HTML::Display::Mozilla
SHELL = /usr/local/bin/zsh
TERM = screen
TMPDIR = /var/tmp/cpansmoker-1023
Perl special variables (and OS-specific diagnostics, for MSWin32):
$^X = /usr/perl5.18.2-RC4/bin/perl
$UID/$EUID = 1023 / 1023
$GID = 1023 1023
$EGID = 1023 1023
Perl module toolchain versions installed:
Module Have
------------------- --------
CPAN 2.00
CPAN::Meta 2.133380
Cwd 3.40
ExtUtils::CBuilder 0.280210
ExtUtils::Command 1.17
ExtUtils::Install 1.59
ExtUtils::MakeMaker 6.84
ExtUtils::Manifest 1.63
ExtUtils::ParseXS 3.22
File::Spec 3.40
JSON 2.90
JSON::PP 2.27203
Module::Build 0.4203
Module::Signature n/a
Parse::CPAN::Meta 1.4405
Test::Harness 3.30
Test::More 1.001002
YAML 0.88
YAML::Syck 1.27
version 0.9904
--
Summary of my perl5 (revision 5 version 18 subversion 2) configuration:
Platform:
osname=freebsd, osvers=10.0-rc3, archname=i386-freebsd
uname='freebsd cvrsnica-freebsd-10.herceg.de 10.0-rc3 freebsd 10.0-rc3 #0 r259778: tue dec 24 04:35:46 utc 2013 root@snap.freebsd.org:usrobjusrsrcsysgeneric i386 '
config_args='-ds -e -Dprefix=/usr/perl5.18.2-RC4'
hint=recommended, useposix=true, d_sigaction=define
useithreads=undef, usemultiplicity=undef
useperlio=define, d_sfio=undef, uselargefiles=define, usesocks=undef
use64bitint=undef, use64bitall=undef, uselongdouble=undef
usemymalloc=n, bincompat5005=undef
Compiler:
cc='cc', ccflags ='-DHAS_FPSETMASK -DHAS_FLOATINGPOINT_H -fno-strict-aliasing -pipe -fstack-protector -I/usr/local/include',
optimize='-O',
cppflags='-DHAS_FPSETMASK -DHAS_FLOATINGPOINT_H -fno-strict-aliasing -pipe -fstack-protector -I/usr/local/include'
ccversion='', gccversion='4.2.1 Compatible FreeBSD Clang 3.3 (tags/RELEASE_33/final 183502)', gccosandvers=''
intsize=4, longsize=4, ptrsize=4, doublesize=8, byteorder=1234
d_longlong=define, longlongsize=8, d_longdbl=define, longdblsize=12
ivtype='long', ivsize=4, nvtype='double', nvsize=8, Off_t='off_t', lseeksize=8
alignbytes=4, prototype=define
Linker and Libraries:
ld='cc', ldflags ='-Wl,-E -fstack-protector -L/usr/local/lib'
libpth=/usr/lib /usr/local/lib
libs=-lm -lcrypt -lutil -lc
perllibs=-lm -lcrypt -lutil -lc
libc=, so=so, useshrplib=false, libperl=libperl.a
gnulibc_version=''
Dynamic Linking:
dlsrc=dl_dlopen.xs, dlext=so, d_dlsymun=undef, ccdlflags=' '
cccdlflags='-DPIC -fPIC', lddlflags='-shared -L/usr/local/lib -fstack-protector'
Characteristics of this binary (from libperl):
Compile-time options: HAS_TIMES PERLIO_LAYERS PERL_DONT_CREATE_GVSV
PERL_HASH_FUNC_ONE_AT_A_TIME_HARD PERL_MALLOC_WRAP
PERL_PRESERVE_IVUV PERL_SAWAMPERSAND USE_LARGE_FILES
USE_LOCALE USE_LOCALE_COLLATE USE_LOCALE_CTYPE
USE_LOCALE_NUMERIC USE_PERLIO USE_PERL_ATOF
Locally applied patches:
RC4
Built under freebsd
Compiled at Dec 29 2013 11:55:51
%ENV:
PERL5LIB=""
PERL5OPT=""
PERL5_CPANPLUS_IS_RUNNING="21932"
PERL5_CPAN_IS_RUNNING="21932"
PERL5_CPAN_IS_RUNNING_IN_RECURSION="21916,21932"
PERLDOC="-MPod::Perldoc::ToTextOverstrike"
PERL_BATCH="yes"
PERL_CPAN_REPORTER_CONFIG="/var/tmp/cpansmoker-1023/WrDZ64kQCZ_config.ini"
PERL_EXTUTILS_AUTOINSTALL="--defaultdeps"
PERL_HTML_DISPLAY_CLASS="HTML::Display::Mozilla"
@INC:
/usr/perl5.18.2-RC4/lib/site_perl/5.18.2/i386-freebsd
/usr/perl5.18.2-RC4/lib/site_perl/5.18.2
/usr/perl5.18.2-RC4/lib/5.18.2/i386-freebsd
/usr/perl5.18.2-RC4/lib/5.18.2
.