Crypt-OpenSSL-RSA v0.30 Perl 5 v5.20.3 x86_64-linux-thread-multi

Status
Pass
From
Nigel Horne
Dist
Crypt-OpenSSL-RSA v0.30
Platform
Perl 5 v5.20.3 x86_64-linux-thread-multi
Date
2018-07-24 22:20:42
ID
cd2ad0ce-8f8f-11e8-8fb1-ef5133556b3f
This distribution has been tested as part of the CPAN Testers
project, supporting the Perl programming language.  See
http://wiki.cpantesters.org/ for more information or email
questions to cpan-testers-discuss@perl.org


--
Dear Todd Rinaldo,

This is a computer-generated report for Crypt-OpenSSL-RSA-0.30
on perl 5.20.3, created by CPAN-Reporter-1.2018.

Thank you for uploading your work to CPAN.  Congratulations!
All tests were successful.

Sections of this report:

    * Tester comments
    * Program output
    * Prerequisites
    * Environment and other context

------------------------------
TESTER COMMENTS
------------------------------

Additional comments from tester:

this report is from an automated smoke testing program
and was not reviewed by a human for accuracy

------------------------------
PROGRAM OUTPUT
------------------------------

Output from '/usr/bin/make test':

"/home/njh/perl5/perlbrew/perls/perl-5.20.3/bin/perl5.20.3" -MExtUtils::Command::MM -e 'cp_nonempty' -- RSA.bs blib/arch/auto/Crypt/OpenSSL/RSA/RSA.bs 644
PERL_DL_NONLAZY=1 "/home/njh/perl5/perlbrew/perls/perl-5.20.3/bin/perl5.20.3" "-MExtUtils::Command::MM" "-MTest::Harness" "-e" "undef *Test::Harness::Switches; test_harness(0, 'blib/lib', 'blib/arch')" t/*.t
t/format.t .................. ok
t/bignum.t .................. skipped: Crypt::OpenSSL::Bignum required for bignum tests
t/z_kwalitee.t .............. skipped: This test is only run for the module author
t/rsa.t ..................... ok
t/z_meta.t .................. skipped: This test is only run for the module author
t/z_perl_minimum_version.t .. skipped: Author tests not required for installation
t/z_pod-coverage.t .......... skipped: This test is only run for the module author
t/z_pod.t ................... skipped: This test is only run for the module author
All tests successful.
Files=8, Tests=73,  1 wallclock secs ( 0.08 usr  0.02 sys +  0.85 cusr  0.16 csys =  1.11 CPU)
Result: PASS

------------------------------
PREREQUISITES
------------------------------

Prerequisite modules loaded:

requires:

    Module                 Need  Have    
    ---------------------- ----- --------
    Crypt::OpenSSL::Random 0     0.15    
    perl                   5.006 5.020003
    Test::More             0     1.302103

build_requires:

    Module                 Need  Have    
    ---------------------- ----- --------
    ExtUtils::MakeMaker    0     7.30    

configure_requires:

    Module                 Need  Have    
    ---------------------- ----- --------
    Crypt::OpenSSL::Guess  0.11  0.11    
    ExtUtils::MakeMaker    0     7.30    


------------------------------
ENVIRONMENT AND OTHER CONTEXT
------------------------------

Environment variables:

    AUTOMATED_TESTING = 1
    HARNESS_OPTIONS = j2
    LANG = en_GB.UTF-8
    LANGUAGE = en_GB:en
    PATH = /home/njh/perl5/perlbrew/bin:/home/njh/perl5/perlbrew/perls/perl-5.20.3/bin:/home/njh/src/njh/smoker/bin:/usr/bin:/bin
    PERL5LIB = /home/njh/.cpan/build/Crypt-OpenSSL-Random-0.15-0/blib/arch:/home/njh/.cpan/build/Crypt-OpenSSL-Random-0.15-0/blib/lib:/home/njh/.cpan/build/Crypt-OpenSSL-Guess-0.11-0/blib/arch:/home/njh/.cpan/build/Crypt-OpenSSL-Guess-0.11-0/blib/lib:/home/njh/.cpan/build/Geo-Coder-OpenCage-0.16-0/blib/arch:/home/njh/.cpan/build/Geo-Coder-OpenCage-0.16-0/blib/lib:/home/njh/.cpan/build/Test-Pod-1.52-0/blib/arch:/home/njh/.cpan/build/Test-Pod-1.52-0/blib/lib:/home/njh/.cpan/build/Test-Exception-0.43-0/blib/arch:/home/njh/.cpan/build/Test-Exception-0.43-0/blib/lib:/home/njh/.cpan/build/JSON-XS-3.04-0/blib/arch:/home/njh/.cpan/build/JSON-XS-3.04-0/blib/lib:/home/njh/.cpan/build/Types-Serialiser-1.0-0/blib/arch:/home/njh/.cpan/build/Types-Serialiser-1.0-0/blib/lib:/home/njh/.cpan/build/common-sense-3.74-0/blib/arch:/home/njh/.cpan/build/common-sense-3.74-0/blib/lib:/home/njh/.cpan/build/Canary-Stability-2012-0/blib/arch:/home/njh/.cpan/build/Canary-Stability-2012-0/blib/lib
    PERL5OPT = 
    PERL5_CPANPLUS_IS_RUNNING = 11120
    PERL5_CPAN_IS_RUNNING = 11120
    PERLBREW_HOME = /home/njh/.perlbrew
    PERLBREW_MANPATH = /home/njh/perl5/perlbrew/perls/perl-5.20.3/man
    PERLBREW_PATH = /home/njh/perl5/perlbrew/bin:/home/njh/perl5/perlbrew/perls/perl-5.20.3/bin
    PERLBREW_PERL = perl-5.20.3
    PERLBREW_ROOT = /home/njh/perl5/perlbrew
    PERLBREW_SHELLRC_VERSION = 0.83
    PERLBREW_VERSION = 0.83
    SHELL = /bin/sh
    TEMP = /tmp/user/1000
    TMPDIR = /tmp/user/1000/testwrapper.11108

Perl special variables (and OS-specific diagnostics, for MSWin32):

    $^X = /home/njh/perl5/perlbrew/perls/perl-5.20.3/bin/perl5.20.3
    $UID/$EUID = 1000 / 1000
    $GID = 1000 4 24 25 29 30 44 46 103 108 116 127 1000
    $EGID = 1000 4 24 25 29 30 44 46 103 108 116 127 1000

Perl module toolchain versions installed:

    Module              Have    
    ------------------- --------
    CPAN                2.16    
    CPAN::Meta          2.143240
    Cwd                 3.48_01 
    ExtUtils::CBuilder  0.280217
    ExtUtils::Command   7.30    
    ExtUtils::Install   2.06    
    ExtUtils::MakeMaker 7.30    
    ExtUtils::Manifest  1.70    
    ExtUtils::ParseXS   3.24    
    File::Spec          3.48_01 
    JSON                2.97001 
    JSON::PP            2.27203 
    Module::Build       0.4224  
    Module::Signature   n/a     
    Parse::CPAN::Meta   1.4414  
    Test::Harness       3.39    
    Test::More          1.302103
    YAML                1.26    
    YAML::Syck          1.30    
    version             0.9909  


--

Summary of my perl5 (revision 5 version 20 subversion 3) configuration:
   
  Platform:
    osname=linux, osvers=4.9.0-2-amd64, archname=x86_64-linux-thread-multi
    uname='linux compaq 4.9.0-2-amd64 #1 smp debian 4.9.18-1 (2017-03-30) x86_64 gnulinux '
    config_args='-de -Dprefix=/home/njh/perl5/perlbrew/perls/perl-5.20.3 -Duseithreads -Dusemultiplicity -Dusedevel -Accflags=-O2 -W -Wformat=2 -Wswitch -Wshadow -Wwrite-strings -Wuninitialized -Wall -pipe -fomit-frame-pointer -pedantic -D_FORTIFY_SOURCE=2 -Wpointer-arith -Wstrict-prototypes -fstack-protector -Wstack-protector -Wextra -Wbad-function-cast -Wcast-align -Wcast-qual -Wdisabled-optimization -Wendif-labels -Wfloat-equal -Wformat-nonliteral -Winline -Wmissing-declarations -Wmissing-prototypes -Wnested-externs -Wpointer-arith -Wundef -Wformat-security -ftree-vectorize -msse -mfpmath=sse -msse2 -fdiagnostics-color=auto -mtune=native -march=native -Acc=gcc-7 -Aeval:scriptdir=/home/njh/perl5/perlbrew/perls/perl-5.20.3/bin'
    hint=recommended, useposix=true, d_sigaction=define
    useithreads=define, usemultiplicity=define
    use64bitint=define, use64bitall=define, uselongdouble=undef
    usemymalloc=n, bincompat5005=undef
  Compiler:
    cc=' gcc-7', ccflags ='-D_REENTRANT -D_GNU_SOURCE -O2 -W -Wformat=2 -Wswitch -Wshadow -Wwrite-strings -Wuninitialized -Wall -pipe -fomit-frame-pointer -pedantic -D_FORTIFY_SOURCE=2 -Wpointer-arith -Wstrict-prototypes -fstack-protector -Wstack-protector -Wextra -Wbad-function-cast -Wcast-align -Wcast-qual -Wdisabled-optimization -Wendif-labels -Wfloat-equal -Wformat-nonliteral -Winline -Wmissing-declarations -Wmissing-prototypes -Wnested-externs -Wpointer-arith -Wundef -Wformat-security -ftree-vectorize -msse -mfpmath=sse -msse2 -fdiagnostics-color=auto -mtune=native -march=native -fwrapv -fno-strict-aliasing -I/usr/local/include -D_LARGEFILE_SOURCE -D_FILE_OFFSET_BITS=64',
    optimize='-O2',
    cppflags='-D_REENTRANT -D_GNU_SOURCE -O2 -W -Wformat=2 -Wswitch -Wshadow -Wwrite-strings -Wuninitialized -Wall -pipe -fomit-frame-pointer -pedantic -D_FORTIFY_SOURCE=2 -Wpointer-arith -Wstrict-prototypes -fstack-protector -Wstack-protector -Wextra -Wbad-function-cast -Wcast-align -Wcast-qual -Wdisabled-optimization -Wendif-labels -Wfloat-equal -Wformat-nonliteral -Winline -Wmissing-declarations -Wmissing-prototypes -Wnested-externs -Wpointer-arith -Wundef -Wformat-security -ftree-vectorize -msse -mfpmath=sse -msse2 -fdiagnostics-color=auto -mtune=native -march=native -fwrapv -fno-strict-aliasing -I/usr/local/include'
    ccversion='', gccversion='7.1.0', gccosandvers=''
    intsize=4, longsize=8, ptrsize=8, doublesize=8, byteorder=12345678
    d_longlong=define, longlongsize=8, d_longdbl=define, longdblsize=16
    ivtype='long', ivsize=8, nvtype='double', nvsize=8, Off_t='off_t', lseeksize=8
    alignbytes=8, prototype=define
  Linker and Libraries:
    ld=' gcc-7', ldflags =' -fstack-protector -L/usr/local/lib'
    libpth=/usr/local/lib /usr/lib/gcc/x86_64-linux-gnu/7/include-fixed /usr/include/x86_64-linux-gnu /usr/lib /lib/x86_64-linux-gnu /lib/../lib /usr/lib/x86_64-linux-gnu /usr/lib/../lib /lib /lib64 /usr/lib64
    libs=-lpthread -lnsl -lgdbm -ldb -ldl -lm -lcrypt -lutil -lc -lgdbm_compat
    perllibs=-lpthread -lnsl -ldl -lm -lcrypt -lutil -lc
    libc=, so=so, useshrplib=false, libperl=libperl.a
    gnulibc_version='2.24'
  Dynamic Linking:
    dlsrc=dl_dlopen.xs, dlext=so, d_dlsymun=undef, ccdlflags='-Wl,-E'
    cccdlflags='-fPIC', lddlflags='-shared -O2 -L/usr/local/lib -fstack-protector'


Characteristics of this binary (from libperl): 
  Compile-time options: HAS_TIMES MULTIPLICITY PERLIO_LAYERS
                        PERL_DONT_CREATE_GVSV
                        PERL_HASH_FUNC_ONE_AT_A_TIME_HARD
                        PERL_IMPLICIT_CONTEXT PERL_MALLOC_WRAP
                        PERL_NEW_COPY_ON_WRITE PERL_PRESERVE_IVUV
                        PERL_USE_DEVEL USE_64_BIT_ALL USE_64_BIT_INT
                        USE_ITHREADS USE_LARGE_FILES USE_LOCALE
                        USE_LOCALE_COLLATE USE_LOCALE_CTYPE
                        USE_LOCALE_NUMERIC USE_PERLIO USE_PERL_ATOF
                        USE_REENTRANT_API
  Built under linux
  Compiled at Jul 21 2017 11:54:02
  %ENV:
    PERL5LIB="/home/njh/.cpan/build/Crypt-OpenSSL-Random-0.15-0/blib/arch:/home/njh/.cpan/build/Crypt-OpenSSL-Random-0.15-0/blib/lib:/home/njh/.cpan/build/Crypt-OpenSSL-Guess-0.11-0/blib/arch:/home/njh/.cpan/build/Crypt-OpenSSL-Guess-0.11-0/blib/lib:/home/njh/.cpan/build/Geo-Coder-OpenCage-0.16-0/blib/arch:/home/njh/.cpan/build/Geo-Coder-OpenCage-0.16-0/blib/lib:/home/njh/.cpan/build/Test-Pod-1.52-0/blib/arch:/home/njh/.cpan/build/Test-Pod-1.52-0/blib/lib:/home/njh/.cpan/build/Test-Exception-0.43-0/blib/arch:/home/njh/.cpan/build/Test-Exception-0.43-0/blib/lib:/home/njh/.cpan/build/JSON-XS-3.04-0/blib/arch:/home/njh/.cpan/build/JSON-XS-3.04-0/blib/lib:/home/njh/.cpan/build/Types-Serialiser-1.0-0/blib/arch:/home/njh/.cpan/build/Types-Serialiser-1.0-0/blib/lib:/home/njh/.cpan/build/common-sense-3.74-0/blib/arch:/home/njh/.cpan/build/common-sense-3.74-0/blib/lib:/home/njh/.cpan/build/Canary-Stability-2012-0/blib/arch:/home/njh/.cpan/build/Canary-Stability-2012-0/blib/lib"
    PERL5OPT=""
    PERL5_CPANPLUS_IS_RUNNING="11120"
    PERL5_CPAN_IS_RUNNING="11120"
    PERLBREW_HOME="/home/njh/.perlbrew"
    PERLBREW_MANPATH="/home/njh/perl5/perlbrew/perls/perl-5.20.3/man"
    PERLBREW_PATH="/home/njh/perl5/perlbrew/bin:/home/njh/perl5/perlbrew/perls/perl-5.20.3/bin"
    PERLBREW_PERL="perl-5.20.3"
    PERLBREW_ROOT="/home/njh/perl5/perlbrew"
    PERLBREW_SHELLRC_VERSION="0.83"
    PERLBREW_VERSION="0.83"
  @INC:
    /home/njh/.cpan/build/Crypt-OpenSSL-Random-0.15-0/blib/arch
    /home/njh/.cpan/build/Crypt-OpenSSL-Random-0.15-0/blib/lib
    /home/njh/.cpan/build/Crypt-OpenSSL-Guess-0.11-0/blib/arch
    /home/njh/.cpan/build/Crypt-OpenSSL-Guess-0.11-0/blib/lib
    /home/njh/.cpan/build/Geo-Coder-OpenCage-0.16-0/blib/arch
    /home/njh/.cpan/build/Geo-Coder-OpenCage-0.16-0/blib/lib
    /home/njh/.cpan/build/Test-Pod-1.52-0/blib/arch
    /home/njh/.cpan/build/Test-Pod-1.52-0/blib/lib
    /home/njh/.cpan/build/Test-Exception-0.43-0/blib/arch
    /home/njh/.cpan/build/Test-Exception-0.43-0/blib/lib
    /home/njh/.cpan/build/JSON-XS-3.04-0/blib/arch
    /home/njh/.cpan/build/JSON-XS-3.04-0/blib/lib
    /home/njh/.cpan/build/Types-Serialiser-1.0-0/blib/arch
    /home/njh/.cpan/build/Types-Serialiser-1.0-0/blib/lib
    /home/njh/.cpan/build/common-sense-3.74-0/blib/arch
    /home/njh/.cpan/build/common-sense-3.74-0/blib/lib
    /home/njh/.cpan/build/Canary-Stability-2012-0/blib/arch
    /home/njh/.cpan/build/Canary-Stability-2012-0/blib/lib
    /home/njh/perl5/perlbrew/perls/perl-5.20.3/lib/site_perl/5.20.3/x86_64-linux-thread-multi
    /home/njh/perl5/perlbrew/perls/perl-5.20.3/lib/site_perl/5.20.3
    /home/njh/perl5/perlbrew/perls/perl-5.20.3/lib/5.20.3/x86_64-linux-thread-multi
    /home/njh/perl5/perlbrew/perls/perl-5.20.3/lib/5.20.3
    .