JSON-Any v1.40 Perl 5 v5.38.0 amd64-freebsd
- Status
- Pass
- From
- Slaven Rezić
- Dist
-
JSON-Any v1.40
- Platform
- Perl 5 v5.38.0 amd64-freebsd
- Date
- 2023-12-20 16:06:57
- ID
- cd2e67c0-9f51-11ee-9cdb-6ef36d8775ea
This distribution has been tested as part of the CPAN Testers
project, supporting the Perl programming language. See
http://wiki.cpantesters.org/ for more information or email
questions to cpan-testers-discuss@perl.org
--
Dear Karen Etheridge,
This is a computer-generated report for JSON-Any-1.40
on perl 5.38.0, created by CPAN-Reporter-1.2019.
Thank you for uploading your work to CPAN. Congratulations!
All tests were successful.
Sections of this report:
* Tester comments
* Program output
* Prerequisites
* Environment and other context
------------------------------
TESTER COMMENTS
------------------------------
Additional comments from tester:
none provided
------------------------------
PROGRAM OUTPUT
------------------------------
Output from '/usr/bin/make test':
PERL_DL_NONLAZY=1 "/usr/perl5.38.0p/bin/perl" "-MExtUtils::Command::MM" "-MTest::Harness" "-e" "undef *Test::Harness::Switches; test_harness(0, 'blib/lib', 'blib/arch')" t/*.t
# Testing JSON::Any 1.40, Perl 5.038000, /usr/perl5.38.0p/bin/perl
t/00-load.t ............ ok
#
# Versions for all modules listed in MYMETA.json (including optional ones):
#
# === Configure Requires ===
#
# Module Want Have
# ------------------------ -------- --------
# CPAN::Meta::Requirements 2.120620 2.140
# ExtUtils::MakeMaker any 7.70
# Module::Metadata any 1.000037
# perl 5.008 5.038000
#
# === Build Requires ===
#
# Module Want Have
# ------------------- ---- ----
# ExtUtils::MakeMaker any 7.70
#
# === Test Requires ===
#
# Module Want Have
# --------------------- ----- --------
# Data::Dumper any 2.188
# ExtUtils::MakeMaker any 7.70
# File::Spec any 3.88
# Storable any 3.32
# Test::Fatal any 0.017
# Test::More 0.88 1.302198
# Test::Needs any 0.002010
# Test::Warnings 0.009 0.032
# Test::Without::Module any 0.21
# open any 1.13
# perl 5.008 5.038000
# utf8 any 1.25
#
# === Test Recommends ===
#
# Module Want Have
# ---------- -------- --------
# CPAN::Meta 2.120900 2.150010
#
# === Runtime Requires ===
#
# Module Want Have
# -------- ----- --------
# Carp any 1.54
# constant any 1.33
# perl 5.008 5.038000
# strict any 1.12
# warnings any 1.65
#
# === Other Modules ===
#
# Module Have
# ---------------- --------
# Cpanel::JSON::XS 4.37
# Encode 3.19
# File::Temp 0.2311
# JSON 4.10
# JSON::DWIW missing
# JSON::MaybeXS 1.004005
# JSON::PP 4.16
# JSON::Syck 1.34
# JSON::XS 4.03
# Module::Runtime 0.016
# Pod::Coverage 0.23
# Sub::Name 0.27
# YAML 1.30
# autodie 2.36
# constant 1.33
#
t/00-report-prereqs.t .. ok
# Testing JSON.pm backend
t/01-JSON.t ............ ok
# Testing JSON::XS backend
t/02-JSON-XS.t ......... ok
t/03-JSON-DWIW.t ....... skipped: JSON::DWIW not installed: Couldn't find a JSON package. Need JSON::DWIW at (eval 9) line 1.
t/04-ENV.t ............. ok
Found deprecated package JSON::Syck. Please upgrade to Cpanel::JSON::XS, JSON::XS, JSON::PP, JSON or JSON::DWIW at (eval 9) line 1.
t/05-JSON-Syck.t ....... ok
# Testing JSON::PP backend
t/06-JSON-PP.t ......... ok
# Testing Cpanel::JSON::XS backend
t/07-CPanel-JSON-XS.t .. ok
t/10_unicode.t ......... ok
t/11-string-escape.t ... ok
t/12-boolean.t ......... ok
t/13-no-backends.t ..... ok
t/14-deprecated.t ...... ok
All tests successful.
Files=14, Tests=232, 1 wallclock secs ( 0.05 usr 0.02 sys + 0.95 cusr 0.21 csys = 1.23 CPU)
Result: PASS
------------------------------
PREREQUISITES
------------------------------
Prerequisite modules loaded:
requires:
Module Need Have
------------------------ -------- --------
Carp 0 1.54
constant 0 1.33
perl 5.008 5.038000
strict 0 1.12
warnings 0 1.65
build_requires:
Module Need Have
------------------------ -------- --------
Data::Dumper 0 2.188
ExtUtils::MakeMaker 0 7.70
File::Spec 0 3.88
open 0 1.13
Storable 0 3.32
Test::Fatal 0 0.017
Test::More 0.88 1.302198
Test::Needs 0 0.002010
Test::Warnings 0.009 0.032
Test::Without::Module 0 0.21
utf8 0 1.25
configure_requires:
Module Need Have
------------------------ -------- --------
CPAN::Meta::Requirements 2.120620 2.140
ExtUtils::MakeMaker 0 7.70
Module::Metadata 0 1.000037
perl 5.008 5.038000
------------------------------
ENVIRONMENT AND OTHER CONTEXT
------------------------------
Environment variables:
LANG = C.UTF-8
PATH = /usr/local/bin:/usr/bin:/bin:/usr/local/sbin:/usr/sbin:/sbin:/home/cpansand/bin/sh:/home/cpansand/bin:/usr/games:/home/cpansand/devel:/usr/home/eserte/src/srezic-misc/scripts
PERL5LIB = /home/cpansand/.cpan/build/2023122016/MooX-Attribute-ENV-0.04-0/blib/arch:/home/cpansand/.cpan/build/2023122016/MooX-Attribute-ENV-0.04-0/blib/lib:/home/cpansand/.cpan/build/2023122016/HTTP-Response-Maker-0.02-0/blib/arch:/home/cpansand/.cpan/build/2023122016/HTTP-Response-Maker-0.02-0/blib/lib
PERL5OPT =
PERL5_CPANPLUS_IS_RUNNING = 22950
PERL5_CPAN_IS_RUNNING = 22950
PERL5_CPAN_IS_RUNNING_IN_RECURSION = 22937,22950
PERL_BATCH = yes
PERL_CANARY_STABILITY_NOPROMPT = 1
PERL_CPAN_REPORTER_CONFIG = /var/tmp/cpansmoker-1023/2023122016/cpanreporter_000_config.ini
PERL_EXTUTILS_AUTOINSTALL = --defaultdeps
PERL_USE_UNSAFE_INC = 1
SHELL = /bin/sh
TMPDIR = /var/tmp/cpansmoker-1023/2023122016
Perl special variables (and OS-specific diagnostics, for MSWin32):
$^X = /usr/perl5.38.0p/bin/perl
$UID/$EUID = 1023 / 1023
$GID = 1023 1023
$EGID = 1023 1023
Perl module toolchain versions installed:
Module Have
------------------- --------
CPAN 2.36
CPAN::Meta 2.150010
Cwd 3.89
ExtUtils::CBuilder 0.280238
ExtUtils::Command 7.70
ExtUtils::Install 2.22
ExtUtils::MakeMaker 7.70
ExtUtils::Manifest 1.75
ExtUtils::ParseXS 3.51
File::Spec 3.88
JSON 4.10
JSON::PP 4.16
Module::Build 0.4234
Module::Signature n/a
Parse::CPAN::Meta 2.150010
Test2 1.302198
Test::Harness 3.44
Test::More 1.302198
YAML 1.30
YAML::Syck 1.34
version 0.9929
--
Summary of my perl5 (revision 5 version 38 subversion 0) configuration:
Platform:
osname=freebsd
osvers=15.0-current
archname=amd64-freebsd
uname='freebsd cloud2.bbbike.org 15.0-current freebsd 15.0-current #5 main-03bfee1752: fri sep 15 12:34:26 utc 2023 root@cloud2.bbbike.org:usrobjusrhomeprojectsfreebsd-srcamd64.amd64sysgeneric amd64 '
config_args='-ds -e -Dprefix=/usr/perl5.38.0p -Dcf_email=srezic@cpan.org -Doptimize=-O2 -pipe'
hint=recommended
useposix=true
d_sigaction=define
useithreads=undef
usemultiplicity=undef
use64bitint=define
use64bitall=define
uselongdouble=undef
usemymalloc=n
default_inc_excludes_dot=define
Compiler:
cc='cc'
ccflags ='-DHAS_FPSETMASK -DHAS_FLOATINGPOINT_H -fno-strict-aliasing -pipe -fstack-protector-strong -I/usr/local/include'
optimize='-O2 -pipe'
cppflags='-DHAS_FPSETMASK -DHAS_FLOATINGPOINT_H -fno-strict-aliasing -pipe -fstack-protector-strong -I/usr/local/include'
ccversion=''
gccversion='FreeBSD Clang 16.0.6 (https://github.com/llvm/llvm-project.git llvmorg-16.0.6-0-g7cbf1a259152)'
gccosandvers=''
intsize=4
longsize=8
ptrsize=8
doublesize=8
byteorder=12345678
doublekind=3
d_longlong=define
longlongsize=8
d_longdbl=define
longdblsize=16
longdblkind=3
ivtype='long'
ivsize=8
nvtype='double'
nvsize=8
Off_t='off_t'
lseeksize=8
alignbytes=8
prototype=define
Linker and Libraries:
ld='cc'
ldflags ='-pthread -Wl,-E -fstack-protector-strong -L/usr/local/lib'
libpth=/usr/lib /usr/local/lib /usr/lib/clang/16/lib
libs=-lpthread -ldl -lm -lcrypt -lutil -lc
perllibs=-lpthread -ldl -lm -lcrypt -lutil -lc
libc=
so=so
useshrplib=false
libperl=libperl.a
gnulibc_version=''
Dynamic Linking:
dlsrc=dl_dlopen.xs
dlext=so
d_dlsymun=undef
ccdlflags=' '
cccdlflags='-DPIC -fPIC'
lddlflags='-shared -L/usr/local/lib -fstack-protector-strong'
Characteristics of this binary (from libperl):
Compile-time options:
HAS_LONG_DOUBLE
HAS_STRTOLD
HAS_TIMES
PERLIO_LAYERS
PERL_COPY_ON_WRITE
PERL_DONT_CREATE_GVSV
PERL_HASH_FUNC_SIPHASH13
PERL_HASH_USE_SBOX32
PERL_MALLOC_WRAP
PERL_OP_PARENT
PERL_PRESERVE_IVUV
PERL_USE_SAFE_PUTENV
USE_64_BIT_ALL
USE_64_BIT_INT
USE_LARGE_FILES
USE_LOCALE
USE_LOCALE_COLLATE
USE_LOCALE_CTYPE
USE_LOCALE_NUMERIC
USE_LOCALE_TIME
USE_PERLIO
USE_PERL_ATOF
Built under freebsd
Compiled at Sep 19 2023 21:12:08
%ENV:
PERL5LIB="/home/cpansand/.cpan/build/2023122016/MooX-Attribute-ENV-0.04-0/blib/arch:/home/cpansand/.cpan/build/2023122016/MooX-Attribute-ENV-0.04-0/blib/lib:/home/cpansand/.cpan/build/2023122016/HTTP-Response-Maker-0.02-0/blib/arch:/home/cpansand/.cpan/build/2023122016/HTTP-Response-Maker-0.02-0/blib/lib"
PERL5OPT=""
PERL5_CPANPLUS_IS_RUNNING="22950"
PERL5_CPAN_IS_RUNNING="22950"
PERL5_CPAN_IS_RUNNING_IN_RECURSION="22937,22950"
PERL_BATCH="yes"
PERL_CANARY_STABILITY_NOPROMPT="1"
PERL_CPAN_REPORTER_CONFIG="/var/tmp/cpansmoker-1023/2023122016/cpanreporter_000_config.ini"
PERL_EXTUTILS_AUTOINSTALL="--defaultdeps"
PERL_USE_UNSAFE_INC="1"
@INC:
/home/cpansand/.cpan/build/2023122016/MooX-Attribute-ENV-0.04-0/blib/arch
/home/cpansand/.cpan/build/2023122016/MooX-Attribute-ENV-0.04-0/blib/lib
/home/cpansand/.cpan/build/2023122016/HTTP-Response-Maker-0.02-0/blib/arch
/home/cpansand/.cpan/build/2023122016/HTTP-Response-Maker-0.02-0/blib/lib
/usr/perl5.38.0p/lib/site_perl/5.38.0/amd64-freebsd
/usr/perl5.38.0p/lib/site_perl/5.38.0
/usr/perl5.38.0p/lib/5.38.0/amd64-freebsd
/usr/perl5.38.0p/lib/5.38.0
.