Hash-AutoHash v1.17 Perl 5 v5.39.10 x86_64-linux

Status
Pass
From
Andreas J. König (ANDK)
Dist
Hash-AutoHash v1.17
Platform
Perl 5 v5.39.10 x86_64-linux
Date
2024-05-05 13:53:07
ID
cd3145e8-0ae6-11ef-a96c-286dd728ee0c
This distribution has been tested as part of the CPAN Testers
project, supporting the Perl programming language.  See
http://wiki.cpantesters.org/ for more information or email
questions to cpan-testers-discuss@perl.org


--
Dear Nathan Goodman,

This is a computer-generated report for Hash-AutoHash-1.17
on perl 5.39.10, created by CPAN-Reporter-1.2019.

Thank you for uploading your work to CPAN.  Congratulations!
All tests were successful.

Sections of this report:

    * Tester comments
    * Program output
    * Prerequisites
    * Environment and other context

------------------------------
TESTER COMMENTS
------------------------------

Additional comments from tester:

this report is from an automated smoke testing program
and was not reviewed by a human for accuracy

------------------------------
PROGRAM OUTPUT
------------------------------

Output from './Build test':

# Testing Hash::AutoHash 1.17, Perl 5.039010, /tmp/basesmoker-reloperl-wJoB/bin/perl
t/autohash.000.code_exists.t .... ok
t/autohash.001.boilerplate.t .... ok
t/autohash.002.pod.t ............ ok
t/autohash.010.cons_funcs.t ..... ok
t/autohash.011.new_func.t ....... ok
t/autohash.012.new_method.t ..... ok
t/autohash.013.ashash.t ......... ok
t/autohash.013.exthash.t ........ ok
t/autohash.013.extobj.t ......... ok
t/autohash.019.export_ok.t ...... ok
t/autohash.020.class_methods.t .. ok
t/autohash.020.special_keys.t ... ok
t/autohash.020.universal.t ...... ok
t/autohash.030.alias.t .......... ok
t/autohash.030.clear.t .......... ok
t/autohash.030.count_etc.t ...... ok
t/autohash.030.delete.t ......... ok
t/autohash.030.each.t ........... ok
t/autohash.030.exists.t ......... ok
t/autohash.030.get.t ............ ok
t/autohash.030.keys.t ........... ok
t/autohash.030.set.t ............ ok
t/autohash.030.tied.t ........... ok
t/autohash.030.values.t ......... ok
t/autohash.031.delete_exists.t .. ok
t/autohash.031.delete_keys.t .... ok
t/autohash.031.delete_values.t .. ok
t/autohash.040.destroy.t ........ ok
t/autohash.050.child.t .......... ok
t/autohash.050.grandchild.t ..... ok
t/autohash.055.typicalchild.t ... ok
t/autohash.099.docs.t ........... ok
All tests successful.
Files=32, Tests=2813,  5 wallclock secs ( 0.27 usr  0.08 sys +  4.13 cusr  0.50 csys =  4.98 CPU)
Result: PASS

------------------------------
PREREQUISITES
------------------------------

Prerequisite modules loaded:

requires:

    Module                Need   Have    
    --------------------- ------ --------
    Carp                  1.2    1.54    
    Cwd                   3.4    3.90    
    Exporter              5.68   5.78    
    List::MoreUtils       0.33   0.430   
    List::Util            1.32   1.63    
    perl                  v5.8.3 5.039010
    Tie::Hash             1.04   1.06    
    Tie::ToObject         0.03   0.03    
    XSLoader              0.15   0.32    

build_requires:

    Module                Need   Have    
    --------------------- ------ --------
    Carp                  1.2    1.54    
    Exporter              5.68   5.78    
    File::Spec            3.4    3.90    
    List::MoreUtils       0.33   0.430   
    Module::Build         0.4007 0.4234  
    Scalar::Util          1.23   1.63    
    Storable              2.3    3.32    
    Test::Deep            0.11   1.204   
    Test::More            0.98   1.302199
    Test::Pod             1.48   1.52    
    Test::Pod::Content    v0.0.6 0.0.6   
    Tie::Hash             1.04   1.06    
    Tie::Hash::MultiValue 1.02   1.06    

configure_requires:

    Module                Need   Have    
    --------------------- ------ --------
    Module::Build         0.4007 0.4234  


------------------------------
ENVIRONMENT AND OTHER CONTEXT
------------------------------

Environment variables:

    AUTOMATED_TESTING = 1
    LANG = en_US.UTF-8
    PATH = /home/sand/bin:/usr/local/bin:/usr/local/sbin:/usr/sbin:/usr/bin:/sbin:/bin:/usr/games:/usr/local/games:/snap/bin:/usr/local/perl/bin:/usr/X11/bin
    PERL = /tmp/basesmoker-reloperl-wJoB/bin/perl
    PERL5LIB = /tmp/loop_over_bdir-2084-yMTbXb/EJBCA-CrlPublish-0.60-0/blib/arch:/tmp/loop_over_bdir-2084-yMTbXb/EJBCA-CrlPublish-0.60-0/blib/lib:/tmp/loop_over_bdir-2084-yMTbXb/Dpkg-1.22.6-0/blib/arch:/tmp/loop_over_bdir-2084-yMTbXb/Dpkg-1.22.6-0/blib/lib:/tmp/loop_over_bdir-2084-yMTbXb/MP3-PodcastFetch-1.05-0/blib/arch:/tmp/loop_over_bdir-2084-yMTbXb/MP3-PodcastFetch-1.05-0/blib/lib
    PERL5OPT = 
    PERL5_CPANPLUS_IS_RUNNING = 2092
    PERL5_CPAN_IS_RUNNING = 2092
    PERL_CANARY_STABILITY_NOPROMPT = 1
    PERL_MM_USE_DEFAULT = 1
    PERL_USE_UNSAFE_INC = 1
    SHELL = /usr/bin/zsh
    TERM = screen

Perl special variables (and OS-specific diagnostics, for MSWin32):

    $^X = /tmp/basesmoker-reloperl-wJoB/bin/perl
    $UID/$EUID = 1005 / 1005
    $GID = 1005 1005
    $EGID = 1005 1005

Perl module toolchain versions installed:

    Module              Have    
    ------------------- --------
    CPAN                2.36    
    CPAN::Meta          2.150010
    Cwd                 3.90    
    ExtUtils::CBuilder  0.280240
    ExtUtils::Command   7.70    
    ExtUtils::Install   2.22    
    ExtUtils::MakeMaker 7.70    
    ExtUtils::Manifest  1.75    
    ExtUtils::ParseXS   3.51    
    File::Spec          3.90    
    JSON                4.10    
    JSON::PP            4.16    
    Module::Build       0.4234  
    Module::Signature   0.88    
    Parse::CPAN::Meta   2.150010
    Test2               1.302199
    Test::Harness       3.48    
    Test::More          1.302199
    YAML                1.31    
    YAML::Syck          1.34    
    version             0.9932  


--

Summary of my perl5 (revision 5 version 39 subversion 10) configuration:
  Commit id: c46c2bea6f111c45982b89c7e57b56125ff2e10c
  Platform:
    osname=linux
    osvers=5.4.0-176-generic
    archname=x86_64-linux
    uname='linux k93focal 5.4.0-176-generic #196-ubuntu smp fri mar 22 16:46:39 utc 2024 x86_64 x86_64 x86_64 gnulinux '
    config_args='-Dprefix=/home/sand/src/perl/repoperls/installed-perls/host/k93focal/v5.39.10/b254 -Dmyhostname=k93focal -Dinstallusrbinperl=n -Uversiononly -Dusedevel -des -Ui_db -Dlibswanted=cl pthread socket inet nsl gdbm dbm malloc dl ld sun m crypt sec util c cposix posix ucb BSD gdbm_compat -Uuseithreads -Uuselongdouble -DEBUGGING=both'
    hint=recommended
    useposix=true
    d_sigaction=define
    useithreads=undef
    usemultiplicity=undef
    use64bitint=define
    use64bitall=define
    uselongdouble=undef
    usemymalloc=n
    default_inc_excludes_dot=define
  Compiler:
    cc='cc'
    ccflags ='-fwrapv -DDEBUGGING -fno-strict-aliasing -pipe -fstack-protector-strong -I/usr/local/include -D_LARGEFILE_SOURCE -D_FILE_OFFSET_BITS=64'
    optimize='-O2 -g'
    cppflags='-fwrapv -DDEBUGGING -fno-strict-aliasing -pipe -fstack-protector-strong -I/usr/local/include'
    ccversion=''
    gccversion='9.4.0'
    gccosandvers=''
    intsize=4
    longsize=8
    ptrsize=8
    doublesize=8
    byteorder=12345678
    doublekind=3
    d_longlong=define
    longlongsize=8
    d_longdbl=define
    longdblsize=16
    longdblkind=3
    ivtype='long'
    ivsize=8
    nvtype='double'
    nvsize=8
    Off_t='off_t'
    lseeksize=8
    alignbytes=8
    prototype=define
  Linker and Libraries:
    ld='cc'
    ldflags =' -fstack-protector-strong -L/usr/local/lib'
    libpth=/usr/local/lib /usr/lib/x86_64-linux-gnu /usr/lib /usr/lib64
    libs=-lpthread -lnsl -ldl -lm -lcrypt -lutil -lc
    perllibs=-lpthread -lnsl -ldl -lm -lcrypt -lutil -lc
    libc=libc-2.31.so
    so=so
    useshrplib=false
    libperl=libperl.a
    gnulibc_version='2.31'
  Dynamic Linking:
    dlsrc=dl_dlopen.xs
    dlext=so
    d_dlsymun=undef
    ccdlflags='-Wl,-E'
    cccdlflags='-fPIC'
    lddlflags='-shared -O2 -g -L/usr/local/lib -fstack-protector-strong'


Characteristics of this binary (from libperl): 
  Compile-time options:
    DEBUGGING
    HAS_LONG_DOUBLE
    HAS_STRTOLD
    HAS_TIMES
    PERLIO_LAYERS
    PERL_COPY_ON_WRITE
    PERL_DONT_CREATE_GVSV
    PERL_HASH_FUNC_SIPHASH13
    PERL_HASH_USE_SBOX32
    PERL_MALLOC_WRAP
    PERL_OP_PARENT
    PERL_PRESERVE_IVUV
    PERL_USE_DEVEL
    PERL_USE_SAFE_PUTENV
    USE_64_BIT_ALL
    USE_64_BIT_INT
    USE_LARGE_FILES
    USE_LOCALE
    USE_LOCALE_COLLATE
    USE_LOCALE_CTYPE
    USE_LOCALE_NUMERIC
    USE_LOCALE_TIME
    USE_PERLIO
    USE_PERL_ATOF
  Built under linux
  Compiled at May  3 2024 17:15:00
  %ENV:
    PERL="/tmp/basesmoker-reloperl-wJoB/bin/perl"
    PERL5LIB="/tmp/loop_over_bdir-2084-yMTbXb/EJBCA-CrlPublish-0.60-0/blib/arch:/tmp/loop_over_bdir-2084-yMTbXb/EJBCA-CrlPublish-0.60-0/blib/lib:/tmp/loop_over_bdir-2084-yMTbXb/Dpkg-1.22.6-0/blib/arch:/tmp/loop_over_bdir-2084-yMTbXb/Dpkg-1.22.6-0/blib/lib:/tmp/loop_over_bdir-2084-yMTbXb/MP3-PodcastFetch-1.05-0/blib/arch:/tmp/loop_over_bdir-2084-yMTbXb/MP3-PodcastFetch-1.05-0/blib/lib"
    PERL5OPT=""
    PERL5_CPANPLUS_IS_RUNNING="2092"
    PERL5_CPAN_IS_RUNNING="2092"
    PERL_CANARY_STABILITY_NOPROMPT="1"
    PERL_MM_USE_DEFAULT="1"
    PERL_USE_UNSAFE_INC="1"
  @INC:
    /tmp/loop_over_bdir-2084-yMTbXb/EJBCA-CrlPublish-0.60-0/blib/arch
    /tmp/loop_over_bdir-2084-yMTbXb/EJBCA-CrlPublish-0.60-0/blib/lib
    /tmp/loop_over_bdir-2084-yMTbXb/Dpkg-1.22.6-0/blib/arch
    /tmp/loop_over_bdir-2084-yMTbXb/Dpkg-1.22.6-0/blib/lib
    /tmp/loop_over_bdir-2084-yMTbXb/MP3-PodcastFetch-1.05-0/blib/arch
    /tmp/loop_over_bdir-2084-yMTbXb/MP3-PodcastFetch-1.05-0/blib/lib
    /home/sand/src/perl/repoperls/installed-perls/host/k93focal/v5.39.10/b254/lib/site_perl/5.39.10/x86_64-linux
    /home/sand/src/perl/repoperls/installed-perls/host/k93focal/v5.39.10/b254/lib/site_perl/5.39.10
    /home/sand/src/perl/repoperls/installed-perls/host/k93focal/v5.39.10/b254/lib/5.39.10/x86_64-linux
    /home/sand/src/perl/repoperls/installed-perls/host/k93focal/v5.39.10/b254/lib/5.39.10
    .