Net-Upwork-API v2.1.2 Perl 5 v5.12.2 MSWin32-x86-multi-thread

Status
Pass
From
Alexandr Ciornii (CHORNY)
Dist
Net-Upwork-API v2.1.2
Platform
Perl 5 v5.12.2 MSWin32-x86-multi-thread
Date
2020-10-22 14:52:36
ID
cd39f535-6c04-1014-bec5-f4f9cc80c83c
This distribution has been tested as part of the CPAN Testers
project, supporting the Perl programming language.  See
http://wiki.cpantesters.org/ for more information or email
questions to cpan-testers-discuss@perl.org


--
Dear Maksym Novozhylov,

This is a computer-generated report for Net-Upwork-API-2.1.2
on perl 5.12.2, created by CPAN-Reporter-1.2018.

Thank you for uploading your work to CPAN.  Congratulations!
All tests were successful.

Sections of this report:

    * Tester comments
    * Program output
    * Prerequisites
    * Environment and other context

------------------------------
TESTER COMMENTS
------------------------------

Additional comments from tester:

this report is from an automated smoke testing program
and was not reviewed by a human for accuracy

------------------------------
PROGRAM OUTPUT
------------------------------

Output from 'C:\strawberry\perl\bin\perl.exe ./Build test':

t\0-signature.t ............................. ok
t\00.load.t ................................. ok
t\01.core_packages.t ........................ ok
t\02.routers_auth.t ......................... ok
t\03.routers_messages.t ..................... ok
t\04.routers_snapshot.t ..................... ok
t\05.routers_metadata.t ..................... ok
t\06.routers_payments.t ..................... ok
t\07.routers_workdays.t ..................... ok
t\08.routers_workdiary.t .................... ok
t\09.routers_activities_engagement.t ........ ok
t\10.routers_activities_team.t .............. ok
t\11.routers_freelancers_profile.t .......... ok
t\12.routers_freelancers_search.t ........... ok
t\13.routers_jobs_profile.t ................. ok
t\14.routers_jobs_search.t .................. ok
t\15.routers_organization_companies.t ....... ok
t\16.routers_organization_teams.t ........... ok
t\17.routers_organization_users.t ........... ok
t\18.routers_hr_contracts.t ................. ok
t\19.routers_hr_engagements.t ............... ok
t\20.routers_hr_interviews.t ................ ok
t\21.routers_hr_jobs.t ...................... ok
t\22.routers_hr_milestones.t ................ ok
t\23.routers_hr_submissions.t ............... ok
t\24.routers_hr_clients_applications.t ...... ok
t\25.routers_hr_clients_offers.t ............ ok
t\26.routers_hr_freelancers_offers.t ........ ok
t\27.routers_hr_freelancers_applications.t .. ok
t\28.routers_reports_time.t ................. ok
t\29.routers_reports_finance_accounts.t ..... ok
t\30.routers_reports_finance_billings.t ..... ok
t\31.routers_reports_finance_earnings.t ..... ok
All tests successful.
Files=33, Tests=176, 28 wallclock secs ( 0.17 usr +  0.06 sys =  0.23 CPU)
Result: PASS

------------------------------
PREREQUISITES
------------------------------

Prerequisite modules loaded:

requires:

    Module          Need   Have    
    --------------- ------ --------
    IO::Socket::SSL 1.965  1.997   
    Net::OAuth2     0.63   0.66    
    perl            v5.8.8 5.012002

build_requires:

    Module          Need   Have    
    --------------- ------ --------
    Test::More      0.66   1.001003
    Test::Warn      0.21   0.30    

configure_requires:

    Module          Need   Have    
    --------------- ------ --------
    Module::Build   0.42   0.4206  


------------------------------
ENVIRONMENT AND OTHER CONTEXT
------------------------------

Environment variables:

    AUTOMATED_TESTING = 1
    COMSPEC = C:\WINDOWS\system32\cmd.exe
    NUMBER_OF_PROCESSORS = 1
    PATH = c:\Windows\system32;c:\Windows\System32\Wbem;C:\Git\cmd;C:\strawberry\c\bin;C:\strawberry\perl\site\bin;C:\strawberry\perl\bin
    PERL5LIB = C:\strawberry\cpan\build\Net-OAuth2-0.66-0/blib/arch;C:\strawberry\cpan\build\Net-OAuth2-0.66-0/blib/lib
    PERL5OPT = 
    PERL5_CPANPLUS_IS_RUNNING = 1296
    PERL5_CPAN_IS_RUNNING = 1296
    PERL5_CPAN_IS_RUNNING_IN_RECURSION = 516,1296
    PERL_CR_SMOKER_CURRENT = Net-Upwork-API-2.1.2
    PERL_CR_SMOKER_RUNONCE = 1
    PERL_EXTUTILS_AUTOINSTALL = --defaultdeps
    PERL_MM_USE_DEFAULT = 1
    PROCESSOR_IDENTIFIER = x86 Family 18 Model 1 Stepping 0, AuthenticAMD
    TEMP = C:\DOCUME~1\c\LOCALS~1\Temp
    TERM = dumb

Perl special variables (and OS-specific diagnostics, for MSWin32):

    $^X = C:\strawberry\perl\bin\perl.exe
    $UID/$EUID = 0 / 0
    $GID = 0
    $EGID = 0
    Win32::GetOSName = WinXP/.Net
    Win32::GetOSVersion = Service Pack 3, 5, 1, 2600, 2, 3, 0, 256, 1
    Win32::FsType = NTFS
    Win32::IsAdminUser = 1

Perl module toolchain versions installed:

    Module              Have    
    ------------------- --------
    CPAN                2.16    
    CPAN::Meta          2.141520
    Cwd                 3.47    
    ExtUtils::CBuilder  0.280216
    ExtUtils::Command   1.16    
    ExtUtils::Install   1.55    
    ExtUtils::MakeMaker 6.98    
    ExtUtils::Manifest  1.60    
    ExtUtils::ParseXS   3.24    
    File::Spec          3.47    
    JSON                2.90    
    JSON::PP            2.27203 
    Module::Build       0.4206  
    Module::Signature   0.66    
    Parse::CPAN::Meta   1.4414  
    Test::Harness       3.32    
    Test::More          1.001003
    YAML                0.98    
    YAML::Syck          1.27    
    version             0.9908  


--

Summary of my perl5 (revision 5 version 12 subversion 2) configuration:
   
  Platform:
    osname=MSWin32, osvers=5.1, archname=MSWin32-x86-multi-thread
    uname='Win32 strawberryperl 5.12.2.0 #1 Fri Nov  5 05:17:27 2010 i386'
    config_args='undef'
    hint=recommended, useposix=true, d_sigaction=undef
    useithreads=define, usemultiplicity=define
    useperlio=define, d_sfio=undef, uselargefiles=define, usesocks=undef
    use64bitint=undef, use64bitall=undef, uselongdouble=undef
    usemymalloc=n, bincompat5005=undef
  Compiler:
    cc='gcc', ccflags =' -s -O2 -DWIN32 -DHAVE_DES_FCRYPT  -DUSE_SITECUSTOMIZE -DPERL_IMPLICIT_CONTEXT -DPERL_IMPLICIT_SYS -fno-strict-aliasing -mms-bitfields -DPERL_MSVCRT_READFIX',
    optimize='-s -O2',
    cppflags='-DWIN32'
    ccversion='', gccversion='4.4.3', gccosandvers=''
    intsize=4, longsize=4, ptrsize=4, doublesize=8, byteorder=1234
    d_longlong=undef, longlongsize=8, d_longdbl=define, longdblsize=12
    ivtype='long', ivsize=4, nvtype='double', nvsize=8, Off_t='long long', lseeksize=8
    alignbytes=8, prototype=define
  Linker and Libraries:
    ld='g++', ldflags ='-s -L"C:\strawberry\perl\lib\CORE" -L"C:\strawberry\c\lib"'
    libpth=C:\strawberry\c\lib C:\strawberry\c\i686-w64-mingw32\lib
    libs=-lmoldname -lkernel32 -luser32 -lgdi32 -lwinspool -lcomdlg32 -ladvapi32 -lshell32 -lole32 -loleaut32 -lnetapi32 -luuid -lws2_32 -lmpr -lwinmm -lversion -lodbc32 -lodbccp32 -lcomctl32
    perllibs=-lmoldname -lkernel32 -luser32 -lgdi32 -lwinspool -lcomdlg32 -ladvapi32 -lshell32 -lole32 -loleaut32 -lnetapi32 -luuid -lws2_32 -lmpr -lwinmm -lversion -lodbc32 -lodbccp32 -lcomctl32
    libc=, so=dll, useshrplib=true, libperl=libperl512.a
    gnulibc_version=''
  Dynamic Linking:
    dlsrc=dl_win32.xs, dlext=dll, d_dlsymun=undef, ccdlflags=' '
    cccdlflags=' ', lddlflags='-mdll -s -L"C:\strawberry\perl\lib\CORE" -L"C:\strawberry\c\lib"'


Characteristics of this binary (from libperl): 
  Compile-time options: MULTIPLICITY PERL_DONT_CREATE_GVSV
                        PERL_IMPLICIT_CONTEXT PERL_IMPLICIT_SYS
                        PERL_MALLOC_WRAP PL_OP_SLAB_ALLOC USE_ITHREADS
                        USE_LARGE_FILES USE_PERLIO USE_PERL_ATOF
                        USE_SITECUSTOMIZE
  Built under MSWin32
  Compiled at Nov  5 2010 08:39:08
  %ENV:
    PERL5LIB="C:\strawberry\cpan\build\Net-OAuth2-0.66-0/blib/arch;C:\strawberry\cpan\build\Net-OAuth2-0.66-0/blib/lib"
    PERL5_CPANPLUS_IS_RUNNING="1296"
    PERL5_CPAN_IS_RUNNING="1296"
    PERL5_CPAN_IS_RUNNING_IN_RECURSION="516,1296"
    PERL_CR_SMOKER_CURRENT="Net-Upwork-API-2.1.2"
    PERL_CR_SMOKER_RUNONCE="1"
    PERL_EXTUTILS_AUTOINSTALL="--defaultdeps"
    PERL_MM_USE_DEFAULT="1"
  @INC:
    C:\strawberry\cpan\build\Net-OAuth2-0.66-0/blib/arch
    C:\strawberry\cpan\build\Net-OAuth2-0.66-0/blib/lib
    C:/strawberry/perl/site/lib
    C:/strawberry/perl/vendor/lib
    C:/strawberry/perl/lib
    .