MooseX-Types-Authen-Passphrase v0.04 Perl 5 v5.22.1 x86_64-linux

Status
Pass
From
Slaven Rezić (SREZIC)
Dist
MooseX-Types-Authen-Passphrase v0.04
Platform
Perl 5 v5.22.1 x86_64-linux
Date
2017-08-22 23:37:04
ID
cdae3f8c-8792-11e7-8f3d-c9e298ba2ba2
This distribution has been tested as part of the CPAN Testers
project, supporting the Perl programming language.  See
http://wiki.cpantesters.org/ for more information or email
questions to cpan-testers-discuss@perl.org


--
Dear Karen Etheridge,

This is a computer-generated report for MooseX-Types-Authen-Passphrase-0.04
on perl 5.22.1, created by CPAN-Reporter-1.2018.

Thank you for uploading your work to CPAN.  Congratulations!
All tests were successful.

Sections of this report:

    * Tester comments
    * Program output
    * Prerequisites
    * Environment and other context

------------------------------
TESTER COMMENTS
------------------------------

Additional comments from tester:

none provided

------------------------------
PROGRAM OUTPUT
------------------------------

Output from './Build test':

# 
# Versions for all modules listed in MYMETA.json (including optional ones):
# 
# === Configure Requires ===
# 
#     Module               Want  Have
#     ------------------- ----- -----
#     ExtUtils::MakeMaker   any  7.24
#     Module::Build::Tiny 0.037 0.039
# 
# === Test Requires ===
# 
#     Module              Want     Have
#     ------------------- ---- --------
#     ExtUtils::MakeMaker  any     7.24
#     File::Spec           any     3.62
#     Moose                any   2.2006
#     Test::More           any 1.302085
#     ok                   any 1.302085
# 
# === Test Recommends ===
# 
#     Module         Want     Have
#     ---------- -------- --------
#     CPAN::Meta 2.120900 2.150010
# 
# === Runtime Requires ===
# 
#     Module                        Want  Have
#     ----------------------------- ---- -----
#     Authen::Passphrase             any 0.008
#     Authen::Passphrase::RejectAll  any 0.008
#     Dist::CheckConflicts           any  0.11
#     MooseX::Types                  any  0.49
#     MooseX::Types::Moose           any  0.49
#     namespace::clean               any  0.27
#     strict                         any  1.09
#     warnings                       any  1.34
# 
t/00-report-prereqs.t .. ok
t/basic.t .............. ok
# Conflicts detected for Moose:
#   MooseX::Attribute::Dependent is version 1.1.3, but must be greater than version 1.1.3
#   Net::Twitter is version 4.01041, but must be greater than version 4.01041
t/zzz-check-breaks.t ... ok
All tests successful.
Files=3, Tests=18, 11 wallclock secs ( 0.02 usr  0.01 sys +  1.75 cusr  0.23 csys =  2.01 CPU)
Result: PASS

------------------------------
PREREQUISITES
------------------------------

Prerequisite modules loaded:

requires:

    Module                        Need  Have    
    ----------------------------- ----- --------
    Authen::Passphrase            0     0.008   
    Authen::Passphrase::RejectAll 0     0.008   
    MooseX::Types                 0     0.49    
    MooseX::Types::Moose          0     0.49    
    namespace::clean              0     0.27    
    perl                          5.006 5.022001
    strict                        0     1.09    
    warnings                      0     1.34    

build_requires:

    Module                        Need  Have    
    ----------------------------- ----- --------
    ExtUtils::MakeMaker           0     7.24    
    File::Spec                    0     3.62    
    Moose                         0     2.2006  
    ok                            0     1.302085
    Test::More                    0     1.302085

configure_requires:

    Module                        Need  Have    
    ----------------------------- ----- --------
    ExtUtils::MakeMaker           0     7.24    
    Module::Build::Tiny           0.037 0.039   


------------------------------
ENVIRONMENT AND OTHER CONTEXT
------------------------------

Environment variables:

    LANG = C
    LC_ALL = de_DE.UTF-8
    PATH = /usr/local/bin:/usr/bin:/bin:/usr/local/sbin:/usr/sbin:/sbin:/home/cpansand/bin/linux-gnu:/home/cpansand/bin/sh:/home/cpansand/bin:/usr/games:/home/cpansand/devel:/home/eserte/src/srezic-misc/scripts
    PERL5LIB = /home/cpansand/.cpan/build/2017082221/Test-TempDir-0.10-3/blib/arch:/home/cpansand/.cpan/build/2017082221/Test-TempDir-0.10-3/blib/lib:/home/cpansand/.cpan/build/2017082221/Search-GIN-0.11-3/blib/arch:/home/cpansand/.cpan/build/2017082221/Search-GIN-0.11-3/blib/lib:/home/cpansand/.cpan/build/2017082221/MooseX-Types-Set-Object-0.05-3/blib/arch:/home/cpansand/.cpan/build/2017082221/MooseX-Types-Set-Object-0.05-3/blib/lib:/home/cpansand/.cpan/build/2017082221/MooseX-YAML-0.04-3/blib/arch:/home/cpansand/.cpan/build/2017082221/MooseX-YAML-0.04-3/blib/lib:/home/cpansand/.cpan/build/2017082221/MooseX-Blessed-Reconstruct-1.00-3/blib/arch:/home/cpansand/.cpan/build/2017082221/MooseX-Blessed-Reconstruct-1.00-3/blib/lib:/home/cpansand/.cpan/build/2017082221/Cache-Ref-0.04-3/blib/arch:/home/cpansand/.cpan/build/2017082221/Cache-Ref-0.04-3/blib/lib
    PERL5OPT = 
    PERL5_CPANPLUS_IS_RUNNING = 13599
    PERL5_CPAN_IS_RUNNING = 13599
    PERL5_CPAN_IS_RUNNING_IN_RECURSION = 13524,13599
    PERLDOC = -MPod::Perldoc::ToTextOverstrike
    PERL_BATCH = yes
    PERL_CANARY_STABILITY_NOPROMPT = 1
    PERL_CPAN_REPORTER_CONFIG = /var/tmp/cpansmoker-1023/2017082221/cpanreporter_000_config.ini
    PERL_EXTUTILS_AUTOINSTALL = --defaultdeps
    PERL_PARALLEL_SMOKER = yes
    PERL_USE_UNSAFE_INC = 1
    SHELL = /bin/zsh
    TERM = screen
    TMPDIR = /var/tmp/cpansmoker-1023/2017082221

Perl special variables (and OS-specific diagnostics, for MSWin32):

    $^X = /bbbike/perl-5.22.1/bin/perl5.22.1
    $UID/$EUID = 1023 / 1023
    $GID = 1023 1023
    $EGID = 1023 1023

Perl module toolchain versions installed:

    Module              Have    
    ------------------- --------
    CPAN                2.16    
    CPAN::Meta          2.150010
    Cwd                 3.62    
    ExtUtils::CBuilder  0.280224
    ExtUtils::Command   7.24    
    ExtUtils::Install   2.14    
    ExtUtils::MakeMaker 7.24    
    ExtUtils::Manifest  1.70    
    ExtUtils::ParseXS   3.35    
    File::Spec          3.62    
    JSON                2.94    
    JSON::PP            2.27400 
    Module::Build       0.4220  
    Module::Signature   0.79    
    Parse::CPAN::Meta   2.150010
    Test::Harness       3.38    
    Test::More          1.302085
    YAML                1.20    
    YAML::Syck          1.29    
    version             0.9917  


--

Summary of my perl5 (revision 5 version 22 subversion 1) configuration:
   
  Platform:
    osname=linux, osvers=3.16.0-4-amd64, archname=x86_64-linux
    uname='linux eserte 3.16.0-4-amd64 #1 smp debian 3.16.7-ckt25-2 (2016-04-08) x86_64 gnulinux '
    config_args='-ds -e -Dprefix=/opt/perl-5.22.1 -Dcf_email=srezic@cpan.org'
    hint=recommended, useposix=true, d_sigaction=define
    useithreads=undef, usemultiplicity=undef
    use64bitint=define, use64bitall=define, uselongdouble=undef
    usemymalloc=n, bincompat5005=undef
  Compiler:
    cc='cc', ccflags ='-fwrapv -fno-strict-aliasing -pipe -fstack-protector-strong -I/usr/local/include -D_LARGEFILE_SOURCE -D_FILE_OFFSET_BITS=64 -D_FORTIFY_SOURCE=2',
    optimize='-O2',
    cppflags='-fwrapv -fno-strict-aliasing -pipe -fstack-protector-strong -I/usr/local/include'
    ccversion='', gccversion='4.9.2', gccosandvers=''
    intsize=4, longsize=8, ptrsize=8, doublesize=8, byteorder=12345678, doublekind=3
    d_longlong=define, longlongsize=8, d_longdbl=define, longdblsize=16, longdblkind=3
    ivtype='long', ivsize=8, nvtype='double', nvsize=8, Off_t='off_t', lseeksize=8
    alignbytes=8, prototype=define
  Linker and Libraries:
    ld='cc', ldflags =' -fstack-protector-strong -L/usr/local/lib'
    libpth=/usr/local/lib /usr/lib/gcc/x86_64-linux-gnu/4.9/include-fixed /usr/include/x86_64-linux-gnu /usr/lib /lib/x86_64-linux-gnu /lib/../lib /usr/lib/x86_64-linux-gnu /usr/lib/../lib /lib
    libs=-lpthread -lnsl -lgdbm -ldb -ldl -lm -lcrypt -lutil -lc -lgdbm_compat
    perllibs=-lpthread -lnsl -ldl -lm -lcrypt -lutil -lc
    libc=libc-2.19.so, so=so, useshrplib=false, libperl=libperl.a
    gnulibc_version='2.19'
  Dynamic Linking:
    dlsrc=dl_dlopen.xs, dlext=so, d_dlsymun=undef, ccdlflags='-Wl,-E'
    cccdlflags='-fPIC', lddlflags='-shared -O2 -L/usr/local/lib -fstack-protector-strong'


Characteristics of this binary (from libperl): 
  Compile-time options: HAS_TIMES PERLIO_LAYERS PERL_DONT_CREATE_GVSV
                        PERL_HASH_FUNC_ONE_AT_A_TIME_HARD PERL_MALLOC_WRAP
                        PERL_NEW_COPY_ON_WRITE PERL_PRESERVE_IVUV
                        USE_64_BIT_ALL USE_64_BIT_INT USE_LARGE_FILES
                        USE_LOCALE USE_LOCALE_COLLATE USE_LOCALE_CTYPE
                        USE_LOCALE_NUMERIC USE_LOCALE_TIME USE_PERLIO
                        USE_PERL_ATOF
  Locally applied patches:
	Devel::PatchPerl 1.42
  Built under linux
  Compiled at May  7 2016 12:41:21
  %ENV:
    PERL5LIB="/home/cpansand/.cpan/build/2017082221/Test-TempDir-0.10-3/blib/arch:/home/cpansand/.cpan/build/2017082221/Test-TempDir-0.10-3/blib/lib:/home/cpansand/.cpan/build/2017082221/Search-GIN-0.11-3/blib/arch:/home/cpansand/.cpan/build/2017082221/Search-GIN-0.11-3/blib/lib:/home/cpansand/.cpan/build/2017082221/MooseX-Types-Set-Object-0.05-3/blib/arch:/home/cpansand/.cpan/build/2017082221/MooseX-Types-Set-Object-0.05-3/blib/lib:/home/cpansand/.cpan/build/2017082221/MooseX-YAML-0.04-3/blib/arch:/home/cpansand/.cpan/build/2017082221/MooseX-YAML-0.04-3/blib/lib:/home/cpansand/.cpan/build/2017082221/MooseX-Blessed-Reconstruct-1.00-3/blib/arch:/home/cpansand/.cpan/build/2017082221/MooseX-Blessed-Reconstruct-1.00-3/blib/lib:/home/cpansand/.cpan/build/2017082221/Cache-Ref-0.04-3/blib/arch:/home/cpansand/.cpan/build/2017082221/Cache-Ref-0.04-3/blib/lib"
    PERL5OPT=""
    PERL5_CPANPLUS_IS_RUNNING="13599"
    PERL5_CPAN_IS_RUNNING="13599"
    PERL5_CPAN_IS_RUNNING_IN_RECURSION="13524,13599"
    PERLDOC="-MPod::Perldoc::ToTextOverstrike"
    PERL_BATCH="yes"
    PERL_CANARY_STABILITY_NOPROMPT="1"
    PERL_CPAN_REPORTER_CONFIG="/var/tmp/cpansmoker-1023/2017082221/cpanreporter_000_config.ini"
    PERL_EXTUTILS_AUTOINSTALL="--defaultdeps"
    PERL_PARALLEL_SMOKER="yes"
    PERL_USE_UNSAFE_INC="1"
  @INC:
    /home/cpansand/.cpan/build/2017082221/Test-TempDir-0.10-3/blib/arch
    /home/cpansand/.cpan/build/2017082221/Test-TempDir-0.10-3/blib/lib
    /home/cpansand/.cpan/build/2017082221/Search-GIN-0.11-3/blib/arch
    /home/cpansand/.cpan/build/2017082221/Search-GIN-0.11-3/blib/lib
    /home/cpansand/.cpan/build/2017082221/MooseX-Types-Set-Object-0.05-3/blib/arch
    /home/cpansand/.cpan/build/2017082221/MooseX-Types-Set-Object-0.05-3/blib/lib
    /home/cpansand/.cpan/build/2017082221/MooseX-YAML-0.04-3/blib/arch
    /home/cpansand/.cpan/build/2017082221/MooseX-YAML-0.04-3/blib/lib
    /home/cpansand/.cpan/build/2017082221/MooseX-Blessed-Reconstruct-1.00-3/blib/arch
    /home/cpansand/.cpan/build/2017082221/MooseX-Blessed-Reconstruct-1.00-3/blib/lib
    /home/cpansand/.cpan/build/2017082221/Cache-Ref-0.04-3/blib/arch
    /home/cpansand/.cpan/build/2017082221/Cache-Ref-0.04-3/blib/lib
    /opt/perl-5.22.1/lib/site_perl/5.22.1/x86_64-linux
    /opt/perl-5.22.1/lib/site_perl/5.22.1
    /opt/perl-5.22.1/lib/5.22.1/x86_64-linux
    /opt/perl-5.22.1/lib/5.22.1
    .