Report for App-CSE-0.010

Back
From: metabase:user:320bfe00-2aae-11df-837a-5e0a49663a4f
Subject: PASS App-CSE-0.010 v5.25.6 GNU/Linux
Date: 2016-12-02T18:26:12Z

This distribution has been tested as part of the CPAN Testers
project, supporting the Perl programming language.  See
http://wiki.cpantesters.org/ for more information or email
questions to cpan-testers-discuss@perl.org


--
Dear Jerome Eteve,

This is a computer-generated report for App-CSE-0.010
on perl 5.25.6, created by CPAN-Reporter-1.2018.

Thank you for uploading your work to CPAN.  Congratulations!
All tests were successful.

Sections of this report:

    * Tester comments
    * Program output
    * Prerequisites
    * Environment and other context

------------------------------
TESTER COMMENTS
------------------------------

Additional comments from tester:

this report is from an automated smoke testing program
and was not reviewed by a human for accuracy

------------------------------
PROGRAM OUTPUT
------------------------------

Output from '/usr/bin/make test':

PERL_DL_NONLAZY=1 "/home/sand/src/perl/repoperls/installed-perls/perl/v5.25.6/f7bf/bin/perl" "-MExtUtils::Command::MM" "-MTest::Harness" "-e" "undef *Test::Harness::Switches; test_harness(0, 'blib/lib', 'blib/arch')" t/*.t t/toindex/perl/*.t
t/00-load.t ............. ok
t/01-help.t ............. ok
t/02-check.t ............ ok
t/03-index.t ............ ok
t/04-search.t ........... ok
t/05-more-search.t ...... ok
t/06-update.t ........... ok
t/07-decl.t ............. ok
t/08-meta.t ............. ok
t/09-watch.t ............ skipped: Do not run this test. unless TEST_SLOW=1
t/10-hidden.t ........... ok
# this_is_a_test
t/toindex/perl/hello.t .. ok
All tests successful.
Files=12, Tests=145, 15 wallclock secs ( 0.07 usr  0.00 sys +  9.38 cusr  0.78 csys = 10.23 CPU)
Result: PASS

------------------------------
PREREQUISITES
------------------------------

Prerequisite modules loaded:

requires:

    Module                  Need        Have       
    ----------------------- ----------- -----------
    Carp                    0           1.42       
    Class::InsideOut        0           1.13       
    Class::Load             0           0.23       
    DateTime                0           1.40       
    Encode                  0           2.88       
    File::BaseDir           0           0.07       
    File::Find              0           1.34       
    File::MimeInfo::Magic   0           0.28_01    
    File::Slurp             0           9999.19    
    File::stat              0           1.07       
    Filesys::Notify::Simple 0           0.12       
    Getopt::Long            0           2.49       
    IO::Interactive         0           1.022      
    JSON                    0           2.90       
  ! Linux::Inotify2         0           n/a        
    Log::Dispatch::Syslog   0           2.58       
    Log::Log4perl           0           1.48       
    Lucy                    0.006000004 0.006000004
    Moose                   0           2.1903     
    Path::Class::Dir        0           0.37       
    Pod::Text               0           4.09       
    PPI                     0           1.220      
    Regexp::Assemble        0           0.37       
    Scalar::Util            0           1.46       
    String::CamelCase       0           0.02       
    Term::ProgressBar       2.17        2.17       
    Text::Glob              0.09        0.10       
    Time::HiRes             0           1.9741     
    XML::LibXML             0           2.0128     

build_requires:

    Module                  Need        Have       
    ----------------------- ----------- -----------
    Carp::Always            0           0.13       
    ExtUtils::MakeMaker     0           7.24       
    File::Copy::Recursive   0           0.38       
    File::Slurp             0           9999.19    
    File::Temp              0           0.2304     
    Test::More              0           1.302067   

configure_requires:

    Module                  Need        Have       
    ----------------------- ----------- -----------
    ExtUtils::MakeMaker     0           7.24       


------------------------------
ENVIRONMENT AND OTHER CONTEXT
------------------------------

Environment variables:

    AUTOMATED_TESTING = 1
    LANG = en_US.UTF-8
    LANGUAGE = en_US:en
    PATH = /home/sand/bin:/usr/local/bin:/usr/bin:/bin:/usr/games:/usr/local/perl/bin:/usr/X11/bin:/sbin:/usr/sbin
    PERL5LIB = 
    PERL5OPT = 
    PERL5_CPANPLUS_IS_RUNNING = 32193
    PERL5_CPAN_IS_RUNNING = 32193
    PERL_CANARY_STABILITY_NOPROMPT = 1
    PERL_MM_USE_DEFAULT = 1
    SHELL = /usr/bin/zsh
    TERM = screen

Perl special variables (and OS-specific diagnostics, for MSWin32):

    $^X = /home/sand/src/perl/repoperls/installed-perls/perl/v5.25.6/f7bf/bin/perl
    $UID/$EUID = 1005 / 1005
    $GID = 1005 1005
    $EGID = 1005 1005

Perl module toolchain versions installed:

    Module              Have      
    ------------------- ----------
    CPAN                2.15      
    CPAN::Meta          2.150010  
    Cwd                 3.65      
    ExtUtils::CBuilder  0.280225  
    ExtUtils::Command   7.24      
    ExtUtils::Install   2.04      
    ExtUtils::MakeMaker 7.24      
    ExtUtils::Manifest  1.70      
    ExtUtils::ParseXS   3.33      
    File::Spec          3.65      
    JSON                2.90      
    JSON::PP            2.27400_01
    Module::Build       0.4220    
    Module::Signature   0.81      
    Parse::CPAN::Meta   2.150010  
    Test::Harness       3.36_01   
    Test::More          1.302067  
    YAML                1.19      
    YAML::Syck          1.29      
    version             0.9917    


--

Summary of my perl5 (revision 5 version 25 subversion 6) configuration:
  Commit id: 1e8f85b7ea24bdc8cdfe1aa523880aa183a7f475
  Platform:
    osname=linux
    osvers=4.7.0-1-amd64
    archname=x86_64-linux-thread-multi
    uname='linux k83 4.7.0-1-amd64 #1 smp debian 4.7.2-1 (2016-08-28) x86_64 gnulinux '
    config_args='-Dprefix=/home/sand/src/perl/repoperls/installed-perls/perl/v5.25.6/f7bf -Dmyhostname=k83 -Dinstallusrbinperl=n -Uversiononly -Dusedevel -des -Ui_db -Dlibswanted=cl pthread socket inet nsl gdbm dbm malloc dl ld sun m crypt sec util c cposix posix ucb BSD gdbm_compat -Duseithreads -Uuselongdouble -DDEBUGGING=-g'
    hint=recommended
    useposix=true
    d_sigaction=define
    useithreads=define
    usemultiplicity=define
    use64bitint=define
    use64bitall=define
    uselongdouble=undef
    usemymalloc=n
    bincompat5005=undef
  Compiler:
    cc='cc'
    ccflags ='-D_REENTRANT -D_GNU_SOURCE -fwrapv -fno-strict-aliasing -pipe -fstack-protector-strong -I/usr/local/include -D_LARGEFILE_SOURCE -D_FILE_OFFSET_BITS=64'
    optimize='-O2 -g'
    cppflags='-D_REENTRANT -D_GNU_SOURCE -fwrapv -fno-strict-aliasing -pipe -fstack-protector-strong -I/usr/local/include'
    ccversion=''
    gccversion='6.2.0 20160830'
    gccosandvers=''
    intsize=4
    longsize=8
    ptrsize=8
    doublesize=8
    byteorder=12345678
    doublekind=3
    d_longlong=define
    longlongsize=8
    d_longdbl=define
    longdblsize=16
    longdblkind=3
    ivtype='long'
    ivsize=8
    nvtype='double'
    nvsize=8
    Off_t='off_t'
    lseeksize=8
    alignbytes=8
    prototype=define
  Linker and Libraries:
    ld='cc'
    ldflags =' -fstack-protector-strong -L/usr/local/lib'
    libpth=/usr/local/lib /usr/lib/gcc/x86_64-linux-gnu/6/include-fixed /usr/include/x86_64-linux-gnu /usr/lib /lib/x86_64-linux-gnu /lib/../lib /usr/lib/x86_64-linux-gnu /usr/lib/../lib /lib
    libs=-lpthread -lnsl -lgdbm -ldl -lm -lcrypt -lutil -lc -lgdbm_compat
    perllibs=-lpthread -lnsl -ldl -lm -lcrypt -lutil -lc
    libc=libc-2.24.so
    so=so
    useshrplib=false
    libperl=libperl.a
    gnulibc_version='2.24'
  Dynamic Linking:
    dlsrc=dl_dlopen.xs
    dlext=so
    d_dlsymun=undef
    ccdlflags='-Wl,-E'
    cccdlflags='-fPIC'
    lddlflags='-shared -O2 -g -L/usr/local/lib -fstack-protector-strong'


Characteristics of this binary (from libperl): 
  Compile-time options:
    HAS_TIMES
    MULTIPLICITY
    PERLIO_LAYERS
    PERL_COPY_ON_WRITE
    PERL_DONT_CREATE_GVSV
    PERL_HASH_FUNC_ONE_AT_A_TIME_HARD
    PERL_IMPLICIT_CONTEXT
    PERL_MALLOC_WRAP
    PERL_OP_PARENT
    PERL_PRESERVE_IVUV
    PERL_USE_DEVEL
    USE_64_BIT_ALL
    USE_64_BIT_INT
    USE_ITHREADS
    USE_LARGE_FILES
    USE_LOCALE
    USE_LOCALE_COLLATE
    USE_LOCALE_CTYPE
    USE_LOCALE_NUMERIC
    USE_LOCALE_TIME
    USE_PERLIO
    USE_PERL_ATOF
    USE_REENTRANT_API
  Built under linux
  Compiled at Oct 20 2016 20:31:48
  %ENV:
    PERL5LIB=""
    PERL5OPT=""
    PERL5_CPANPLUS_IS_RUNNING="32193"
    PERL5_CPAN_IS_RUNNING="32193"
    PERL_CANARY_STABILITY_NOPROMPT="1"
    PERL_MM_USE_DEFAULT="1"
  @INC:
    /home/sand/src/perl/repoperls/installed-perls/perl/v5.25.6/f7bf/lib/site_perl/5.25.6/x86_64-linux-thread-multi
    /home/sand/src/perl/repoperls/installed-perls/perl/v5.25.6/f7bf/lib/site_perl/5.25.6
    /home/sand/src/perl/repoperls/installed-perls/perl/v5.25.6/f7bf/lib/5.25.6/x86_64-linux-thread-multi
    /home/sand/src/perl/repoperls/installed-perls/perl/v5.25.6/f7bf/lib/5.25.6
    .