Net-Async-FastCGI v0.26 Perl 5 v5.40.0 amd64-freebsd-ld

Status
Pass
From
Slaven Rezić
Dist
Net-Async-FastCGI v0.26
Platform
Perl 5 v5.40.0 amd64-freebsd-ld
Date
2024-08-03 21:03:16
ID
cdda4cb0-51db-11ef-b75b-5d166e8775ea
This distribution has been tested as part of the CPAN Testers
project, supporting the Perl programming language.  See
http://wiki.cpantesters.org/ for more information or email
questions to cpan-testers-discuss@perl.org


--
Dear Paul Evans,

This is a computer-generated report for Net-Async-FastCGI-0.26
on perl 5.40.0, created by CPAN-Reporter-1.2019.

Thank you for uploading your work to CPAN.  Congratulations!
All tests were successful.

Sections of this report:

    * Tester comments
    * Program output
    * Prerequisites
    * Environment and other context

------------------------------
TESTER COMMENTS
------------------------------

Additional comments from tester:

none provided

------------------------------
PROGRAM OUTPUT
------------------------------

Output from './Build test':

t/00use.t ................... ok
t/01test.t .................. ok
t/02request-minimal.t ....... ok
t/03request-full.t .......... ok
t/04request-reuse.t ......... ok
t/05request-multiplex.t ..... ok
t/06request-binary.t ........ ok
t/07request-longparams.t .... ok
t/08request-shortwrites.t ... ok
t/09request-streamstdout.t .. ok
t/10request-close.t ......... ok
t/11request-encoding.t ...... ok
t/12request-unknown.t ....... ok
t/13request-handles.t ....... ok
t/14request-streamstdin.t ... ok
t/20get_values.t ............ ok
t/30request-HTTP.t .......... ok
t/40psgi.t .................. ok
t/41psgi-streaming.t ........ ok
t/99pod.t ................... ok
All tests successful.
Files=20, Tests=105,  3 wallclock secs ( 0.05 usr  0.05 sys +  2.64 cusr  0.45 csys =  3.20 CPU)
Result: PASS

------------------------------
PREREQUISITES
------------------------------

Prerequisite modules loaded:

requires:

    Module                      Need     Have    
    --------------------------- -------- --------
    Encode                      0        3.21    
    Exporter                    5.57     5.78    
    HTTP::Request               0        6.46    
    HTTP::Response              0        6.46    
    IO::Async::Listener         0.35     0.803   
    IO::Async::Loop             0.16     0.803   
    IO::Async::Protocol::Stream 0.33     0.803   
    IO::Async::Test             0        0.803   
    Net::FastCGI::Constant      0.10     0.14    
    Net::FastCGI::Protocol      0.10     0.14    
    perl                        5.014    5.040000
    Tie::Handle                 0        4.3     

build_requires:

    Module                      Need     Have    
    --------------------------- -------- --------
    Test2::V0                   0.000149 0.000162


------------------------------
ENVIRONMENT AND OTHER CONTEXT
------------------------------

Environment variables:

    LANG = C.UTF-8
    PATH = /usr/local/bin:/usr/bin:/bin:/usr/local/sbin:/usr/sbin:/sbin:/home/cpansand/bin/sh:/home/cpansand/bin:/usr/games:/home/cpansand/devel:/home/eserte/src/srezic-misc/scripts
    PERL5LIB = 
    PERL5OPT = 
    PERL5_CPANPLUS_IS_RUNNING = 211
    PERL5_CPAN_IS_RUNNING = 211
    PERL5_CPAN_IS_RUNNING_IN_RECURSION = 66352,211
    PERL_BATCH = yes
    PERL_CANARY_STABILITY_NOPROMPT = 1
    PERL_CPAN_REPORTER_CONFIG = /var/tmp/cpansmoker-1023/2024080320/cpanreporter_001_config.ini
    PERL_EXTUTILS_AUTOINSTALL = --defaultdeps
    PERL_USE_UNSAFE_INC = 1
    SHELL = /bin/sh
    TMPDIR = /var/tmp/cpansmoker-1023/2024080320

Perl special variables (and OS-specific diagnostics, for MSWin32):

    $^X = /usr/perl5.40.0D/bin/perl
    $UID/$EUID = 1023 / 1023
    $GID = 1023 1023
    $EGID = 1023 1023

Perl module toolchain versions installed:

    Module              Have    
    ------------------- --------
    CPAN                2.36    
    CPAN::Meta          2.150010
    Cwd                 3.90    
    ExtUtils::CBuilder  0.280240
    ExtUtils::Command   7.70    
    ExtUtils::Install   2.22    
    ExtUtils::MakeMaker 7.70    
    ExtUtils::Manifest  1.75    
    ExtUtils::ParseXS   3.51    
    File::Spec          3.90    
    JSON                4.10    
    JSON::PP            4.16    
    Module::Build       0.4234  
    Module::Signature   n/a     
    Parse::CPAN::Meta   2.150010
    Test2               1.302199
    Test::Harness       3.48    
    Test::More          1.302199
    YAML                1.31    
    YAML::Syck          1.34    
    version             0.9930  


--

Summary of my perl5 (revision 5 version 40 subversion 0) configuration:
   
  Platform:
    osname=freebsd
    osvers=15.0-current
    archname=amd64-freebsd-ld
    uname='freebsd cloud2.bbbike.org 15.0-current freebsd 15.0-current #0 main-n271542-4c5188bbeb88-dirty: thu aug 1 02:58:37 utc 2024 root@cloud2.bbbike.org:usrobjhomeprojectsfreebsd-srcamd64.amd64sysgeneric amd64 '
    config_args='-ds -e -Dprefix=/usr/perl5.40.0D -Duselongdouble -Dcf_email=srezic@cpan.org -Doptimize=-O2 -pipe'
    hint=recommended
    useposix=true
    d_sigaction=define
    useithreads=undef
    usemultiplicity=undef
    use64bitint=define
    use64bitall=define
    uselongdouble=define
    usemymalloc=n
    default_inc_excludes_dot=define
  Compiler:
    cc='cc'
    ccflags ='-DHAS_FPSETMASK -DHAS_FLOATINGPOINT_H -DNO_POSIX_2008_LOCALE -fno-strict-aliasing -pipe -fstack-protector-strong -I/usr/local/include'
    optimize='-O2 -pipe'
    cppflags='-DHAS_FPSETMASK -DHAS_FLOATINGPOINT_H -DNO_POSIX_2008_LOCALE -fno-strict-aliasing -pipe -fstack-protector-strong -I/usr/local/include'
    ccversion=''
    gccversion='FreeBSD Clang 18.1.6 (https://github.com/llvm/llvm-project.git llvmorg-18.1.6-0-g1118c2e05e67)'
    gccosandvers=''
    intsize=4
    longsize=8
    ptrsize=8
    doublesize=8
    byteorder=12345678
    doublekind=3
    d_longlong=define
    longlongsize=8
    d_longdbl=define
    longdblsize=16
    longdblkind=3
    ivtype='long'
    ivsize=8
    nvtype='long double'
    nvsize=16
    Off_t='off_t'
    lseeksize=8
    alignbytes=16
    prototype=define
  Linker and Libraries:
    ld='cc'
    ldflags ='-Wl,-E  -fstack-protector-strong -L/usr/local/lib'
    libpth=/usr/lib /usr/local/lib /usr/lib/clang/18/lib
    libs=-lpthread -lgdbm -ldl -lm -lcrypt -lutil -lc
    perllibs=-lpthread -ldl -lm -lcrypt -lutil -lc
    libc=
    so=so
    useshrplib=false
    libperl=libperl.a
    gnulibc_version=''
  Dynamic Linking:
    dlsrc=dl_dlopen.xs
    dlext=so
    d_dlsymun=undef
    ccdlflags=' '
    cccdlflags='-DPIC -fPIC'
    lddlflags='-shared  -L/usr/local/lib -fstack-protector-strong'


Characteristics of this binary (from libperl): 
  Compile-time options:
    HAS_LONG_DOUBLE
    HAS_STRTOLD
    HAS_TIMES
    PERLIO_LAYERS
    PERL_COPY_ON_WRITE
    PERL_DONT_CREATE_GVSV
    PERL_HASH_FUNC_SIPHASH13
    PERL_HASH_USE_SBOX32
    PERL_MALLOC_WRAP
    PERL_OP_PARENT
    PERL_PRESERVE_IVUV
    PERL_USE_SAFE_PUTENV
    USE_64_BIT_ALL
    USE_64_BIT_INT
    USE_LARGE_FILES
    USE_LOCALE
    USE_LOCALE_COLLATE
    USE_LOCALE_CTYPE
    USE_LOCALE_NUMERIC
    USE_LOCALE_TIME
    USE_LONG_DOUBLE
    USE_PERLIO
    USE_PERL_ATOF
  Built under freebsd
  Compiled at Aug  3 2024 19:14:43
  %ENV:
    PERL5LIB=""
    PERL5OPT=""
    PERL5_CPANPLUS_IS_RUNNING="211"
    PERL5_CPAN_IS_RUNNING="211"
    PERL5_CPAN_IS_RUNNING_IN_RECURSION="66352,211"
    PERL_BATCH="yes"
    PERL_CANARY_STABILITY_NOPROMPT="1"
    PERL_CPAN_REPORTER_CONFIG="/var/tmp/cpansmoker-1023/2024080320/cpanreporter_001_config.ini"
    PERL_EXTUTILS_AUTOINSTALL="--defaultdeps"
    PERL_USE_UNSAFE_INC="1"
  @INC:
    /usr/perl5.40.0D/lib/site_perl/5.40.0/amd64-freebsd-ld
    /usr/perl5.40.0D/lib/site_perl/5.40.0
    /usr/perl5.40.0D/lib/5.40.0/amd64-freebsd-ld
    /usr/perl5.40.0D/lib/5.40.0
    .