Report for Dist-Zilla-PluginBundle-Author-Celogeek-1.1

Back
From: metabase:user:320bfe00-2aae-11df-837a-5e0a49663a4f
Subject: PASS Dist-Zilla-PluginBundle-Author-Celogeek-1.1 v5.18.0 GNU/Linux
Date: 2014-02-03T20:14:36Z

This distribution has been tested as part of the CPAN Testers
project, supporting the Perl programming language.  See
http://wiki.cpantesters.org/ for more information or email
questions to cpan-testers-discuss@perl.org


--
Dear celogeek,

This is a computer-generated report for Dist-Zilla-PluginBundle-Author-Celogeek-1.1
on perl 5.18.0, created by CPAN-Reporter-1.2010.

Thank you for uploading your work to CPAN.  Congratulations!
All tests were successful.

Sections of this report:

    * Tester comments
    * Program output
    * Prerequisites
    * Environment and other context

------------------------------
TESTER COMMENTS
------------------------------

Additional comments from tester:

this report is from an automated smoke testing program
and was not reviewed by a human for accuracy

------------------------------
PROGRAM OUTPUT
------------------------------

Output from './Build test':

t/00-compile.t ............ ok
# Testing with Perl 5.018000, /home/sand/src/perl/repoperls/installed-perls/perl/v5.18.0/127e/bin/perl
#     Carp version is 1.32
#     Class::MOP version is 2.1202
#     Dist::Zilla::App::Command::cover version is 1.101001
#     Dist::Zilla::Plugin::AutoPrereqs version is 5.012
#     Dist::Zilla::Plugin::CheckChangeLog version is 0.01
#     Dist::Zilla::Plugin::Git::NextVersion version is 2.019
#     Dist::Zilla::Plugin::MetaConfig version is 5.012
#     Dist::Zilla::Plugin::MetaJSON version is 5.012
#     Dist::Zilla::Plugin::MetaResourcesFromGit version is 1.103620
#     Dist::Zilla::Plugin::MinimumPerl version is 1.003
#     Dist::Zilla::Plugin::ModuleBuild version is 5.012
#     Dist::Zilla::Plugin::NextRelease version is 5.012
#     Dist::Zilla::Plugin::OurPkgVersion version is 0.005001
#     Dist::Zilla::Plugin::PerlTidy version is 0.15
#     Dist::Zilla::Plugin::PodCoverageTests version is 5.012
#     Dist::Zilla::Plugin::PodWeaver version is 4.005
#     Dist::Zilla::Plugin::Prepender version is 1.112280
#     Dist::Zilla::Plugin::Prereqs version is 5.012
#     Dist::Zilla::Plugin::PruneFiles version is 5.012
#     Dist::Zilla::Plugin::ReadmeMarkdownFromPod version is 0.120120
#     Dist::Zilla::Plugin::ReportVersions version is 1.110730
#     Dist::Zilla::Plugin::Run::BeforeRelease version is 0.020
#     Dist::Zilla::Plugin::Test::Compile version is 2.039
#     Dist::Zilla::Plugin::Test::Perl::Critic version is 2.112410
#     Dist::Zilla::Plugin::Test::UnusedVars version is 2.000005
#     Dist::Zilla::PluginBundle::Filter version is 5.012
#     Dist::Zilla::PluginBundle::Git version is 2.019
#     Dist::Zilla::Role::PluginBundle::Easy version is 5.012
#     Dist::Zilla::Role::PluginBundle::PluginRemover version is 0.102
#     File::Spec version is 3.40
#     IO::All version is 0.56
#     IO::Handle version is 1.34
#     IPC::Open3 version is 1.13
#     Module::Build version is 0.4204
#     Moose version is 2.1202
#     Pod::Coverage::TrustPod version is 0.100003
#     Pod::Weaver::Config::Assembler version is 4.006
#     Scalar::Util version is 1.38
#     Test::More version is 1.001002
#     Test::Perl::Critic version is 1.02
#     namespace::autoclean version is 0.15
#     strict version is 1.07
#     warnings version is 1.18
t/000-report-versions.t ... ok
t/author-critic.t ......... skipped: these tests are for testing by the author
t/release-pod-coverage.t .. skipped: these tests are for release candidate testing
t/release-unused-vars.t ... skipped: these tests are for release candidate testing
All tests successful.
Files=5, Tests=45,  7 wallclock secs ( 0.04 usr  0.00 sys +  3.10 cusr  0.31 csys =  3.45 CPU)
Result: PASS

------------------------------
PREREQUISITES
------------------------------

Prerequisite modules loaded:

requires:

    Module                                         Need   Have    
    ---------------------------------------------- ------ --------
    Class::MOP                                     0      2.1202  
    Devel::Cover                                   0      1.08    
    Dist::Zilla::App::Command::cover               0      1.101001
    Dist::Zilla::Plugin::AutoPrereqs               0      5.012   
    Dist::Zilla::Plugin::CheckChangeLog            0      0.01    
    Dist::Zilla::Plugin::Git::NextVersion          0      2.019   
    Dist::Zilla::Plugin::MetaConfig                0      5.012   
    Dist::Zilla::Plugin::MetaJSON                  0      5.012   
    Dist::Zilla::Plugin::MetaResourcesFromGit      0      1.103620
    Dist::Zilla::Plugin::MinimumPerl               0      1.003   
    Dist::Zilla::Plugin::ModuleBuild               0      5.012   
    Dist::Zilla::Plugin::NextRelease               0      5.012   
    Dist::Zilla::Plugin::OurPkgVersion             0      0.005001
    Dist::Zilla::Plugin::PerlTidy                  0      0.15    
    Dist::Zilla::Plugin::PodCoverageTests          0      5.012   
    Dist::Zilla::Plugin::PodWeaver                 0      4.005   
    Dist::Zilla::Plugin::Prepender                 0      1.112280
    Dist::Zilla::Plugin::Prereqs                   0      5.012   
    Dist::Zilla::Plugin::PruneFiles                0      5.012   
    Dist::Zilla::Plugin::ReadmeMarkdownFromPod     0      0.120120
    Dist::Zilla::Plugin::ReportVersions            0      1.110730
    Dist::Zilla::Plugin::Run::BeforeRelease        0      0.020   
    Dist::Zilla::Plugin::Test::Compile             0      2.039   
    Dist::Zilla::Plugin::Test::Perl::Critic        0      2.112410
    Dist::Zilla::Plugin::Test::UnusedVars          0      2.000005
    Dist::Zilla::PluginBundle::Filter              0      5.012   
    Dist::Zilla::PluginBundle::Git                 0      2.019   
    Dist::Zilla::Role::PluginBundle::Easy          0      5.012   
    Dist::Zilla::Role::PluginBundle::PluginRemover 0      0.102   
    IO::All                                        0.45   0.56    
    Moose                                          0      2.1202  
    namespace::autoclean                           0      0.15    
    perl                                           5.006  5.018000
    Pod::Coverage::TrustPod                        0      0.100003
    Pod::Weaver::Config::Assembler                 0      4.006   
    strict                                         0      1.07    
    Test::Perl::Critic                             0      1.02    
    Test::Pod::Coverage                            1.08   1.08    
    warnings                                       0      1.18    

build_requires:

    Module                                         Need   Have    
    ---------------------------------------------- ------ --------
    Carp                                           0      1.32    
    File::Spec                                     0      3.40    
    IO::Handle                                     0      1.34    
    IPC::Open3                                     0      1.13    
    Module::Build                                  0.3601 0.4204  
    perl                                           5.006  5.018000
    Scalar::Util                                   0      1.38    
    Test::More                                     0.94   1.001002

configure_requires:

    Module                                         Need   Have    
    ---------------------------------------------- ------ --------
    Module::Build                                  0.3601 0.4204  


------------------------------
ENVIRONMENT AND OTHER CONTEXT
------------------------------

Environment variables:

    AUTOMATED_TESTING = 1
    LANG = en_US.UTF-8
    LANGUAGE = en_US:en
    PATH = /usr/lib/ccache:/home/sand/bin:/usr/local/bin:/usr/bin:/bin:/usr/bin/X11:/usr/games:/usr/local/perl/bin:/usr/X11/bin:/sbin:/usr/sbin
    PERL5LIB = 
    PERL5OPT = 
    PERL5_CPANPLUS_IS_RUNNING = 23378
    PERL5_CPAN_IS_RUNNING = 23378
    PERL_MM_USE_DEFAULT = 1
    SHELL = /usr/bin/zsh
    TERM = screen

Perl special variables (and OS-specific diagnostics, for MSWin32):

    $^X = /home/sand/src/perl/repoperls/installed-perls/perl/v5.18.0/127e/bin/perl
    $UID/$EUID = 1005 / 1005
    $GID = 1005 1005
    $EGID = 1005 1005

Perl module toolchain versions installed:

    Module              Have    
    ------------------- --------
    CPAN                2.00    
    CPAN::Meta          2.133380
    Cwd                 3.40    
    ExtUtils::CBuilder  0.280212
    ExtUtils::Command   1.17    
    ExtUtils::Install   1.59    
    ExtUtils::MakeMaker 6.87_05 
    ExtUtils::Manifest  1.63    
    ExtUtils::ParseXS   3.22    
    File::Spec          3.40    
    JSON                2.90    
    JSON::PP            2.27203 
    Module::Build       0.4204  
    Module::Signature   0.73    
    Parse::CPAN::Meta   1.4409  
    Test::Harness       3.30    
    Test::More          1.001002
    YAML                0.88    
    YAML::Syck          1.27    
    version             0.9908  


--

Summary of my perl5 (revision 5 version 18 subversion 0) configuration:
  Commit id: a9acda3b5f74585852a57b51b724804ac586cb0b
  Platform:
    osname=linux, osvers=3.12-1-amd64, archname=x86_64-linux-ld
    uname='linux k83 3.12-1-amd64 #1 smp debian 3.12.6-2 (2013-12-29) x86_64 gnulinux '
    config_args='-Dprefix=/home/sand/src/perl/repoperls/installed-perls/perl/v5.18.0/127e -Dmyhostname=k83 -Dinstallusrbinperl=n -Uversiononly -Dusedevel -des -Ui_db -Uuseithreads -Duselongdouble -DDEBUGGING=-g'
    hint=recommended, useposix=true, d_sigaction=define
    useithreads=undef, usemultiplicity=undef
    useperlio=define, d_sfio=undef, uselargefiles=define, usesocks=undef
    use64bitint=define, use64bitall=define, uselongdouble=define
    usemymalloc=n, bincompat5005=undef
  Compiler:
    cc='cc', ccflags ='-fno-strict-aliasing -pipe -fstack-protector -I/usr/local/include -D_LARGEFILE_SOURCE -D_FILE_OFFSET_BITS=64',
    optimize='-O2 -g',
    cppflags='-fno-strict-aliasing -pipe -fstack-protector -I/usr/local/include'
    ccversion='', gccversion='4.8.2', gccosandvers=''
    intsize=4, longsize=8, ptrsize=8, doublesize=8, byteorder=12345678
    d_longlong=define, longlongsize=8, d_longdbl=define, longdblsize=16
    ivtype='long', ivsize=8, nvtype='long double', nvsize=16, Off_t='off_t', lseeksize=8
    alignbytes=16, prototype=define
  Linker and Libraries:
    ld='cc', ldflags =' -fstack-protector -L/usr/local/lib'
    libpth=/usr/local/lib /lib/x86_64-linux-gnu /lib/../lib /usr/lib/x86_64-linux-gnu /usr/lib/../lib /lib /usr/lib
    libs=-lnsl -lgdbm -ldb -ldl -lm -lcrypt -lutil -lc -lgdbm_compat
    perllibs=-lnsl -ldl -lm -lcrypt -lutil -lc
    libc=, so=so, useshrplib=false, libperl=libperl.a
    gnulibc_version='2.17'
  Dynamic Linking:
    dlsrc=dl_dlopen.xs, dlext=so, d_dlsymun=undef, ccdlflags='-Wl,-E'
    cccdlflags='-fPIC', lddlflags='-shared -O2 -g -L/usr/local/lib -fstack-protector'


Characteristics of this binary (from libperl): 
  Compile-time options: HAS_TIMES PERLIO_LAYERS PERL_DONT_CREATE_GVSV
                        PERL_HASH_FUNC_ONE_AT_A_TIME_HARD PERL_MALLOC_WRAP
                        PERL_PRESERVE_IVUV PERL_SAWAMPERSAND PERL_USE_DEVEL
                        USE_64_BIT_ALL USE_64_BIT_INT USE_LARGE_FILES
                        USE_LOCALE USE_LOCALE_COLLATE USE_LOCALE_CTYPE
                        USE_LOCALE_NUMERIC USE_LONG_DOUBLE USE_PERLIO
                        USE_PERL_ATOF
  Built under linux
  Compiled at Jan 19 2014 12:56:05
  %ENV:
    PERL5LIB=""
    PERL5OPT=""
    PERL5_CPANPLUS_IS_RUNNING="23378"
    PERL5_CPAN_IS_RUNNING="23378"
    PERL_MM_USE_DEFAULT="1"
  @INC:
    /home/sand/src/perl/repoperls/installed-perls/perl/v5.18.0/127e/lib/site_perl/5.18.0/x86_64-linux-ld
    /home/sand/src/perl/repoperls/installed-perls/perl/v5.18.0/127e/lib/site_perl/5.18.0
    /home/sand/src/perl/repoperls/installed-perls/perl/v5.18.0/127e/lib/5.18.0/x86_64-linux-ld
    /home/sand/src/perl/repoperls/installed-perls/perl/v5.18.0/127e/lib/5.18.0
    .