StorageDisplay v1.2.1 Perl 5 v5.18.2 amd64-freebsd

Status
Pass
From
Slaven Rezić
Dist
StorageDisplay v1.2.1
Platform
Perl 5 v5.18.2 amd64-freebsd
Date
2023-03-17 04:25:53
ID
cde759a8-c47b-11ed-a08c-c5016e8775ea
This distribution has been tested as part of the CPAN Testers
project, supporting the Perl programming language.  See
http://wiki.cpantesters.org/ for more information or email
questions to cpan-testers-discuss@perl.org


--
Dear Vincent Danjean,

This is a computer-generated report for StorageDisplay-1.2.1
on perl 5.18.2, created by CPAN-Reporter-1.2018.

Thank you for uploading your work to CPAN.  Congratulations!
All tests were successful.

Sections of this report:

    * Tester comments
    * Program output
    * Prerequisites
    * Environment and other context

------------------------------
TESTER COMMENTS
------------------------------

Additional comments from tester:

none provided

------------------------------
PROGRAM OUTPUT
------------------------------

Output from '/usr/bin/make test':

PERL_DL_NONLAZY=1 "/usr/perl5.18.2/bin/perl" "-MExtUtils::Command::MM" "-MTest::Harness" "-e" "undef *Test::Harness::Switches; test_harness(0, 'blib/lib', 'blib/arch')" t/*.t
# Testing with Perl 5.018002, /usr/perl5.18.2/bin/perl
#     Carp version is 1.50
#     Data::Compare version is 1.25
#     Data::Dumper version is 2.183
#     ExtUtils::MakeMaker version is 7.66
#     Getopt::Long version is 2.54
#     IO::Select version is 1.51
#     JSON::PP version is 4.16
#     Moose version is 2.2201
#     MooseX::NonMoose version is 0.26
#     MooseX::Role::Parameterized version is 1.11
#     Net::OpenSSH version is 0.83
#     Object::ID version is v0.1.2
#     POSIX version is 1.32
#     Path::Class version is 0.37
#     Path::Class::Dir version is 0.37
#     Scalar::Util version is 1.63
#     Storable version is 3.25
#     Term::ReadKey version is 2.38
#     Test2::V0 version is 0.000148
#     Test::File::Contents version is 0.242
#     Test::More version is 1.302192
#     Test::Script version is 1.29
#     Types::Standard version is 2.002001
#     base version is 2.23
#     bignum version is 0.66
#     bigrat version is 0.66
#     lib version is 0.63
#     namespace::sweep version is 0.006
#     parent version is 0.241
#     strict version is 1.07
#     utf8 version is 1.10
#     warnings version is 1.18
t/000-report-versions.t .. ok
t/05_round.t ............. ok
t/06_int-data-dumper.t ... ok
# JSON support from JSON::PP instead of JSON::MaybeXS
# 	boolean_values method required
# 	module included in basic perl modules
# JSON::PP: boolean_values support: 1
# JSON::PP: allow_bignum support: 1
# StorageDisplay::Collect::JSON uses plain JSON::PP: 1
t/07_json.t .............. ok
t/10_reference.t ......... ok
t/author-critic.t ........ skipped: these tests are for testing by the author
t/author-distmeta.t ...... skipped: these tests are for testing by the author
t/author-pod-syntax.t .... skipped: these tests are for testing by the author
All tests successful.
Files=8, Tests=105, 18 wallclock secs ( 0.03 usr  0.01 sys + 16.17 cusr  1.32 csys = 17.53 CPU)
Result: PASS

------------------------------
PREREQUISITES
------------------------------

Prerequisite modules loaded:

requires:

    Module                      Need     Have    
    --------------------------- -------- --------
    base                        0        2.23    
    bignum                      0.51     0.66    
    bigrat                      0.51     0.66    
    Carp                        0        1.50    
    Data::Compare               0        1.25    
    Data::Dumper                0        2.183   
    Getopt::Long                0        2.54    
    IO::Select                  0        1.51    
    JSON::PP                    0        4.16    
    lib                         0        0.63    
    Moose                       0        2.2201  
    Moose::Role                 0        2.2201  
    MooseX::NonMoose            0        0.26    
    MooseX::Role::Parameterized 0        1.11    
    namespace::sweep            0        0.006   
    Net::OpenSSH                0        0.83    
    Object::ID                  0        v0.1.2  
    parent                      0        0.241   
    Path::Class::Dir            0        0.37    
    perl                        5.014000 5.018002
    POSIX                       0        1.32    
    Scalar::Util                0        1.63    
    Storable                    0        3.25    
    strict                      0        1.07    
    Term::ReadKey               0        2.38    
    Types::Standard             0        2.002001
    warnings                    0        1.18    

build_requires:

    Module                      Need     Have    
    --------------------------- -------- --------
    ExtUtils::MakeMaker         0        7.66    
    Path::Class                 0        0.37    
    Test2::V0                   0        0.000148
    Test::File::Contents        0        0.242   
    Test::More                  0.94     1.302192
    Test::Script                0        1.29    
    utf8                        0        1.10    

configure_requires:

    Module                      Need     Have    
    --------------------------- -------- --------
    ExtUtils::MakeMaker         0        7.66    


------------------------------
ENVIRONMENT AND OTHER CONTEXT
------------------------------

Environment variables:

    LC_ALL = de_DE.ISO8859-1
    PATH = /usr/local/bin:/usr/bin:/bin:/usr/local/sbin:/usr/sbin:/sbin:/home/cpansand/bin/freebsd9.3:/home/cpansand/bin/sh:/home/cpansand/bin:/usr/games:/home/cpansand/devel:/usr/home/eserte/src/srezic-misc/scripts
    PERL5LIB = 
    PERL5OPT = 
    PERL5_CPANPLUS_IS_RUNNING = 13554
    PERL5_CPAN_IS_RUNNING = 13554
    PERL5_CPAN_IS_RUNNING_IN_RECURSION = 3464,13554
    PERLDOC = -MPod::Perldoc::ToTextOverstrike
    PERL_BATCH = yes
    PERL_CANARY_STABILITY_NOPROMPT = 1
    PERL_CPAN_REPORTER_CONFIG = /var/tmp/cpansmoker-1023/2023031703/cpanreporter_002_config.ini
    PERL_EXTUTILS_AUTOINSTALL = --defaultdeps
    PERL_USE_UNSAFE_INC = 1
    SHELL = /usr/local/bin/zsh
    TERM = screen
    TMPDIR = /var/tmp/cpansmoker-1023/2023031703

Perl special variables (and OS-specific diagnostics, for MSWin32):

    $^X = /usr/perl5.18.2/bin/perl
    $UID/$EUID = 1023 / 1023
    $GID = 1023 1023
    $EGID = 1023 1023

Perl module toolchain versions installed:

    Module              Have    
    ------------------- --------
    CPAN                2.34    
    CPAN::Meta          2.150010
    Cwd                 3.75    
    ExtUtils::CBuilder  0.280236
    ExtUtils::Command   7.66    
    ExtUtils::Install   2.22    
    ExtUtils::MakeMaker 7.66    
    ExtUtils::Manifest  1.73    
    ExtUtils::ParseXS   3.35    
    File::Spec          3.75    
    JSON                4.10    
    JSON::PP            4.16    
    Module::Build       0.4231  
    Module::Signature   0.88    
    Parse::CPAN::Meta   2.150010
    Test::Harness       3.44    
    Test::More          1.302192
    YAML                1.30    
    YAML::Syck          1.34    
    version             0.9929  


--

Summary of my perl5 (revision 5 version 18 subversion 2) configuration:
   
  Platform:
    osname=freebsd, osvers=9.2-release-p4, archname=amd64-freebsd
    uname='freebsd cvrsnica-freebsd-92 9.2-release-p4 freebsd 9.2-release-p4 #0: tue apr 8 18:08:22 utc 2014 root@amd64-builder.daemonology.net:usrobjusrsrcsysgeneric amd64 '
    config_args='-ds -e -Dprefix=/usr/perl5.18.2'
    hint=recommended, useposix=true, d_sigaction=define
    useithreads=undef, usemultiplicity=undef
    useperlio=define, d_sfio=undef, uselargefiles=define, usesocks=undef
    use64bitint=define, use64bitall=define, uselongdouble=undef
    usemymalloc=n, bincompat5005=undef
  Compiler:
    cc='cc', ccflags ='-DHAS_FPSETMASK -DHAS_FLOATINGPOINT_H -fno-strict-aliasing -pipe -fstack-protector -I/usr/local/include',
    optimize='-O',
    cppflags='-DHAS_FPSETMASK -DHAS_FLOATINGPOINT_H -fno-strict-aliasing -pipe -fstack-protector -I/usr/local/include'
    ccversion='', gccversion='4.2.1 20070831 patched [FreeBSD]', gccosandvers=''
    intsize=4, longsize=8, ptrsize=8, doublesize=8, byteorder=12345678
    d_longlong=define, longlongsize=8, d_longdbl=define, longdblsize=16
    ivtype='long', ivsize=8, nvtype='double', nvsize=8, Off_t='off_t', lseeksize=8
    alignbytes=8, prototype=define
  Linker and Libraries:
    ld='cc', ldflags ='-Wl,-E  -fstack-protector -L/usr/local/lib'
    libpth=/usr/lib /usr/local/lib
    libs=-lgdbm -lm -lcrypt -lutil -lc
    perllibs=-lm -lcrypt -lutil -lc
    libc=, so=so, useshrplib=false, libperl=libperl.a
    gnulibc_version=''
  Dynamic Linking:
    dlsrc=dl_dlopen.xs, dlext=so, d_dlsymun=undef, ccdlflags=' '
    cccdlflags='-DPIC -fPIC', lddlflags='-shared  -L/usr/local/lib -fstack-protector'


Characteristics of this binary (from libperl): 
  Compile-time options: HAS_TIMES PERLIO_LAYERS PERL_DONT_CREATE_GVSV
                        PERL_HASH_FUNC_ONE_AT_A_TIME_HARD PERL_MALLOC_WRAP
                        PERL_PRESERVE_IVUV PERL_SAWAMPERSAND USE_64_BIT_ALL
                        USE_64_BIT_INT USE_LARGE_FILES USE_LOCALE
                        USE_LOCALE_COLLATE USE_LOCALE_CTYPE
                        USE_LOCALE_NUMERIC USE_PERLIO USE_PERL_ATOF
  Built under freebsd
  Compiled at May 16 2014 01:27:28
  %ENV:
    PERL5LIB=""
    PERL5OPT=""
    PERL5_CPANPLUS_IS_RUNNING="13554"
    PERL5_CPAN_IS_RUNNING="13554"
    PERL5_CPAN_IS_RUNNING_IN_RECURSION="3464,13554"
    PERLDOC="-MPod::Perldoc::ToTextOverstrike"
    PERL_BATCH="yes"
    PERL_CANARY_STABILITY_NOPROMPT="1"
    PERL_CPAN_REPORTER_CONFIG="/var/tmp/cpansmoker-1023/2023031703/cpanreporter_002_config.ini"
    PERL_EXTUTILS_AUTOINSTALL="--defaultdeps"
    PERL_USE_UNSAFE_INC="1"
  @INC:
    /usr/perl5.18.2/lib/site_perl/5.18.2/amd64-freebsd
    /usr/perl5.18.2/lib/site_perl/5.18.2
    /usr/perl5.18.2/lib/5.18.2/amd64-freebsd
    /usr/perl5.18.2/lib/5.18.2
    .