Config-JSON-Enhanced v0.03 Perl 5 v5.34.1 amd64-freebsd-ld

Status
Pass
From
Slaven Rezić
Dist
Config-JSON-Enhanced v0.03
Platform
Perl 5 v5.34.1 amd64-freebsd-ld
Date
2023-09-26 00:36:59
ID
cde7f77a-5c04-11ee-a69b-10056e8775ea
This distribution has been tested as part of the CPAN Testers
project, supporting the Perl programming language.  See
http://wiki.cpantesters.org/ for more information or email
questions to cpan-testers-discuss@perl.org


--
Dear Andreas Hadjiprocopis,

This is a computer-generated report for Config-JSON-Enhanced-0.03
on perl 5.34.1, created by CPAN-Reporter-1.2018.

Thank you for uploading your work to CPAN.  Congratulations!
All tests were successful.

Sections of this report:

    * Tester comments
    * Program output
    * Prerequisites
    * Environment and other context

------------------------------
TESTER COMMENTS
------------------------------

Additional comments from tester:

none provided

------------------------------
PROGRAM OUTPUT
------------------------------

Output from '/usr/bin/make test':

PERL_DL_NONLAZY=1 "/usr/perl5.34.1Dp/bin/perl" "-MExtUtils::Command::MM" "-MTest::Harness" "-e" "undef *Test::Harness::Switches; test_harness(0, 'blib/lib', 'blib/arch')" t/*.t
# Testing Config::JSON::Enhanced 0.03, Perl 5.034001, /usr/perl5.34.1Dp/bin/perl
t/000-load.t ...................................... ok
t/010-config2perl-simple.t ........................ ok
t/020-config2perl-complex.t ....................... ok
t/025-config2perl-complex-utf8.t .................. ok
--begin content:
  {
    ___EJSTRING(0)___ : [___EJSTRING(1)___,
    <%begin-verbatim-section%>
    pushd . &> /dev/null
    echo ___EJSTRING(2)___
    echo ___EJSTRING(3)___ $(echo $PWD) ___EJSTRING(4)___
    popd &> /dev/null
    ],
    
    ___EJSTRING(5)___ : ___EJSTRING(6)___
  }

--end content.
Config::JSON::Enhanced::config2perl() (line 172) : warning, there may still be remains of templated variables in the specified content, see above what remained after all verbatime sections were removed. at /usr/home/cpansand/.cpan/build/2023092600/Config-JSON-Enhanced-0.03-1/blib/lib/Config/JSON/Enhanced.pm line 172.
json2perl() :  error, call to json2perl() has failed with this exception: malformed JSON string, neither tag, array, object, number, string or atom, at character offset 51 (before "<%begin-verbatim-sec...") at /usr/perl5.34.1Dp/lib/site_perl/5.34.1/Data/Roundtrip.pm line 218.
  {
    "long bash script" : ["/usr/bin/bash",
    <%begin-verbatim-section%>
    pushd . &> /dev/null
    echo "My 'appdir' is \"/usr/home/cpansand/.cpan/build/2023092600/Config-JSON-Enhanced-0.03-1/t\""
    echo "My current dir: " $(echo $PWD) " and bye"
    popd &> /dev/null
    ],
    
    "expected result" : "42"
  }


Config::JSON::Enhanced::config2perl() (line 191) : error, call to Data::Roundtrip::json2perl() has failed for above json string and comments style 'C,CPP'. at /usr/home/cpansand/.cpan/build/2023092600/Config-JSON-Enhanced-0.03-1/blib/lib/Config/JSON/Enhanced.pm line 191.
t/030-config2perl-failed-verbatim.t ............... ok
t/040-config2perl-remove-comments-from-strings.t .. ok
t/050-commentstyle.t .............................. ok
t/060-custom-tags.t ............................... ok
# $VAR1 = {"b" => [1,2,3],"a" => "abc","c" => 12};
# $VAR1 = {"a" => "This is a multiline\nstring\n\"quoted text\" and 'quoted like this also'\nwill be retained in the string escaped.\nComments like /* this */ or # this comment\nwill be removed.\nWhite space from beginning and end will be chomped.","b" => 123};
# $VAR1 = {"username" => "cpansand","d" => [1,2,42],"configfile" => "/usr/home/cpansand/.cpan/build/2023092600/Config-JSON-Enhanced-0.03-1/t/config/myapp.conf"};
t/090-config2perl-pod-synopsis.t .................. ok
t/091-config2perl-pod.t ........................... ok
t/manifest.t ...................................... skipped: Author tests not required for installation
t/pod-coverage.t .................................. skipped: Author tests not required for installation
t/pod.t ........................................... skipped: Author tests not required for installation
All tests successful.
Files=13, Tests=6324,  1 wallclock secs ( 0.33 usr  0.05 sys +  1.34 cusr  0.18 csys =  1.89 CPU)
Result: PASS

------------------------------
PREREQUISITES
------------------------------

Prerequisite modules loaded:

requires:

    Module              Need  Have    
    ------------------- ----- --------
    Data::Roundtrip     0     0.18    
    perl                5.006 5.034001

build_requires:

    Module              Need  Have    
    ------------------- ----- --------
    Cwd                 0     3.80    
    ExtUtils::MakeMaker 0     7.70    
    File::Temp          0     0.2311  
    FindBin             0     1.53    
    Test2::Plugin::UTF8 0     0.000156
    Test::More          0     1.302195

configure_requires:

    Module              Need  Have    
    ------------------- ----- --------
    ExtUtils::MakeMaker 0     7.70    


------------------------------
ENVIRONMENT AND OTHER CONTEXT
------------------------------

Environment variables:

    PATH = /usr/local/bin:/usr/bin:/bin:/usr/local/sbin:/usr/sbin:/sbin:/home/cpansand/bin/sh:/home/cpansand/bin:/usr/games:/home/cpansand/devel:/usr/home/eserte/src/srezic-misc/scripts
    PERL5LIB = 
    PERL5OPT = 
    PERL5_CPANPLUS_IS_RUNNING = 9876
    PERL5_CPAN_IS_RUNNING = 9876
    PERL5_CPAN_IS_RUNNING_IN_RECURSION = 9674,9876
    PERL_BATCH = yes
    PERL_CANARY_STABILITY_NOPROMPT = 1
    PERL_CPAN_REPORTER_CONFIG = /var/tmp/cpansmoker-1023/2023092600/cpanreporter_000_config.ini
    PERL_EXTUTILS_AUTOINSTALL = --defaultdeps
    PERL_USE_UNSAFE_INC = 1
    SHELL = /bin/sh
    TMPDIR = /var/tmp/cpansmoker-1023/2023092600

Perl special variables (and OS-specific diagnostics, for MSWin32):

    $^X = /usr/perl5.34.1Dp/bin/perl
    $UID/$EUID = 1023 / 1023
    $GID = 1023 1023
    $EGID = 1023 1023

Perl module toolchain versions installed:

    Module              Have    
    ------------------- --------
    CPAN                2.36    
    CPAN::Meta          2.150010
    Cwd                 3.80    
    ExtUtils::CBuilder  0.280236
    ExtUtils::Command   7.70    
    ExtUtils::Install   2.20    
    ExtUtils::MakeMaker 7.70    
    ExtUtils::Manifest  1.73    
    ExtUtils::ParseXS   3.51    
    File::Spec          3.80    
    JSON                4.10    
    JSON::PP            4.15    
    Module::Build       0.4234  
    Module::Signature   0.88    
    Parse::CPAN::Meta   2.150010
    Test::Harness       3.47    
    Test::More          1.302195
    YAML                1.30    
    YAML::Syck          1.34    
    version             0.9929  


--

Summary of my perl5 (revision 5 version 34 subversion 1) configuration:
   
  Platform:
    osname=freebsd
    osvers=13.1-stable
    archname=amd64-freebsd-ld
    uname='freebsd cloud10.bbbike.org 13.1-stable freebsd 13.1-stable #9 stable13-n250044-4a11315a2c3f: sat mar 19 11:19:46 utc 2022 root@cloud10.bbbike.org:usrobjusrhomeprojectsfreebsdamd64.amd64sysgeneric amd64 '
    config_args='-ds -e -Dprefix=/usr/perl5.34.1Dp -Duselongdouble -Dcf_email=srezic@cpan.org -Doptimize=-O2 -pipe'
    hint=recommended
    useposix=true
    d_sigaction=define
    useithreads=undef
    usemultiplicity=undef
    use64bitint=define
    use64bitall=define
    uselongdouble=define
    usemymalloc=n
    default_inc_excludes_dot=define
  Compiler:
    cc='cc'
    ccflags ='-DHAS_FPSETMASK -DHAS_FLOATINGPOINT_H -fno-strict-aliasing -pipe -fstack-protector-strong -I/usr/local/include'
    optimize='-O2 -pipe'
    cppflags='-DHAS_FPSETMASK -DHAS_FLOATINGPOINT_H -fno-strict-aliasing -pipe -fstack-protector-strong -I/usr/local/include'
    ccversion=''
    gccversion='FreeBSD Clang 13.0.0 (git@github.com:llvm/llvm-project.git llvmorg-13.0.0-0-gd7b669b3a303)'
    gccosandvers=''
    intsize=4
    longsize=8
    ptrsize=8
    doublesize=8
    byteorder=12345678
    doublekind=3
    d_longlong=define
    longlongsize=8
    d_longdbl=define
    longdblsize=16
    longdblkind=3
    ivtype='long'
    ivsize=8
    nvtype='long double'
    nvsize=16
    Off_t='off_t'
    lseeksize=8
    alignbytes=16
    prototype=define
  Linker and Libraries:
    ld='cc'
    ldflags ='-pthread -Wl,-E  -fstack-protector-strong -L/usr/local/lib'
    libpth=/usr/lib /usr/local/lib /usr/lib/clang/13.0.0/lib
    libs=-lpthread -lgdbm -ldl -lm -lcrypt -lutil -lc
    perllibs=-lpthread -ldl -lm -lcrypt -lutil -lc
    libc=
    so=so
    useshrplib=false
    libperl=libperl.a
    gnulibc_version=''
  Dynamic Linking:
    dlsrc=dl_dlopen.xs
    dlext=so
    d_dlsymun=undef
    ccdlflags=' '
    cccdlflags='-DPIC -fPIC'
    lddlflags='-shared  -L/usr/local/lib -fstack-protector-strong'


Characteristics of this binary (from libperl): 
  Compile-time options:
    HAS_TIMES
    PERLIO_LAYERS
    PERL_COPY_ON_WRITE
    PERL_DONT_CREATE_GVSV
    PERL_MALLOC_WRAP
    PERL_OP_PARENT
    PERL_PRESERVE_IVUV
    USE_64_BIT_ALL
    USE_64_BIT_INT
    USE_LARGE_FILES
    USE_LOCALE
    USE_LOCALE_COLLATE
    USE_LOCALE_CTYPE
    USE_LOCALE_NUMERIC
    USE_LOCALE_TIME
    USE_LONG_DOUBLE
    USE_PERLIO
    USE_PERL_ATOF
  Built under freebsd
  Compiled at Mar 25 2022 22:31:21
  %ENV:
    PERL5LIB=""
    PERL5OPT=""
    PERL5_CPANPLUS_IS_RUNNING="9876"
    PERL5_CPAN_IS_RUNNING="9876"
    PERL5_CPAN_IS_RUNNING_IN_RECURSION="9674,9876"
    PERL_BATCH="yes"
    PERL_CANARY_STABILITY_NOPROMPT="1"
    PERL_CPAN_REPORTER_CONFIG="/var/tmp/cpansmoker-1023/2023092600/cpanreporter_000_config.ini"
    PERL_EXTUTILS_AUTOINSTALL="--defaultdeps"
    PERL_USE_UNSAFE_INC="1"
  @INC:
    /usr/perl5.34.1Dp/lib/site_perl/5.34.1/amd64-freebsd-ld
    /usr/perl5.34.1Dp/lib/site_perl/5.34.1
    /usr/perl5.34.1Dp/lib/5.34.1/amd64-freebsd-ld
    /usr/perl5.34.1Dp/lib/5.34.1
    .