XML-TreePP v0.43 Perl 5 v5.34.0 x86_64-linux-thread-multi

Status
Pass
From
David Cantrell (DCANTRELL)
Dist
XML-TreePP v0.43
Platform
Perl 5 v5.34.0 x86_64-linux-thread-multi
Date
2022-03-10 13:55:54
ID
cdf4c286-a079-11ec-bf80-da682f4d1ede
This distribution has been tested as part of the CPAN Testers
project, supporting the Perl programming language.  See
http://wiki.cpantesters.org/ for more information or email
questions to cpan-testers-discuss@perl.org


--
Dear Yusuke Kawasaki,

This is a computer-generated report for XML-TreePP-0.43
on perl 5.34.0, created by CPAN-Reporter-1.2018.

Thank you for uploading your work to CPAN.  Congratulations!
All tests were successful.

Sections of this report:

    * Tester comments
    * Program output
    * Prerequisites
    * Environment and other context

------------------------------
TESTER COMMENTS
------------------------------

Additional comments from tester:

this report is from an automated smoke testing program
and was not reviewed by a human for accuracy

------------------------------
PROGRAM OUTPUT
------------------------------

Output from '/usr/bin/make test':

PERL_DL_NONLAZY=1 "/home/david/cpantesting/perl-5.34.0/bin/perl" "-MExtUtils::Command::MM" "-MTest::Harness" "-e" "undef *Test::Harness::Switches; test_harness(0, 'blib/lib', 'blib/arch')" t/*.t
t/00_pod.t .................... ok
t/01_parse.t .................. ok
t/02_write.t .................. ok
t/03_parsefile.t .............. ok
t/04_escape.t ................. ok
t/05_empty.t .................. ok
t/06_cdata.t .................. ok
t/07_attr_prefix.t ............ ok
t/08_force_array.t ............ ok
t/09_http-lite.t .............. skipped: HTTP::Lite is not loaded.
t/10_http-lwp.t ............... skipped: define $MORE_TESTS to test LWP::UserAgent.
t/11_escape_cdata.t ........... ok
t/12_escape_charref.t ......... ok
t/13_encoding_en.t ............ ok
t/14_encoding_zh.t ............ ok
t/15_encoding_ja.t ............ ok
t/16_encoding_ko.t ............ ok
t/17_output_encoding.t ........ ok
t/18_escape_amp.t ............. ok
t/19_multi_text.t ............. ok
t/20_http-lite-cached.t ....... skipped: HTTP::Lite is not loaded.
t/21_http-lwp-cached.t ........ skipped: define $MORE_TESTS to test this.
t/22_http-lite-headers.t ...... skipped: HTTP::Lite is not loaded.
t/23_http-lwp-headers.t ....... skipped: define $MORE_TESTS to test this.
t/24_ignore_error.t ........... ok
t/25_text_node_key.t .......... ok
t/26_attr_prefix_null.t ....... ok
t/27_http-lite-force.t ........ skipped: HTTP::Lite is not loaded.
t/28_http-lwp-force.t ......... skipped: define $MORE_TESTS to test this.
t/29_http-lwp-withcache.t ..... skipped: LWP::UserAgent::WithCache is not loaded.
t/30_first_out.t .............. ok
t/31_tie_ixhash.t ............. skipped: Tie::IxHash is not loaded.
t/32_base_class.t ............. ok
t/33_indent.t ................. ok
t/34_utf8_flag.t .............. ok
t/35_force_hash.t ............. ok
t/36_elem_class.t ............. ok
t/37_undef.t .................. ok
t/38_cdata_cdsect.t ........... ok
t/39_writefile.t .............. ok
t/40_writefile_jcode.t ........ skipped: Jcode is not loaded.
t/41_writefile_encode.t ....... ok
t/42_cdata_comment.t .......... ok
t/43_encoding_quote.t ......... ok
t/44_utf8_bom.t ............... ok
t/45_attr_space.t ............. ok
t/46_xml_deref.t .............. ok
t/47_xml_deref_utf8.t ......... ok
t/48_blobref.t ................ ok
t/49_invalid_encoding.t ....... ok
t/50_invalid_tree.t ........... ok
t/51_RT_42441.t ............... ok
t/52_require_xml_decl.t ....... ok
t/53_empty_text_node.t ........ ok
t/54_empty_element_tag_end.t .. ok
All tests successful.
Files=55, Tests=1074, 50 wallclock secs ( 0.91 usr  0.31 sys + 16.84 cusr  2.63 csys = 20.69 CPU)
Result: PASS

------------------------------
PREREQUISITES
------------------------------

Prerequisite modules loaded:

requires:

    Module              Need  Have    
    ------------------- ----- --------
    LWP                 5.811 6.61    
    Test::More          0     1.302183

build_requires:

    Module              Need  Have    
    ------------------- ----- --------
    ExtUtils::MakeMaker 0     7.62    

configure_requires:

    Module              Need  Have    
    ------------------- ----- --------
    ExtUtils::MakeMaker 0     7.62    


------------------------------
ENVIRONMENT AND OTHER CONTEXT
------------------------------

Environment variables:

    AUTOMATED_TESTING = 1
    LANG = en_GB.UTF-8
    LANGUAGE = en_GB:en
    LC_TERMINAL = iTerm2
    LC_TERMINAL_VERSION = 3.4.14
    NONINTERACTIVE_TESTING = 1
    PATH = /home/david/perl5/perlbrew/bin:/home/david/perl5/perlbrew/perls/perl-5.30.2/bin:/home/david/bin:/usr/local/bin:/usr/bin:/bin:/usr/local/games:/usr/games
    PERL = 5.34.0
    PERL5LIB = 
    PERL5OPT = 
    PERL5_CPANPLUS_IS_RUNNING = 3003528
    PERL5_CPAN_IS_RUNNING = 3003528
    PERLBREW_HOME = /home/david/.perlbrew
    PERLBREW_MANPATH = /home/david/perl5/perlbrew/perls/perl-5.30.2/man
    PERLBREW_PATH = /home/david/perl5/perlbrew/bin:/home/david/perl5/perlbrew/perls/perl-5.30.2/bin
    PERLBREW_PERL = perl-5.30.2
    PERLBREW_ROOT = /home/david/perl5/perlbrew
    PERLBREW_SHELLRC_VERSION = 0.89
    PERLBREW_VERSION = 0.89
    PERLVER = 5.34.0
    PERL_INLINE_DIRECTORY = /home/david/.Inline-5.34.0
    PERL_MM_USE_DEFAULT = 1
    PERL_USE_UNSAFE_INC = 0
    SHELL = /bin/bash
    TERM = screen

Perl special variables (and OS-specific diagnostics, for MSWin32):

    $^X = /home/david/cpantesting/perl-5.34.0/bin/perl
    $UID/$EUID = 1000 / 1000
    $GID = 1000 24 25 27 29 30 44 46 109 1000
    $EGID = 1000 24 25 27 29 30 44 46 109 1000

Perl module toolchain versions installed:

    Module              Have    
    ------------------- --------
    CPAN                2.28    
    CPAN::Meta          2.150010
    Cwd                 3.80    
    ExtUtils::CBuilder  0.280236
    ExtUtils::Command   7.62    
    ExtUtils::Install   2.20    
    ExtUtils::MakeMaker 7.62    
    ExtUtils::Manifest  1.73    
    ExtUtils::ParseXS   3.43    
    File::Spec          3.80    
    JSON                n/a     
    JSON::PP            4.06    
    Module::Build       0.4231  
    Module::Signature   n/a     
    Parse::CPAN::Meta   2.150010
    Test::Harness       3.43    
    Test::More          1.302183
    YAML                n/a     
    YAML::Syck          n/a     
    version             0.9928  


--

Summary of my perl5 (revision 5 version 34 subversion 0) configuration:
   
  Platform:
    osname=linux
    osvers=5.10.0-11-amd64
    archname=x86_64-linux-thread-multi
    uname='linux cpantesting-linux-utm 5.10.0-11-amd64 #1 smp debian 5.10.92-1 (2022-01-18) x86_64 gnulinux '
    config_args='-de -Dprefix=/home/david/cpantesting/perl-5.34.0 -Dusethreads'
    hint=recommended
    useposix=true
    d_sigaction=define
    useithreads=define
    usemultiplicity=define
    use64bitint=define
    use64bitall=define
    uselongdouble=undef
    usemymalloc=n
    default_inc_excludes_dot=define
  Compiler:
    cc='cc'
    ccflags ='-D_REENTRANT -D_GNU_SOURCE -fwrapv -fno-strict-aliasing -pipe -fstack-protector-strong -I/usr/local/include -D_LARGEFILE_SOURCE -D_FILE_OFFSET_BITS=64 -D_FORTIFY_SOURCE=2'
    optimize='-O2'
    cppflags='-D_REENTRANT -D_GNU_SOURCE -fwrapv -fno-strict-aliasing -pipe -fstack-protector-strong -I/usr/local/include'
    ccversion=''
    gccversion='10.2.1 20210110'
    gccosandvers=''
    intsize=4
    longsize=8
    ptrsize=8
    doublesize=8
    byteorder=12345678
    doublekind=3
    d_longlong=define
    longlongsize=8
    d_longdbl=define
    longdblsize=16
    longdblkind=3
    ivtype='long'
    ivsize=8
    nvtype='double'
    nvsize=8
    Off_t='off_t'
    lseeksize=8
    alignbytes=8
    prototype=define
  Linker and Libraries:
    ld='cc'
    ldflags =' -fstack-protector-strong -L/usr/local/lib'
    libpth=/usr/local/lib /usr/lib/x86_64-linux-gnu /usr/lib /usr/lib64
    libs=-lpthread -lnsl -ldl -lm -lcrypt -lutil -lc
    perllibs=-lpthread -lnsl -ldl -lm -lcrypt -lutil -lc
    libc=libc-2.31.so
    so=so
    useshrplib=false
    libperl=libperl.a
    gnulibc_version='2.31'
  Dynamic Linking:
    dlsrc=dl_dlopen.xs
    dlext=so
    d_dlsymun=undef
    ccdlflags='-Wl,-E'
    cccdlflags='-fPIC'
    lddlflags='-shared -O2 -L/usr/local/lib -fstack-protector-strong'


Characteristics of this binary (from libperl): 
  Compile-time options:
    HAS_TIMES
    MULTIPLICITY
    PERLIO_LAYERS
    PERL_COPY_ON_WRITE
    PERL_DONT_CREATE_GVSV
    PERL_IMPLICIT_CONTEXT
    PERL_MALLOC_WRAP
    PERL_OP_PARENT
    PERL_PRESERVE_IVUV
    USE_64_BIT_ALL
    USE_64_BIT_INT
    USE_ITHREADS
    USE_LARGE_FILES
    USE_LOCALE
    USE_LOCALE_COLLATE
    USE_LOCALE_CTYPE
    USE_LOCALE_NUMERIC
    USE_LOCALE_TIME
    USE_PERLIO
    USE_PERL_ATOF
    USE_REENTRANT_API
    USE_THREAD_SAFE_LOCALE
  Built under linux
  Compiled at Feb  5 2022 21:10:26
  %ENV:
    PERL="5.34.0"
    PERL5LIB=""
    PERL5OPT=""
    PERL5_CPANPLUS_IS_RUNNING="3003528"
    PERL5_CPAN_IS_RUNNING="3003528"
    PERLBREW_HOME="/home/david/.perlbrew"
    PERLBREW_MANPATH="/home/david/perl5/perlbrew/perls/perl-5.30.2/man"
    PERLBREW_PATH="/home/david/perl5/perlbrew/bin:/home/david/perl5/perlbrew/perls/perl-5.30.2/bin"
    PERLBREW_PERL="perl-5.30.2"
    PERLBREW_ROOT="/home/david/perl5/perlbrew"
    PERLBREW_SHELLRC_VERSION="0.89"
    PERLBREW_VERSION="0.89"
    PERLVER="5.34.0"
    PERL_INLINE_DIRECTORY="/home/david/.Inline-5.34.0"
    PERL_MM_USE_DEFAULT="1"
    PERL_USE_UNSAFE_INC="0"
  @INC:
    /home/david/cpantesting/perl-5.34.0/lib/site_perl/5.34.0/x86_64-linux-thread-multi
    /home/david/cpantesting/perl-5.34.0/lib/site_perl/5.34.0
    /home/david/cpantesting/perl-5.34.0/lib/5.34.0/x86_64-linux-thread-multi
    /home/david/cpantesting/perl-5.34.0/lib/5.34.0