Test-Chunks v0.39 Perl 5 v5.12.1 x86_64-linux-thread-multi-ld

Status
Pass
From
brian greenfield
Dist
Test-Chunks v0.39
Platform
Perl 5 v5.12.1 x86_64-linux-thread-multi-ld
Date
2010-08-23 22:21:41
ID
ce03821c-af04-11df-8096-b773f9c7a6f4
This distribution has been tested as part of the CPAN Testers
project, supporting the Perl programming language.  See
http://wiki.cpantesters.org/ for more information or email
questions to cpan-testers-discuss@perl.org


--
Dear Ingy dot Net,

This is a computer-generated report for Test-Chunks-0.39
on perl 5.12.1, created by CPAN-Reporter-1.18.

Thank you for uploading your work to CPAN.  Congratulations!
All tests were successful.

Sections of this report:

    * Tester comments
    * Program output
    * Prerequisites
    * Environment and other context

------------------------------
TESTER COMMENTS
------------------------------

Additional comments from tester:

this report is from an automated smoke testing program
and was not reviewed by a human for accuracy

------------------------------
PROGRAM OUTPUT
------------------------------

Output from '/usr/bin/make test':

PERL_DL_NONLAZY=1 /home/test/perl/bin/perl5.12.1 "-MExtUtils::Command::MM" "-e" "test_harness(0, 'inc', 'blib/lib', 'blib/arch')" t/*.t
t/append.t .............. ok
t/arguments.t ........... ok
t/array.t ............... ok
t/base64.t .............. ok
t/chomp.t ............... ok
t/chop.t ................ ok
t/chunks-scalar.t ....... ok
t/chunks_grep.t ......... ok
t/compile.t ............. ok
t/delimiters.t .......... ok
t/description.t ......... ok
t/diff_is.t ............. skipped: Requires Test::Diff
t/dumper.t .............. ok
t/embed_perl.t .......... ok
t/escape.t .............. ok
t/eval.t ................ ok
t/eval_all.t ............ ok
t/eval_stderr.t ......... ok
t/eval_stdout.t ......... ok
t/export.t .............. ok
t/filter_arguments.t .... ok
t/filter_delay.t ........ ok
t/filter_functions.t .... ok
t/filters-append.t ...... ok
t/filters.t ............. ok
t/filters_map.t ......... ok
t/get_url.t ............. skipped: Need to figure out network testing
t/internals.t ........... ok
t/jit-run.t ............. ok
t/join.t ................ ok
t/last.t ................ ok
t/late.t ................ ok
t/lazy-filters.t ........ ok
t/lines.t ............... ok
t/list.t ................ ok
t/main_filters.t ........ ok
t/name.t ................ ok
t/next.t ................ ok
t/normalize.t ........... ok
t/only.t ................ ok
t/oo.t .................. ok
t/oo_run.t .............. ok
t/preserve-order.t ...... ok
t/prototypes.t .......... ok
t/regexp.t .............. ok
t/reserved_names.t ...... ok
t/run_is.t .............. ok
t/run_is_deeply.t ....... ok
t/run_like.t ............ ok
t/run_unlike.t .......... ok
t/simple.t .............. ok
t/skip.t ................ ok
t/spec_file.t ........... ok
t/spec_string.t ......... ok
t/strict-warnings.t ..... ok
t/strict.t .............. ok
t/subclass-autoclass.t .. ok
t/subclass-import.t ..... ok
t/subclass.t ............ ok
t/subclass_late.t ....... ok
t/tie_output.t .......... ok
t/trim.t ................ ok
t/unchomp.t ............. ok
t/use-test-more.t ....... ok
t/xxx.t ................. skipped: YAML.pm required for this test
t/yaml.t ................ skipped: Requires YAML
t/zero-chunks.t ......... ok
All tests successful.
Files=67, Tests=323,  4 wallclock secs ( 0.22 usr  0.13 sys +  3.16 cusr  0.59 csys =  4.10 CPU)
Result: PASS

------------------------------
PREREQUISITES
------------------------------

Prerequisite modules loaded:

requires:

    Module     Need Have
    ---------- ---- ----
    Spiffy     0.24 0.30
    Test::Base 0.40 0.59
    Test::More 0.54 0.94


------------------------------
ENVIRONMENT AND OTHER CONTEXT
------------------------------

Environment variables:

    AUTOMATED_TESTING = 1
    LANG = C
    LC_ALL = C
    PATH = /home/test/perl/bin:~/bin:/usr/bin:/bin
    PERL5LIB = /home/test/.cpan/build/Test-Base-0.59-ZwyulP/blib/arch:/home/test/.cpan/build/Test-Base-0.59-ZwyulP/blib/lib:/home/test/.cpan/build/Spiffy-0.30-oDE2uv/blib/arch:/home/test/.cpan/build/Spiffy-0.30-oDE2uv/blib/lib
    PERL5OPT = 
    PERL5_CPANPLUS_IS_RUNNING = 19989
    PERL5_CPAN_IS_RUNNING = 19989
    PERL5_CPAN_IS_RUNNING_IN_RECURSION = 21155,19989
    PERL_CR_SMOKER_CURRENT = Test-Chunks-0.39
    PERL_EXTUTILS_AUTOINSTALL = --defaultdeps
    PERL_MM_USE_DEFAULT = 1
    SHELL = /bin/bash
    TERM = linux

Perl special variables (and OS-specific diagnostics, for MSWin32):

    $^X = /home/test/perl/bin/perl5.12.1
    $UID/$EUID = 1001 / 1001
    $GID = 1001 1001
    $EGID = 1001 1001

Perl module toolchain versions installed:

    Module              Have   
    ------------------- -------
    CPAN                1.94_56
    Cwd                 3.31   
    ExtUtils::CBuilder  0.27   
    ExtUtils::Command   1.16   
    ExtUtils::Install   1.55   
    ExtUtils::MakeMaker 6.56   
    ExtUtils::Manifest  1.57   
    ExtUtils::ParseXS   2.21   
    File::Spec          3.31   
    Module::Build       0.3603 
    Module::Signature   n/a    
    Test::Harness       3.17   
    Test::More          0.94   
    YAML                n/a    
    YAML::Syck          1.12   
    version             0.82   


--

Summary of my perl5 (revision 5 version 12 subversion 1) configuration:
   
  Platform:
    osname=linux, osvers=2.6.26-2-amd64, archname=x86_64-linux-thread-multi-ld
    uname='linux zippy 2.6.26-2-amd64 #1 smp tue jan 12 22:12:20 utc 2010 x86_64 gnulinux '
    config_args='-des -Dusedevel -des -Duselongdouble -Duse64bitall -Dusethreads -Dprefix=~/perl'
    hint=recommended, useposix=true, d_sigaction=define
    useithreads=define, usemultiplicity=define
    useperlio=define, d_sfio=undef, uselargefiles=define, usesocks=undef
    use64bitint=define, use64bitall=define, uselongdouble=define
    usemymalloc=n, bincompat5005=undef
  Compiler:
    cc='cc', ccflags ='-D_REENTRANT -D_GNU_SOURCE -fno-strict-aliasing -pipe -fstack-protector -I/usr/local/include -D_LARGEFILE_SOURCE -D_FILE_OFFSET_BITS=64',
    optimize='-O2',
    cppflags='-D_REENTRANT -D_GNU_SOURCE -fno-strict-aliasing -pipe -fstack-protector -I/usr/local/include'
    ccversion='', gccversion='4.4.4', gccosandvers=''
    intsize=4, longsize=8, ptrsize=8, doublesize=8, byteorder=12345678
    d_longlong=define, longlongsize=8, d_longdbl=define, longdblsize=16
    ivtype='long', ivsize=8, nvtype='long double', nvsize=16, Off_t='off_t', lseeksize=8
    alignbytes=16, prototype=define
  Linker and Libraries:
    ld='cc', ldflags =' -fstack-protector -L/usr/local/lib'
    libpth=/usr/local/lib /lib /usr/lib /lib64 /usr/lib64
    libs=-lnsl -ldb -ldl -lm -lcrypt -lutil -lpthread -lc
    perllibs=-lnsl -ldl -lm -lcrypt -lutil -lpthread -lc
    libc=/lib/libc-2.11.2.so, so=so, useshrplib=false, libperl=libperl.a
    gnulibc_version='2.11.2'
  Dynamic Linking:
    dlsrc=dl_dlopen.xs, dlext=so, d_dlsymun=undef, ccdlflags='-Wl,-E'
    cccdlflags='-fPIC', lddlflags='-shared -O2 -L/usr/local/lib -fstack-protector'


Characteristics of this binary (from libperl): 
  Compile-time options: MULTIPLICITY PERL_DONT_CREATE_GVSV
                        PERL_IMPLICIT_CONTEXT PERL_MALLOC_WRAP PERL_USE_DEVEL
                        USE_64_BIT_ALL USE_64_BIT_INT USE_ITHREADS
                        USE_LARGE_FILES USE_LONG_DOUBLE USE_PERLIO
                        USE_PERL_ATOF USE_REENTRANT_API
  Built under linux
  Compiled at Aug 23 2010 11:08:01
  %ENV:
    PERL5LIB="/home/test/.cpan/build/Test-Base-0.59-ZwyulP/blib/arch:/home/test/.cpan/build/Test-Base-0.59-ZwyulP/blib/lib:/home/test/.cpan/build/Spiffy-0.30-oDE2uv/blib/arch:/home/test/.cpan/build/Spiffy-0.30-oDE2uv/blib/lib"
    PERL5OPT=""
    PERL5_CPANPLUS_IS_RUNNING="19989"
    PERL5_CPAN_IS_RUNNING="19989"
    PERL5_CPAN_IS_RUNNING_IN_RECURSION="21155,19989"
    PERL_CR_SMOKER_CURRENT="Test-Chunks-0.39"
    PERL_EXTUTILS_AUTOINSTALL="--defaultdeps"
    PERL_MM_USE_DEFAULT="1"
  @INC:
    /home/test/.cpan/build/Test-Base-0.59-ZwyulP/blib/arch
    /home/test/.cpan/build/Test-Base-0.59-ZwyulP/blib/lib
    /home/test/.cpan/build/Spiffy-0.30-oDE2uv/blib/arch
    /home/test/.cpan/build/Spiffy-0.30-oDE2uv/blib/lib
    /home/test/perl/lib/site_perl/5.12.1/x86_64-linux-thread-multi-ld
    /home/test/perl/lib/site_perl/5.12.1
    /home/test/perl/lib/5.12.1/x86_64-linux-thread-multi-ld
    /home/test/perl/lib/5.12.1
    .