Dancer v1.3521 Perl 5 v5.39.3 armv7l-linux
- Status
- Pass
- From
- John SJ Anderson
- Dist
-
Dancer v1.3521
- Platform
- Perl 5 v5.39.3 armv7l-linux
- Date
- 2023-09-20 23:24:11
- ID
- ce1fc052-580c-11ee-8fdf-3ffa1e1f9e58
This distribution has been tested as part of the CPAN Testers
project, supporting the Perl programming language. See
http://wiki.cpantesters.org/ for more information or email
questions to cpan-testers-discuss@perl.org
--
Dear YANICK,
This is a computer-generated report for Dancer-1.3521
on perl 5.39.3, created by App::cpanminus::reporter 0.21 (1.7047).
Thank you for uploading your work to CPAN. Congratulations!
All tests were successful.
Sections of this report:
* Tester comments
* Program output
* Prerequisites
* Environment and other context
------------------------------
TESTER COMMENTS
------------------------------
Additional comments from tester:
none provided
------------------------------
PROGRAM OUTPUT
------------------------------
Output from '':
Building and testing Dancer-1.3521
cp lib/Dancer/Config.pm blib/lib/Dancer/Config.pm
cp lib/Dancer/Continuation/Route/Passed.pm blib/lib/Dancer/Continuation/Route/Passed.pm
cp lib/Dancer/Handler/PSGI.pm blib/lib/Dancer/Handler/PSGI.pm
cp lib/Dancer/Development.pod blib/lib/Dancer/Development.pod
cp lib/Dancer/Handler.pm blib/lib/Dancer/Handler.pm
cp lib/Dancer/Logger/Diag.pm blib/lib/Dancer/Logger/Diag.pm
cp lib/Dancer/Engine.pm blib/lib/Dancer/Engine.pm
cp lib/Dancer/FileUtils.pm blib/lib/Dancer/FileUtils.pm
cp lib/Dancer/Logger/Console.pm blib/lib/Dancer/Logger/Console.pm
cp lib/Dancer/Hook/Properties.pm blib/lib/Dancer/Hook/Properties.pm
cp lib/Dancer/Logger.pm blib/lib/Dancer/Logger.pm
cp lib/Dancer/Cookie.pm blib/lib/Dancer/Cookie.pm
cp lib/Dancer/Continuation/Route.pm blib/lib/Dancer/Continuation/Route.pm
cp lib/Dancer/GetOpt.pm blib/lib/Dancer/GetOpt.pm
cp lib/Dancer/Cookbook.pod blib/lib/Dancer/Cookbook.pod
cp lib/Dancer/Introduction.pod blib/lib/Dancer/Introduction.pod
cp lib/Dancer/Config/Object.pm blib/lib/Dancer/Config/Object.pm
cp lib/Dancer/Continuation/Route/FileSent.pm blib/lib/Dancer/Continuation/Route/FileSent.pm
cp lib/Dancer/Development/Integration.pod blib/lib/Dancer/Development/Integration.pod
cp lib/Dancer/Continuation/Route/Forwarded.pm blib/lib/Dancer/Continuation/Route/Forwarded.pm
cp lib/Dancer.pm blib/lib/Dancer.pm
cp lib/Dancer/Error.pm blib/lib/Dancer/Error.pm
cp lib/Dancer/Deployment.pod blib/lib/Dancer/Deployment.pod
cp lib/Dancer/App.pm blib/lib/Dancer/App.pm
cp lib/Dancer/Continuation.pm blib/lib/Dancer/Continuation.pm
cp lib/Dancer/Logger/Abstract.pm blib/lib/Dancer/Logger/Abstract.pm
cp lib/Dancer/Logger/Capture.pm blib/lib/Dancer/Logger/Capture.pm
cp lib/Dancer/Cookies.pm blib/lib/Dancer/Cookies.pm
cp lib/Dancer/Exception.pm blib/lib/Dancer/Exception.pm
cp lib/Dancer/Deprecation.pm blib/lib/Dancer/Deprecation.pm
cp lib/Dancer/Hook.pm blib/lib/Dancer/Hook.pm
cp lib/Dancer/Continuation/Route/Templated.pm blib/lib/Dancer/Continuation/Route/Templated.pm
cp lib/Dancer/Continuation/Halted.pm blib/lib/Dancer/Continuation/Halted.pm
cp lib/Dancer/Continuation/Route/ErrorSent.pm blib/lib/Dancer/Continuation/Route/ErrorSent.pm
cp lib/Dancer/Logger/Capture/Trap.pm blib/lib/Dancer/Logger/Capture/Trap.pm
cp lib/Dancer/Handler/Debug.pm blib/lib/Dancer/Handler/Debug.pm
cp lib/Dancer/Exception/Base.pm blib/lib/Dancer/Exception/Base.pm
cp lib/Dancer/HTTP.pm blib/lib/Dancer/HTTP.pm
cp lib/Dancer/Handler/Standalone.pm blib/lib/Dancer/Handler/Standalone.pm
cp lib/Dancer/Factory/Hook.pm blib/lib/Dancer/Factory/Hook.pm
cp lib/Dancer/Session/Simple.pm blib/lib/Dancer/Session/Simple.pm
cp lib/Dancer/Logger/Null.pm blib/lib/Dancer/Logger/Null.pm
cp lib/Dancer/Serializer/Abstract.pm blib/lib/Dancer/Serializer/Abstract.pm
cp lib/Dancer/Logger/File.pm blib/lib/Dancer/Logger/File.pm
cp lib/Dancer/Session/YAML.pm blib/lib/Dancer/Session/YAML.pm
cp lib/Dancer/Request.pm blib/lib/Dancer/Request.pm
cp lib/Dancer/Response.pm blib/lib/Dancer/Response.pm
cp lib/Dancer/Timer.pm blib/lib/Dancer/Timer.pm
cp lib/Dancer/Serializer/JSONP.pm blib/lib/Dancer/Serializer/JSONP.pm
cp lib/Dancer/Plugin/Ajax.pm blib/lib/Dancer/Plugin/Ajax.pm
cp lib/Dancer/Template/Abstract.pm blib/lib/Dancer/Template/Abstract.pm
cp lib/Dancer/Route/Registry.pm blib/lib/Dancer/Route/Registry.pm
cp lib/Dancer/Serializer/YAML.pm blib/lib/Dancer/Serializer/YAML.pm
cp lib/Dancer/Serializer/XML.pm blib/lib/Dancer/Serializer/XML.pm
cp lib/Dancer/Template/Simple.pm blib/lib/Dancer/Template/Simple.pm
cp lib/Dancer/Plugin.pm blib/lib/Dancer/Plugin.pm
cp lib/Dancer/Object/Singleton.pm blib/lib/Dancer/Object/Singleton.pm
cp lib/Dancer/Tutorial.pod blib/lib/Dancer/Tutorial.pod
cp lib/Dancer/Serializer/Dumper.pm blib/lib/Dancer/Serializer/Dumper.pm
cp lib/Dancer/Object.pm blib/lib/Dancer/Object.pm
cp lib/Dancer/Route/Cache.pm blib/lib/Dancer/Route/Cache.pm
cp lib/Dancer/Renderer.pm blib/lib/Dancer/Renderer.pm
cp lib/Dancer/MIME.pm blib/lib/Dancer/MIME.pm
cp lib/Dancer/Serializer/Mutable.pm blib/lib/Dancer/Serializer/Mutable.pm
cp lib/Dancer/Route.pm blib/lib/Dancer/Route.pm
cp lib/Dancer/Logger/Note.pm blib/lib/Dancer/Logger/Note.pm
cp lib/Dancer/Template/TemplateToolkit.pm blib/lib/Dancer/Template/TemplateToolkit.pm
cp lib/Dancer/Plugins.pod blib/lib/Dancer/Plugins.pod
cp lib/Dancer/Serializer.pm blib/lib/Dancer/Serializer.pm
cp lib/Dancer/Request/Upload.pm blib/lib/Dancer/Request/Upload.pm
cp lib/Dancer/Test.pm blib/lib/Dancer/Test.pm
cp lib/Dancer/ModuleLoader.pm blib/lib/Dancer/ModuleLoader.pm
cp lib/Dancer/Session/Abstract.pm blib/lib/Dancer/Session/Abstract.pm
cp lib/Dancer/Session.pm blib/lib/Dancer/Session.pm
cp lib/HTTP/Tiny/NoProxy.pm blib/lib/HTTP/Tiny/NoProxy.pm
cp lib/Dancer/Serializer/JSON.pm blib/lib/Dancer/Serializer/JSON.pm
cp lib/Dancer/Policy.pod blib/lib/Dancer/Policy.pod
cp lib/Dancer/SharedData.pm blib/lib/Dancer/SharedData.pm
cp lib/Dancer/Template.pm blib/lib/Dancer/Template.pm
cp bin/dancer blib/script/dancer
"/opt/plenv/versions/5.39.3/bin/perl5.39.3" -MExtUtils::MY -e 'MY->fixin(shift)' -- blib/script/dancer
Manifying 1 pod document
Manifying 34 pod documents
Manifying 35 pod documents
Manifying 10 pod documents
PERL_DL_NONLAZY=1 "/opt/plenv/versions/5.39.3/bin/perl5.39.3" "-MExtUtils::Command::MM" "-MTest::Harness" "-e" "undef *Test::Harness::Switches; test_harness(0, 'blib/lib', 'blib/arch')" t/*.t t/00_base/*.t t/01_config/*.t t/02_request/*.t t/03_route_handler/*.t t/04_static_file/*.t t/05_views/*.t t/06_helpers/*.t t/07_apphandlers/*.t t/08_session/*.t t/09_cookies/*.t t/10_template/*.t t/11_logger/*.t t/12_response/*.t t/13_engines/*.t t/14_serializer/*.t t/15_plugins/*.t t/16_timer/*.t t/17_apps/*.t t/19_dancer/*.t t/20_deprecation/*.t t/21_dependents/*.t t/22_hooks/*.t t/23_dancer_tests/*.t t/24_deployment/*.t t/25_exceptions/*.t
t/00-compile.t ...................................... ok
#
# Versions for all modules listed in MYMETA.json (including optional ones):
#
# === Configure Requires ===
#
# Module Want Have
# ------------------- ---- ----
# ExtUtils::MakeMaker any 7.70
#
# === Configure Suggests ===
#
# Module Want Have
# -------- ------- ----
# JSON::PP 2.27300 4.16
#
# === Build Requires ===
#
# Module Want Have
# ------------------- ---- ----
# ExtUtils::MakeMaker any 7.70
#
# === Test Requires ===
#
# Module Want Have
# ------------------- ----- --------
# Data::Dump any 1.25
# Devel::Hide any 0.0015
# Digest::MD5 any 2.58_01
# ExtUtils::MakeMaker any 7.70
# File::Spec any 3.90
# HTTP::CookieJar 0.008 0.014
# HTTP::Request any 6.44
# HTTP::Tiny 0.014 0.088
# IO::Handle any 1.53
# IO::Socket::INET any 1.53
# IPC::Open3 any 1.22
# JSON 2.90 4.10
# Plack::Builder any undef
# Test::LongString any 0.17
# Test::More any 1.302195
# Test::NoWarnings any 1.06
# utf8 any 1.25
#
# === Test Recommends ===
#
# Module Want Have
# ---------- -------- --------
# CPAN::Meta 2.120900 2.150010
#
# === Runtime Requires ===
#
# Module Want Have
# -------------------------- ----- --------
# Carp any 1.54
# Cwd any 3.90
# Data::Dumper any 2.189
# Encode any 3.19
# Exporter any 5.77
# Fcntl any 1.15
# File::Basename any 2.86
# File::Copy any 2.41
# File::Path any 2.18
# File::Spec any 3.90
# File::Spec::Functions any 3.91
# File::Temp any 0.2311
# File::stat any 1.13
# FindBin any 1.54
# Getopt::Long any 2.54
# HTTP::Body any 1.22
# HTTP::Date any 6.06
# HTTP::Headers any 6.44
# HTTP::Server::Simple::PSGI any 0.16
# HTTP::Tiny 0.014 0.088
# Hash::Merge::Simple any 0.051
# IO::File any 1.53
# MIME::Types any 2.24
# Module::Runtime any 0.016
# POSIX any 2.15
# Pod::Usage any 2.03
# Scalar::Util any 1.63
# Test::Builder any 1.302195
# Test::LongString any 0.17
# Test::More any 1.302195
# Time::HiRes any 1.9776
# Try::Tiny any 0.31
# URI any 5.21
# URI::Escape any 5.21
# base any 2.27
# bytes any 1.08
# constant any 1.33
# lib any 0.65
# overload any 1.37
# parent any 0.241
# strict any 1.13
# vars any 1.05
# warnings any 1.67
#
# === Runtime Recommends ===
#
# Module Want Have
# ----------- ---- -------
# MIME::Types 2.17 2.24
# YAML any 1.30
# YAML::XS any missing
#
t/00-report-prereqs.t ............................... ok
t/00_base/000_create_fake_env.t ..................... ok
# Testing Dancer 1.3521, Perl 5.039003, /opt/plenv/versions/5.39.3/bin/perl5.39.3
t/00_base/001_load.t ................................ ok
t/00_base/002_strict_and_warnings.t ................. ok
t/00_base/003_syntax.t .............................. ok
t/00_base/004_args.t ................................ ok
t/00_base/005_module_loader.t ....................... ok
t/00_base/007_load_syntax.t ......................... ok
t/00_base/008_export.t .............................. ok
t/00_base/009_syntax_export.t ....................... ok
t/00_base/010_export_script.t ....................... ok
t/00_base/06_dancer_object.t ........................ ok
t/00_base/08_pod_coverage_dancer.t .................. ok
t/00_base/09_load_app.t ............................. ok
t/00_base/11_file_utils.t ........................... ok
t/00_base/12_utf8_charset.t ......................... ok
t/00_base/13_dancer_singleton.t ..................... ok
t/00_base/15_dependent_modules.t .................... skipped: Author tests not required for installation
t/00_base/17_globalwarnings_config_on.t ............. ok
t/00_base/config.t .................................. ok
t/00_base/easymocker.t .............................. ok
t/00_base/normalize_path.t .......................... ok
# Test::TCP 2.22 loaded successfully
# Test::More 1.302195 loaded successfully
# JSON 4.10 loaded successfully
# YAML 1.30 loaded successfully
# Clone 0.46 loaded successfully
# Plack 1.0050 loaded successfully
# XML::Simple is not available
# HTTP::Parser::XS 0.17 loaded successfully
t/00_base/optional-module-versions.t ................ ok
t/00_base/uri_for.t ................................. ok
t/01_config/01_settings.t ........................... ok
t/01_config/02_mime_type.t .......................... ok
Attempt to call undefined import method with arguments ("catfile") via package "File::Spec" (Perhaps you forgot to load the package?) at t/01_config/03_logger.t line 6.
t/01_config/03_logger.t ............................. ok
t/01_config/04_config_file.t ........................ ok
t/01_config/05_serializers.t ........................ ok
# Testing YAML parsing with YAML version 1.30
t/01_config/06_config_api.t ......................... ok
t/01_config/06_stack_trace.t ........................ ok
t/01_config/07_strict_config.t ...................... ok
t/01_config/08_environments.t ....................... ok
t/01_config/yaml_dependency.t ....................... ok
t/02_request/000_create_fake_env.t .................. ok
t/02_request/01_load.t .............................. ok
t/02_request/04_custom.t ............................ ok
t/02_request/04_forward.t ........................... ok
t/02_request/05_cgi_pm_compat.t ..................... ok
t/02_request/06_init_env.t .......................... ok
# OK
t/02_request/07_raw_data.t .......................... ok
t/02_request/08_param_array.t ....................... ok
t/02_request/08_params.t ............................ ok
t/02_request/10_mixed_params.t ...................... ok
t/02_request/11_accessors.t ......................... ok
t/02_request/12_base.t .............................. ok
t/02_request/13_ajax.t .............................. ok
t/02_request/14_uploads.t ........................... ok
t/02_request/15_headers.t ........................... ok
t/02_request/16_delete.t ............................ ok
t/02_request/17_uri_base.t .......................... ok
t/02_request/18_param_accessor.t .................... ok
t/02_request/19_json_body.t ......................... ok
t/02_request/20_body.t .............................. ok
t/02_request/21_dancer_response_multiple_params.t ... ok
t/03_route_handler/01_http_methods.t ................ ok
t/03_route_handler/02_params.t ...................... ok
t/03_route_handler/03_routes_api.t .................. ok
t/03_route_handler/04_routes_matching.t ............. ok
t/03_route_handler/04_wildcards_megasplat.t ......... ok
t/03_route_handler/05_filter.t ...................... ok
t/03_route_handler/05_unicode.t ..................... ok
t/03_route_handler/06_redirect.t .................... ok
t/03_route_handler/07_compilation_warning.t ......... ok
t/03_route_handler/08_errors.t ...................... ok
t/03_route_handler/12_response.t .................... ok
t/03_route_handler/12_response_halt.t ............... ok
t/03_route_handler/14_options.t ..................... ok
t/03_route_handler/15_prefix.t ...................... ok
t/03_route_handler/16_caching.t ..................... ok
t/03_route_handler/16_embedded_prefixes.t ........... ok
t/03_route_handler/18_auto_page.t ................... ok
t/03_route_handler/21_ajax.t ........................ ok
t/03_route_handler/23_filter_error_catching.t ....... ok
t/03_route_handler/24_multiple_params.t ............. ok
t/03_route_handler/24_named_captures.t .............. ok
t/03_route_handler/28_plack_mount.t ................. ok
t/03_route_handler/29_forward.t ..................... ok
t/03_route_handler/29_redirect_immediately.t ........ ok
t/03_route_handler/30_forward_session.t ............. ok
t/03_route_handler/31_infinite_loop.t ............... ok
t/03_route_handler/33_vars.t ........................ ok
t/03_route_handler/34_forward_body_post.t ........... ok
t/03_route_handler/35_no_further_routes.t ........... ok
t/03_route_handler/36_false_routes.t ................ ok
t/03_route_handler/99_bugs.t ........................ ok
t/04_static_file/001_base.t ......................... ok
t/04_static_file/003_mime_types_reinit.t ............ ok
t/04_static_file/01_mime_types.t .................... ok
t/04_static_file/02_dir_traversal.t ................. ok
t/05_views/002_view_rendering.t ..................... ok
t/05_views/03_layout.t .............................. ok
t/06_helpers/000_create_fake_env.t .................. ok
t/06_helpers/01_send_file.t ......................... ok
t/06_helpers/02_http_status.t ....................... ok
t/06_helpers/03_content_type.t ...................... ok
t/06_helpers/04_status.t ............................ ok
t/06_helpers/05_send_error.t ........................ ok
t/06_helpers/06_load.t .............................. ok
t/06_helpers/07_send_error.t ........................ ok
t/07_apphandlers/000_create_fake_env.t .............. ok
t/07_apphandlers/01_base.t .......................... ok
t/07_apphandlers/02_apache2_plack.t ................. ok
t/07_apphandlers/03_psgi_app.t ...................... ok
t/07_apphandlers/04_standalone_app.t ................ ok
t/07_apphandlers/05_middlewares.t ................... ok
t/07_apphandlers/05_psgi_api.t ...................... ok
t/07_apphandlers/06_debug.t ......................... ok
t/07_apphandlers/07_middleware_map.t ................ ok
t/07_apphandlers/08_is_text.t ....................... ok
t/08_session/000_create_fake_env.t .................. ok
t/08_session/01_load.t .............................. ok
Use of uninitialized value in subroutine entry at /home/genehack/.cpanm/work/1695237675.25121/Dancer-1.3521/blib/lib/Dancer/FileUtils.pm line 32.
t/08_session/02_dependency_check.t .................. ok
t/08_session/03_http_requests.t ..................... ok
t/08_session/04_api.t ............................... ok
t/08_session/05_yaml.t .............................. ok
t/08_session/06_abstract.t .......................... ok
t/08_session/07_session_expires.t ................... ok
t/08_session/08_simple.t ............................ ok
t/08_session/09_session.t ........................... ok
t/08_session/10_filter.t ............................ ok
t/08_session/11_session_secure.t .................... ok
t/08_session/12_session_name.t ...................... ok
t/08_session/13_session_httponly.t .................. ok
t/08_session/14_session_domain.t .................... ok
# 200
# Cookie: dancer.session=540274110275843687663396897765659311; path=/; SameSite=Strict; HttpOnly
# 200
# Cookie: dancer.session=540274110276843687663397897765659312; path=/; SameSite=Lax; HttpOnly
# 200
# Cookie: dancer.session=540274110281843687663402897765659317; path=/; SameSite=Strict; HttpOnly
# 200
# Cookie: dancer.session=540274110282843687663403897765659318; path=/; SameSite=None; HttpOnly
# 200
# Cookie: dancer.session=540274110283843687663404897765659319; path=/; SameSite=None; HttpOnly
# 200
# Cookie: dancer.session=540274110284843687663405897765659320; path=/; SameSite=None; HttpOnly
t/08_session/15_session_samesite.t .................. ok
t/09_cookies/000_create_fake_env.t .................. ok
t/09_cookies/01_use.t ............................... ok
t/09_cookies/02_cookie_object.t ..................... ok
t/09_cookies/03_persistence.t ....................... ok
t/09_cookies/04_secure.t ............................ ok
t/09_cookies/05_api.t ............................... ok
t/09_cookies/06_expires.t ........................... ok
t/10_template/000_create_fake_env.t ................. ok
t/10_template/01_factory.t .......................... ok
t/10_template/02_abstract_class.t ................... ok
t/10_template/03_simple.t ........................... ok
t/10_template/05_template_toolkit.t ................. ok
t/10_template/05_template_toolkit_fromdata.t ........ skipped: module Template::Provider::FromDATA required
t/10_template/extension.t ........................... ok
t/10_template/template.t ............................ ok
t/11_logger/000_create_fake_env.t ................... ok
t/11_logger/01_abstract.t ........................... ok
t/11_logger/02_factory.t ............................ ok
t/11_logger/03_file.t ............................... ok
t/11_logger/04_console.t ............................ ok
t/11_logger/05_format.t ............................. ok
t/11_logger/06_null.t ............................... ok
t/11_logger/07_diag.t ............................... ok
t/11_logger/08_serialize.t .......................... ok
t/11_logger/09_capture.t ............................ ok
t/11_logger/10_note.t ............................... ok
t/11_logger/11_runtime_file.t ....................... ok
t/11_logger/unicode.t ............................... ok
t/12_response/000_create_fake_env.t ................. ok
t/12_response/01_CRLF_injection.t ................... ok
t/12_response/02_headers.t .......................... ok
t/12_response/03_charset.t .......................... ok
Wide character in print at /opt/plenv/versions/5.39.3/lib/perl5/site_perl/5.39.3/HTTP/Server/Simple/PSGI.pm line 132, <DATA> line 16.
Wide character in print at /opt/plenv/versions/5.39.3/lib/perl5/site_perl/5.39.3/HTTP/Server/Simple/PSGI.pm line 132, <DATA> line 16.
t/12_response/04_charset_server.t ................... ok
t/12_response/05_api.t .............................. ok
t/12_response/06_filter_halt_status.t ............... ok
t/12_response/07_cookies.t .......................... ok
t/12_response/08_drop_content.t ..................... ok
t/12_response/09_headers_to_array.t ................. ok
Data exceeding 100 levels, truncating
t/12_response/10_error_dumper.t ..................... ok
t/12_response/10_error_dumper_without_clone.t ....... skipped: skip tests with HTTP::Message >= 6.44, GH #1237
t/12_response/11_CVE-2012-5572.t .................... ok
t/13_engines/00_load.t .............................. ok
t/13_engines/02_template_init.t ..................... ok
t/14_serializer/01_helpers.t ........................ ok
t/14_serializer/02_request_json.t ................... ok
t/14_serializer/03_request_yaml.t ................... ok
t/14_serializer/04_request_xml.t .................... ok
t/14_serializer/05_request_mutable.t ................ ok
t/14_serializer/06_api.t ............................ ok
t/14_serializer/07_request_jsonp.t .................. ok
t/14_serializer/17_clear_serializer.t ............... ok
t/14_serializer/18_mutable_template_or_serialize.t .. ok
t/14_serializer/99_bugs.t ........................... ok
t/15_plugins/000_create_fake_env.t .................. ok
t/15_plugins/01_register.t .......................... ok
t/15_plugins/02_config.t ............................ ok
t/15_plugins/03_namespace.t ......................... ok
t/15_plugins/04_apps_and_plugins.t .................. ok
t/15_plugins/05_keywords.t .......................... ok
t/15_plugins/05_plugins_and_OO.t .................... ok
t/15_plugins/05b_plugins_and_c3.t ................... ok
t/15_plugins/06_hook.t .............................. ok
t/15_plugins/07_ajax_plack_builder.t ................ ok
t/16_timer/00_base.t ................................ ok
t/17_apps/000_create_fake_env.t ..................... ok
t/17_apps/00_base.t ................................. ok
t/17_apps/01_settings.t ............................. ok
t/17_apps/02_load_app.t ............................. ok
t/17_apps/03_prefix.t ............................... ok
t/17_apps/05_api.t .................................. ok
t/19_dancer/01_script.t ............................. ok
t/19_dancer/02_script_version_from.t ................ ok
t/20_deprecation/01_api.t ........................... ok
t/21_dependents/Dancer-Session-Cookie.t ............. skipped: Dancer::Session::Cookie 0.14 required
t/22_hooks/00_syntax.t .............................. ok
t/22_hooks/01_api.t ................................. ok
t/22_hooks/02_before.t .............................. ok
t/22_hooks/03_after.t ............................... ok
t/22_hooks/04_template.t ............................ ok
t/22_hooks/05_layout.t .............................. ok
t/22_hooks/06_serializer.t .......................... ok
t/22_hooks/07_file.t ................................ ok
t/22_hooks/08_error.t ............................... ok
t/22_hooks/09_before_error_init.t ................... ok
t/22_hooks/10_error_in_hook.t ....................... ok
t/22_hooks/11_error_in_hook.t ....................... ok
t/23_dancer_tests/01_basic.t ........................ ok
t/23_dancer_tests/02_tests_functions.t .............. ok
t/23_dancer_tests/03_uris.t ......................... ok
t/24_deployment/01_multi_webapp.t ................... ok
t/25_exceptions/01_exceptions.t ..................... ok
t/25_exceptions/02_exceptions.t ..................... ok
t/25_exceptions/03_exceptions.t ..................... ok
t/25_exceptions/04_exceptions_warn.t ................ ok
t/author-distmeta.t ................................. skipped: these tests are for testing by the author
t/author-pod-syntax.t ............................... skipped: these tests are for testing by the author
t/pod.t ............................................. skipped: Author tests not required for installation
All tests successful.
Files=224, Tests=2213, 166 wallclock secs ( 1.35 usr 0.84 sys + 147.69 cusr 16.01 csys = 165.89 CPU)
Result: PASS
------------------------------
PREREQUISITES
------------------------------
Prerequisite modules loaded:
runtime:
Module Need Have
-------------------------- ----- --------
base 0 2.27
bytes 0 1.08
Carp 0 1.54
constant 0 1.33
Cwd 0 3.90
Data::Dumper 0 2.189
Encode 0 3.19
Exporter 0 5.77
Fcntl 0 1.15
File::Basename 0 2.86
File::Copy 0 2.41
File::Path 0 2.18
File::Spec 0 3.90
File::Spec::Functions 0 3.91
File::stat 0 1.13
File::Temp 0 0.2311
FindBin 0 1.54
Getopt::Long 0 2.54
Hash::Merge::Simple 0 0.051
HTTP::Body 0 1.22
HTTP::Date 0 6.06
HTTP::Headers 0 6.44
HTTP::Server::Simple::PSGI 0 0.16
HTTP::Tiny 0.014 0.088
IO::File 0 1.53
lib 0 0.65
MIME::Types 0 2.24
Module::Runtime 0 0.016
overload 0 1.37
parent 0 0.241
perl 5.006 5.039003
Pod::Usage 0 2.03
POSIX 0 2.15
Scalar::Util 0 1.63
strict 0 1.13
Test::Builder 0 1.302195
Test::LongString 0 0.17
Test::More 0 1.302195
Time::HiRes 0 1.9776
Try::Tiny 0 0.31
URI 0 5.21
URI::Escape 0 5.21
vars 0 1.05
warnings 0 1.67
build:
Module Need Have
-------------------------- ----- --------
ExtUtils::MakeMaker 0 7.70
configure:
Module Need Have
-------------------------- ----- --------
ExtUtils::MakeMaker 0 7.70
------------------------------
ENVIRONMENT AND OTHER CONTEXT
------------------------------
Environment variables:
LANG = en_US.UTF-8
LC_ALL = en_US.UTF-8
LC_TERMINAL = iTerm2
LC_TERMINAL_VERSION = 3.4.20
PATH = /opt/plenv/versions/5.39.3/bin:/opt/plenv/libexec:/opt/plenv/plugins/Perl-Build/bin:/opt/plenv/shims:/home/genehack/bin:/opt/plenv/shims:/opt/plenv/bin:/opt/git/bin:/opt/emacs/bin:/opt/local/bin:/usr/local/bin:/usr/bin:/bin:/usr/games
PERL_CPANM_OPT = --skip-installed --prompt
SHELL = /bin/zsh
TERM = screen-256color
Perl special variables (and OS-specific diagnostics, for MSWin32):
EGID = 1001 27 1001
EUID = 1000
EXECUTABLE_NAME = /opt/plenv/versions/5.39.3/bin/perl5.39.3
GID = 1001 27 1001
UID = 1000
Perl module toolchain versions installed:
Module Have
------------------- --------
CPAN 2.36
CPAN::Meta 2.150010
Cwd 3.90
ExtUtils::CBuilder 0.280240
ExtUtils::Command 7.70
ExtUtils::Install 2.22
ExtUtils::MakeMaker 7.70
ExtUtils::Manifest 1.75
ExtUtils::ParseXS 3.51
File::Spec 3.90
JSON 4.10
JSON::PP 4.16
Module::Build 0.4234
Module::Signature n/a
Parse::CPAN::Meta 2.150010
Test::Harness 3.47
Test::More 1.302195
YAML 1.30
YAML::Syck n/a
version 0.9929
--
Summary of my perl5 (revision 5 version 39 subversion 3) configuration:
Platform:
osname=linux
osvers=5.10.52-v7l+
archname=armv7l-linux
uname='linux weefree 5.10.52-v7l+ #1441 smp tue aug 3 18:11:56 bst 2021 armv7l gnulinux '
config_args='-Dprefix=/opt/plenv/versions/5.39.3 -de -Dversiononly -Dusedevel -A'eval:scriptdir=/opt/plenv/versions/5.39.3/bin''
hint=recommended
useposix=true
d_sigaction=define
useithreads=undef
usemultiplicity=undef
use64bitint=undef
use64bitall=undef
uselongdouble=undef
usemymalloc=n
default_inc_excludes_dot=define
Compiler:
cc='cc'
ccflags ='-fwrapv -fno-strict-aliasing -pipe -fstack-protector-strong -I/usr/local/include -D_LARGEFILE_SOURCE -D_FILE_OFFSET_BITS=64 -D_FORTIFY_SOURCE=2'
optimize='-O2'
cppflags='-fwrapv -fno-strict-aliasing -pipe -fstack-protector-strong -I/usr/local/include'
ccversion=''
gccversion='12.2.0'
gccosandvers=''
intsize=4
longsize=4
ptrsize=4
doublesize=8
byteorder=1234
doublekind=3
d_longlong=define
longlongsize=8
d_longdbl=define
longdblsize=8
longdblkind=0
ivtype='long'
ivsize=4
nvtype='double'
nvsize=8
Off_t='off_t'
lseeksize=8
alignbytes=8
prototype=define
Linker and Libraries:
ld='cc'
ldflags =' -fstack-protector-strong -L/usr/local/lib'
libpth=/usr/local/lib /usr/lib/arm-linux-gnueabihf /usr/lib
libs=-lpthread -ldl -lm -lcrypt -lutil -lc
perllibs=-lpthread -ldl -lm -lcrypt -lutil -lc
libc=/lib/arm-linux-gnueabihf/libc.so.6
so=so
useshrplib=false
libperl=libperl.a
gnulibc_version='2.36'
Dynamic Linking:
dlsrc=dl_dlopen.xs
dlext=so
d_dlsymun=undef
ccdlflags='-Wl,-E'
cccdlflags='-fPIC'
lddlflags='-shared -O2 -L/usr/local/lib -fstack-protector-strong'
Characteristics of this binary (from libperl):
Compile-time options:
HAS_LONG_DOUBLE
HAS_STRTOLD
HAS_TIMES
PERLIO_LAYERS
PERL_COPY_ON_WRITE
PERL_DONT_CREATE_GVSV
PERL_HASH_FUNC_ZAPHOD32
PERL_HASH_USE_SBOX32
PERL_MALLOC_WRAP
PERL_OP_PARENT
PERL_PRESERVE_IVUV
PERL_USE_DEVEL
PERL_USE_SAFE_PUTENV
USE_LARGE_FILES
USE_LOCALE
USE_LOCALE_COLLATE
USE_LOCALE_CTYPE
USE_LOCALE_NUMERIC
USE_LOCALE_TIME
USE_PERLIO
USE_PERL_ATOF
Built under linux
Compiled at Sep 20 2023 11:48:52
%ENV:
PERL_CPANM_OPT="--skip-installed --prompt"
@INC:
/opt/plenv/versions/5.39.3/lib/perl5/site_perl/5.39.3/armv7l-linux
/opt/plenv/versions/5.39.3/lib/perl5/site_perl/5.39.3
/opt/plenv/versions/5.39.3/lib/perl5/5.39.3/armv7l-linux
/opt/plenv/versions/5.39.3/lib/perl5/5.39.3