XSLoader v0.24 Perl 5 v5.18.4 cygwin-thread-ld

Status
Pass
From
Peter John Acklam (PJACKLAM)
Dist
XSLoader v0.24
Platform
Perl 5 v5.18.4 cygwin-thread-ld
Date
2024-08-05 10:34:25
ID
ce343e47-801c-1014-9712-fa2ee2ab45e8
This distribution has been tested as part of the CPAN Testers
project, supporting the Perl programming language.  See
http://wiki.cpantesters.org/ for more information or email
questions to cpan-testers-discuss@perl.org


--
Dear Sebastien Aperghis-Tramoni,

This is a computer-generated report for XSLoader-0.24
on perl 5.18.4, created by CPAN-Reporter-1.2019.

Thank you for uploading your work to CPAN.  Congratulations!
All tests were successful.

Sections of this report:

    * Tester comments
    * Program output
    * Prerequisites
    * Environment and other context

------------------------------
TESTER COMMENTS
------------------------------

Additional comments from tester:

this report is from an automated smoke testing program
and was not reviewed by a human for accuracy

------------------------------
PROGRAM OUTPUT
------------------------------

Output from '/usr/bin/make test':

PERL_DL_NONLAZY=1 /cygdrive/h/opt/perl5/cygwin_nt-10.0/3.5.3/x86_64/perl/5.18.4/x86_64-cygwin-thread-ld/bin/perl5.18.4.exe "-MExtUtils::Command::MM" "-e" "test_harness(0, 'blib/lib', 'blib/arch')" t/*.t
# testing XSLoader v0.24 under Perl 5.018004
t/00-load.t ... ok
t/01-api.t .... ok
t/distchk.t ... skipped: Test::Distribution required for checking distribution
t/pod.t ....... ok
t/podcover.t .. skipped: Test::Pod::Coverage 1.04 required for testing POD coverage
t/portfs.t .... skipped: Test::Portability::Files required for testing filenames portability
Subroutine Time::HiRes::CLONE redefined at (eval 35) line 1.
Subroutine Time::HiRes::constant redefined at (eval 35) line 1.
Subroutine Time::HiRes::usleep redefined at (eval 35) line 1.
Subroutine Time::HiRes::nanosleep redefined at (eval 35) line 1.
Subroutine Time::HiRes::sleep redefined at (eval 35) line 1.
Subroutine Time::HiRes::ualarm redefined at (eval 35) line 1.
Subroutine Time::HiRes::alarm redefined at (eval 35) line 1.
Subroutine Time::HiRes::gettimeofday redefined at (eval 35) line 1.
Subroutine Time::HiRes::time redefined at (eval 35) line 1.
Subroutine Time::HiRes::setitimer redefined at (eval 35) line 1.
Subroutine Time::HiRes::getitimer redefined at (eval 35) line 1.
Subroutine Time::HiRes::clock_gettime redefined at (eval 35) line 1.
Subroutine Time::HiRes::clock_getres redefined at (eval 35) line 1.
Subroutine Time::HiRes::clock_nanosleep redefined at (eval 35) line 1.
Subroutine Time::HiRes::clock redefined at (eval 35) line 1.
Subroutine Time::HiRes::stat redefined at (eval 35) line 1.
Subroutine XSLoader::bootstrap_inherit redefined at t/XSLoader.t line 120.
Subroutine Cwd::getcwd redefined at /opt/perl5/cygwin_nt-10.0/3.5.3/x86_64/perl/5.18.4/x86_64-cygwin-thread-ld/lib/5.18.4/cygwin-thread-ld/Cwd.pm line 248.
Subroutine Cwd::fastcwd redefined at /opt/perl5/cygwin_nt-10.0/3.5.3/x86_64/perl/5.18.4/x86_64-cygwin-thread-ld/lib/5.18.4/cygwin-thread-ld/Cwd.pm line 248.
Subroutine Cwd::abs_path redefined at /opt/perl5/cygwin_nt-10.0/3.5.3/x86_64/perl/5.18.4/x86_64-cygwin-thread-ld/lib/5.18.4/cygwin-thread-ld/Cwd.pm line 248.
Subroutine XSLoader::bootstrap_inherit redefined at t/XSLoader.t line 142.
t/XSLoader.t .. ok
All tests successful.
Files=7, Tests=29, 12 wallclock secs ( 0.08 usr  0.25 sys +  1.92 cusr  8.41 csys = 10.66 CPU)
Result: PASS

------------------------------
PREREQUISITES
------------------------------

Prerequisite modules loaded:

requires:

    Module              Need Have    
    ------------------- ---- --------
    Test::More          0.47 1.302199

build_requires:

    Module              Need Have    
    ------------------- ---- --------
    ExtUtils::MakeMaker 0    6.68    

configure_requires:

    Module              Need Have    
    ------------------- ---- --------
    ExtUtils::MakeMaker 0    6.68    


------------------------------
ENVIRONMENT AND OTHER CONTEXT
------------------------------

Environment variables:

    AUTOMATED_TESTING = 1
    COMSPEC = C:\WINDOWS\system32\cmd.exe
    NUMBER_OF_PROCESSORS = 8
    PATH = /opt/perl5/cygwin_nt-10.0/3.5.3/x86_64/perl/5.18.4/x86_64-cygwin-thread-ld/bin:/opt/perl5/cygwin_nt-10.0/3.5.3/x86_64/perl/5.18.4/x86_64-cygwin-thread-ld/local/bin:/usr/lib/lapack:/usr/local/bin:/usr/bin:/bin
    PERL5LIB = /opt/perl5/cygwin_nt-10.0/3.5.3/x86_64/perl/5.18.4/x86_64-cygwin-thread-ld/local/lib/perl5:/opt/perl5/cygwin_nt-10.0/3.5.3/x86_64/perl/5.18.4/x86_64-cygwin-thread-ld/local/lib/site_perl:/opt/perl5/cygwin_nt-10.0/3.5.3/x86_64/perl/5.18.4/x86_64-cygwin-thread-ld/local/lib
    PERL5OPT = 
    PERL5_CPANPLUS_IS_RUNNING = 13501
    PERL5_CPAN_IS_RUNNING = 13501
    PERL_CANARY_STABILITY_NOPROMPT = 1
    PERL_CPAN_REPORTER_CONFIG = /cygdrive/d/home/peter/.cpanreporter/config-cygwin-rigel.ini
    PERL_EXTUTILS_AUTOINSTALL = 1
    PERL_MB_OPT = --install_base /opt/perl5/cygwin_nt-10.0/3.5.3/x86_64/perl/5.18.4/x86_64-cygwin-thread-ld/local
    PERL_MM_OPT = INSTALL_BASE=/opt/perl5/cygwin_nt-10.0/3.5.3/x86_64/perl/5.18.4/x86_64-cygwin-thread-ld/local
    PERL_MM_USE_DEFAULT = 1
    PERL_TEST_CRITIC = 1
    PERL_TEST_CRITIC = 1
    PERL_TEST_POD = 1
    PERL_TEST_POD = 1
    PERL_USE_UNSAFE_INC = 1
    POD_TESTING = 1
    POD_TESTS = 1
    PROCESSOR_IDENTIFIER = Intel64 Family 6 Model 42 Stepping 7, GenuineIntel
    SHELL = /bin/bash
    TEMP = /tmp
    TERM = xterm-direct

Perl special variables (and OS-specific diagnostics, for MSWin32):

    $^X = /cygdrive/h/opt/perl5/cygwin_nt-10.0/3.5.3/x86_64/perl/5.18.4/x86_64-cygwin-thread-ld/bin/perl5.18.4
    $UID/$EUID = 197609 / 197609
    $GID = 197609 401408 545 4 66049 11 15 68380 113 4095 66048 262180
    $EGID = 197609 401408 545 4 66049 11 15 68380 113 4095 66048 262180

Perl module toolchain versions installed:

    Module              Have    
    ------------------- --------
    CPAN                2.36    
    CPAN::Meta          2.150010
    Cwd                 3.40    
    ExtUtils::CBuilder  0.280210
    ExtUtils::Command   1.17    
    ExtUtils::Install   1.59    
    ExtUtils::MakeMaker 6.68    
    ExtUtils::Manifest  1.63    
    ExtUtils::ParseXS   3.51    
    File::Spec          3.40    
    JSON                n/a     
    JSON::PP            4.16    
    Module::Build       0.4234  
    Module::Signature   n/a     
    Parse::CPAN::Meta   2.150010
    Test2               1.302199
    Test::Harness       3.48    
    Test::More          1.302199
    YAML                1.31    
    YAML::Syck          n/a     
    version             0.9902  


--

Summary of my perl5 (revision 5 version 18 subversion 4) configuration:
   
  Platform:
    osname=cygwin, osvers=3.5.3-1.x86_64, archname=cygwin-thread-ld
    uname='cygwin_nt-10.0-19045 rigel 3.5.3-1.x86_64 2024-04-03 17:25 utc x86_64 cygwin '
    config_args='-de -Dmksymlinks -Uinc_version_list -Uinstallusrbinperl -Dusethreads -Uusemultiplicity -Duselongdouble -Dprefix=/opt/perl5/cygwin_nt-10.0/3.5.3/x86_64/perl/5.18.4/x86_64-cygwin-thread-ld -Darchname=x86_64-cygwin-thread-ld'
    hint=recommended, useposix=true, d_sigaction=define
    useithreads=define, usemultiplicity=undef
    useperlio=define, d_sfio=undef, uselargefiles=define, usesocks=undef
    use64bitint=define, use64bitall=define, uselongdouble=define
    usemymalloc=n, bincompat5005=undef
  Compiler:
    cc='gcc', ccflags ='-U__STRICT_ANSI__ -D_GNU_SOURCE -fpcc-struct-return -pipe -fstack-protector',
    optimize='-O3',
    cppflags='-U__STRICT_ANSI__ -D_GNU_SOURCE -fpcc-struct-return -pipe -fstack-protector -D__GNUC__'
    ccversion='', gccversion='11.4.0', gccosandvers=''
    intsize=4, longsize=8, ptrsize=8, doublesize=8, byteorder=12345678
    d_longlong=define, longlongsize=8, d_longdbl=define, longdblsize=16
    ivtype='long', ivsize=8, nvtype='long double', nvsize=16, Off_t='off_t', lseeksize=8
    alignbytes=16, prototype=define
  Linker and Libraries:
    ld='g++', ldflags =' -Wl,--enable-auto-import -Wl,--export-all-symbols -Wl,--enable-auto-image-base -fstack-protector'
    libpth= 
    libs= 
    perllibs=
    libc=/usr/lib/libcygwin.a, so=dll, useshrplib=true, libperl=cygperl5_18_4.dll
    gnulibc_version=''
  Dynamic Linking:
    dlsrc=dl_dlopen.xs, dlext=dll, d_dlsymun=undef, ccdlflags=' '
    cccdlflags=' ', lddlflags=' --shared  -Wl,--enable-auto-import -Wl,--export-all-symbols -Wl,--enable-auto-image-base -fstack-protector'


Characteristics of this binary (from libperl): 
  Compile-time options: HAS_TIMES MULTIPLICITY PERLIO_LAYERS
                        PERL_DONT_CREATE_GVSV
                        PERL_HASH_FUNC_ONE_AT_A_TIME_HARD
                        PERL_IMPLICIT_CONTEXT PERL_PRESERVE_IVUV
                        PERL_SAWAMPERSAND USE_64_BIT_ALL USE_64_BIT_INT
                        USE_ITHREADS USE_LARGE_FILES USE_LOCALE
                        USE_LOCALE_COLLATE USE_LOCALE_CTYPE
                        USE_LOCALE_NUMERIC USE_LONG_DOUBLE USE_PERLIO
                        USE_PERL_ATOF USE_REENTRANT_API
  Built under cygwin
  Compiled at Jul 14 2024 02:41:52
  %ENV:
    PERL5LIB="/opt/perl5/cygwin_nt-10.0/3.5.3/x86_64/perl/5.18.4/x86_64-cygwin-thread-ld/local/lib/perl5:/opt/perl5/cygwin_nt-10.0/3.5.3/x86_64/perl/5.18.4/x86_64-cygwin-thread-ld/local/lib/site_perl:/opt/perl5/cygwin_nt-10.0/3.5.3/x86_64/perl/5.18.4/x86_64-cygwin-thread-ld/local/lib"
    PERL5OPT=""
    PERL5_CPANPLUS_IS_RUNNING="13501"
    PERL5_CPAN_IS_RUNNING="13501"
    PERL_CANARY_STABILITY_NOPROMPT="1"
    PERL_CPAN_REPORTER_CONFIG="/cygdrive/d/home/peter/.cpanreporter/config-cygwin-rigel.ini"
    PERL_EXTUTILS_AUTOINSTALL="1"
    PERL_MB_OPT="--install_base /opt/perl5/cygwin_nt-10.0/3.5.3/x86_64/perl/5.18.4/x86_64-cygwin-thread-ld/local"
    PERL_MM_OPT="INSTALL_BASE=/opt/perl5/cygwin_nt-10.0/3.5.3/x86_64/perl/5.18.4/x86_64-cygwin-thread-ld/local"
    PERL_MM_USE_DEFAULT="1"
    PERL_TEST_CRITIC="1"
    PERL_TEST_POD="1"
    PERL_USE_UNSAFE_INC="1"
  @INC:
    /opt/perl5/cygwin_nt-10.0/3.5.3/x86_64/perl/5.18.4/x86_64-cygwin-thread-ld/local/lib/perl5/cygwin-thread-ld
    /opt/perl5/cygwin_nt-10.0/3.5.3/x86_64/perl/5.18.4/x86_64-cygwin-thread-ld/local/lib/perl5
    /opt/perl5/cygwin_nt-10.0/3.5.3/x86_64/perl/5.18.4/x86_64-cygwin-thread-ld/local/lib/site_perl
    /opt/perl5/cygwin_nt-10.0/3.5.3/x86_64/perl/5.18.4/x86_64-cygwin-thread-ld/local/lib
    /opt/perl5/cygwin_nt-10.0/3.5.3/x86_64/perl/5.18.4/x86_64-cygwin-thread-ld/lib/site_perl/5.18.4/cygwin-thread-ld
    /opt/perl5/cygwin_nt-10.0/3.5.3/x86_64/perl/5.18.4/x86_64-cygwin-thread-ld/lib/site_perl/5.18.4
    /opt/perl5/cygwin_nt-10.0/3.5.3/x86_64/perl/5.18.4/x86_64-cygwin-thread-ld/lib/5.18.4/cygwin-thread-ld
    /opt/perl5/cygwin_nt-10.0/3.5.3/x86_64/perl/5.18.4/x86_64-cygwin-thread-ld/lib/5.18.4
    .