Starman v0.4017 Perl 5 v5.14.4 x86_64-linux
- Status
- Pass
- From
- Chris Williams (BINGOS)
- Dist
-
Starman v0.4017
- Platform
- Perl 5 v5.14.4 x86_64-linux
- Date
- 2023-10-25 12:27:04
- ID
- ce7463e2-7331-11ee-98b0-b3c3213a625c
This distribution has been tested as part of the CPAN Testers
project, supporting the Perl programming language. See
http://wiki.cpantesters.org/ for more information or email
questions to cpan-testers-discuss@perl.org
--
Dear Tatsuhiko Miyagawa,
This is a computer-generated error report created automatically by
CPANPLUS, version 0.9914. Testers personal comments may appear
at the end of this report.
Thank you for uploading your work to CPAN. Congratulations!
All tests were successful.
TEST RESULTS:
Below is the error stack from stage 'make test':
t/00_compile.t ........... ok
t/author-pod-syntax.t .... skipped: these tests are for testing by the author
2023/10/25-13:26:31 Starman::Server (type Net::Server::PreFork) starting! pid(967609)
Binding to TCP port 35579 on host 127.0.0.1 with IPv4
Setting gid to "1001 1001 1001"
2023/10/25-13:26:31 Server closing!
t/chunked_req.t .......... ok
t/chunked_termination.t .. ok
2023/10/25-13:26:31 Starman::Server (type Net::Server::PreFork) starting! pid(967617)
Binding to TCP port 37501 on host 127.0.0.1 with IPv4
Setting gid to "1001 1001 1001"
2023/10/25-13:26:31 Server closing!
t/chunked_zero_length.t .. ok
2023/10/25-13:26:31 Starman::Server (type Net::Server::PreFork) starting! pid(967624)
Binding to TCP port 37183 on host 127.0.0.1 with IPv4
Setting gid to "1001 1001 1001"
2023/10/25-13:26:31 Server closing!
t/early-hints.t .......... ok
2023/10/25-13:26:31 Starman::Server (type Net::Server::PreFork) starting! pid(967631)
Binding to TCP port 43403 on host 127.0.0.1 with IPv4
Setting gid to "1001 1001 1001"
2023/10/25-13:26:32 Server closing!
Accept failed with 29 tries left: Invalid argument
Accept failed with 28 tries left: Invalid argument
Accept failed with 27 tries left: Invalid argument
Accept failed with 26 tries left: Invalid argument
Accept failed with 25 tries left: Invalid argument
Accept failed with 24 tries left: Invalid argument
Accept failed with 23 tries left: Invalid argument
Accept failed with 22 tries left: Invalid argument
Accept failed with 21 tries left: Invalid argument
Accept failed with 20 tries left: Invalid argument
Accept failed with 19 tries left: Invalid argument
Accept failed with 18 tries left: Invalid argument
Accept failed with 17 tries left: Invalid argument
Accept failed with 16 tries left: Invalid argument
Accept failed with 15 tries left: Invalid argument
Accept failed with 14 tries left: Invalid argument
Accept failed with 13 tries left: Invalid argument
Accept failed with 12 tries left: Invalid argument
Accept failed with 11 tries left: Invalid argument
Accept failed with 10 tries left: Invalid argument
Accept failed with 9 tries left: Invalid argument
Accept failed with 8 tries left: Invalid argument
Accept failed with 7 tries left: Invalid argument
Accept failed with 6 tries left: Invalid argument
Accept failed with 5 tries left: Invalid argument
Accept failed with 4 tries left: Invalid argument
Accept failed with 3 tries left: Invalid argument
Accept failed with 2 tries left: Invalid argument
Accept failed with 1 tries left: Invalid argument
Accept failed with 0 tries left: Invalid argument
Ran out of accept retries!
t/eintr.t ................ ok
2023/10/25-13:27:03 Starman::Server (type Net::Server::PreFork) starting! pid(967639)
Binding to TCP port 37487 on host 127.0.0.1 with IPv4
Setting gid to "1001 1001 1001"
2023/10/25-13:27:03 Server closing!
t/expect.t ............... ok
2023/10/25-13:27:03 Starman::Server (type Net::Server::PreFork) starting! pid(967646)
Binding to TCP port 40243 on host 127.0.0.1 with IPv4
Setting gid to "1001 1001 1001"
2023/10/25-13:27:03 Server closing!
2023/10/25-13:27:03 Starman::Server (type Net::Server::PreFork) starting! pid(967652)
Binding to TCP port 42577 on host 127.0.0.1 with IPv4
Setting gid to "1001 1001 1001"
2023/10/25-13:27:03 Server closing!
t/harakiri.t ............. ok
2023/10/25-13:27:03 Starman::Server (type Net::Server::PreFork) starting! pid(967679)
Binding to TCP port 39631 on host 127.0.0.1 with IPv4
Setting gid to "1001 1001 1001"
2023/10/25-13:27:03 Server closing!
t/lf_only_request.t ...... ok
2023/10/25-13:27:03 Starman::Server (type Net::Server::PreFork) starting! pid(967686)
Binding to TCP port 42137 on host 127.0.0.1 with IPv4
Setting gid to "1001 1001 1001"
2023/10/25-13:27:03 Server closing!
t/no_chunked_head.t ...... ok
t/release-findbin.t ...... skipped: these tests are for release candidate testing
t/release-rand.t ......... skipped: these tests are for release candidate testing
2023/10/25-13:27:04 Starman::Server (type Net::Server::PreFork) starting! pid(967695)
Binding to TCP port 43557 on host 127.0.0.1 with IPv4
Setting gid to "1001 1001 1001"
2023/10/25-13:27:04 Server closing!
t/single_zero.t .......... ok
t/ssl.t .................. skipped: Test requires module 'LWP::Protocol::https' but it's not found
t/ssl_largebody.t ........ skipped: Test requires module 'LWP::Protocol::https' but it's not found
2023/10/25-13:27:04 Starman::Server (type Net::Server::PreFork) starting! pid(967704)
Binding to TCP port 42841 on host 127.0.0.1 with IPv4
Setting gid to "1001 1001 1001"
2023/10/25-13:27:04 Server closing!
t/suite.t ................ ok
All tests successful.
Files=17, Tests=121, 33 wallclock secs ( 0.05 usr 0.02 sys + 1.35 cusr 0.42 csys = 1.84 CPU)
Result: PASS
PREREQUISITES:
Here is a list of prerequisites you specified and versions we
managed to load:
Module Name Have Want
Data::Dump 1.25 0
HTTP::Date 6.06 0
HTTP::Parser::XS 0.17 0
HTTP::Status 6.45 0
LWP::UserAgent 6.72 0
Net::Server 2.014 2.007
Plack 1.0050 0.9971
Test::More 1.302195 0
Test::Requires 0.11 0
Test::TCP 2.22 2.00
parent 0.225 0
Perl module toolchain versions installed:
Module Name Have
CPANPLUS 0.9914
CPANPLUS::Dist::Build 0.90
Cwd 3.75
ExtUtils::CBuilder 0.280236
ExtUtils::Command 7.70
ExtUtils::Install 2.22
ExtUtils::MakeMaker 7.70
ExtUtils::Manifest 1.75
ExtUtils::ParseXS 3.44
File::Spec 3.75
Module::Build 0.4234
Pod::Parser 1.37
Pod::Simple 3.16
Test2 1.302195
Test::Harness 3.44
Test::More 1.302195
version 0.9929
******************************** NOTE ********************************
The comments above are created mechanically, possibly without manual
checking by the sender. As there are many people performing automatic
tests on each upload to CPAN, it is likely that you will receive
identical messages about the same problem.
If you believe that the message is mistaken, please reply to the first
one with correction and/or additional informations, and do not take
it personally. We appreciate your patience. :)
**********************************************************************
Additional comments:
This report was machine-generated by CPANPLUS::Dist::YACSmoke 1.08.
Powered by minismokebox version 0.68
CPANPLUS is prefering Build.PL
------------------------------
ENVIRONMENT AND OTHER CONTEXT
------------------------------
Environment variables:
AUTOMATED_TESTING = 1
LANG = en_GB.UTF-8
LANGUAGE = en_GB:en
NONINTERACTIVE_TESTING = 1
PATH = /home/cpan/pit/bare/conf/perl-5.14.4/.cpanplus/5.14.4/build/aGuBn73crQ/Starman-0.4017/blib/script:/usr/local/sbin:/usr/local/bin:/usr/sbin:/usr/bin:/sbin:/bin:/usr/games:/usr/local/games:/snap/bin
PERL5LIB = /home/cpan/pit/jail/qPGxFwa2lZ/lib/perl5:/home/cpan/pit/bare/conf/perl-5.14.4/.cpanplus/5.14.4/build/aGuBn73crQ/Starman-0.4017/blib/lib:/home/cpan/pit/bare/conf/perl-5.14.4/.cpanplus/5.14.4/build/aGuBn73crQ/Starman-0.4017/blib/arch
PERL5_CPANPLUS_IS_RUNNING = 956389
PERL5_CPANPLUS_IS_VERSION = 0.9914
PERL5_MINISMOKEBOX = 0.68
PERL5_YACSMOKE_BASE = /home/cpan/pit/bare/conf/perl-5.14.4
PERL_EXTUTILS_AUTOINSTALL = --defaultdeps
PERL_LOCAL_LIB_ROOT = /home/cpan/pit/jail/qPGxFwa2lZ
PERL_MB_OPT = --install_base "/home/cpan/pit/jail/qPGxFwa2lZ"
PERL_MM_OPT = INSTALL_BASE=/home/cpan/pit/jail/qPGxFwa2lZ
PERL_MM_USE_DEFAULT = 1
PERL_USE_UNSAFE_INC = 1
SHELL = /bin/bash
TERM = screen.xterm-256color
Perl special variables (and OS-specific diagnostics, for MSWin32):
Perl: $^X = /home/cpan/pit/bare/perl-5.14.4/bin/perl
UID: $< = 1001
EUID: $> = 1001
GID: $( = 1001 1001
EGID: $) = 1001 1001
-------------------------------
--
Summary of my perl5 (revision 5 version 14 subversion 4) configuration:
Platform:
osname=linux, osvers=5.4.0-26-generic, archname=x86_64-linux
uname='linux uchder 5.4.0-26-generic #30-ubuntu smp mon apr 20 16:58:30 utc 2020 x86_64 x86_64 x86_64 gnulinux '
config_args='-des -Dprefix=/home/cpan/pit/bare/perl-5.14.4'
hint=recommended, useposix=true, d_sigaction=define
useithreads=undef, usemultiplicity=undef
useperlio=define, d_sfio=undef, uselargefiles=define, usesocks=undef
use64bitint=define, use64bitall=define, uselongdouble=undef
usemymalloc=n, bincompat5005=undef
Compiler:
cc='cc', ccflags ='-fwrapv -fno-strict-aliasing -pipe -fstack-protector -I/usr/local/include -D_LARGEFILE_SOURCE -D_FILE_OFFSET_BITS=64',
optimize='-O2',
cppflags='-fwrapv -fno-strict-aliasing -pipe -fstack-protector -I/usr/local/include'
ccversion='', gccversion='9.3.0', gccosandvers=''
intsize=4, longsize=8, ptrsize=8, doublesize=8, byteorder=12345678
d_longlong=define, longlongsize=8, d_longdbl=define, longdblsize=16
ivtype='long', ivsize=8, nvtype='double', nvsize=8, Off_t='off_t', lseeksize=8
alignbytes=8, prototype=define
Linker and Libraries:
ld='cc', ldflags =' -fstack-protector -L/usr/local/lib'
libpth=/usr/local/lib /lib/x86_64-linux-gnu /lib/../lib /usr/lib/x86_64-linux-gnu /usr/lib/../lib /lib /usr/lib
libs=-lnsl -lgdbm -ldl -lm -lcrypt -lutil -lc
perllibs=-lnsl -ldl -lm -lcrypt -lutil -lc
libc=libc-2.31.so, so=so, useshrplib=false, libperl=libperl.a
gnulibc_version='2.31'
Dynamic Linking:
dlsrc=dl_dlopen.xs, dlext=so, d_dlsymun=undef, ccdlflags='-Wl,-E'
cccdlflags='-fPIC', lddlflags='-shared -O2 -L/usr/local/lib -fstack-protector'
Characteristics of this binary (from libperl):
Compile-time options: PERL_DONT_CREATE_GVSV PERL_MALLOC_WRAP
PERL_PRESERVE_IVUV USE_64_BIT_ALL USE_64_BIT_INT
USE_LARGE_FILES USE_PERLIO USE_PERL_ATOF
Locally applied patches:
Devel::PatchPerl 1.90
Built under linux
Compiled at Apr 26 2020 14:32:25
%ENV:
PERL5LIB="/home/cpan/pit/jail/qPGxFwa2lZ/lib/perl5:/home/cpan/pit/bare/conf/perl-5.14.4/.cpanplus/5.14.4/build/aGuBn73crQ/Starman-0.4017/blib/lib:/home/cpan/pit/bare/conf/perl-5.14.4/.cpanplus/5.14.4/build/aGuBn73crQ/Starman-0.4017/blib/arch"
PERL5_CPANPLUS_IS_RUNNING="956389"
PERL5_CPANPLUS_IS_VERSION="0.9914"
PERL5_MINISMOKEBOX="0.68"
PERL5_YACSMOKE_BASE="/home/cpan/pit/bare/conf/perl-5.14.4"
PERL_EXTUTILS_AUTOINSTALL="--defaultdeps"
PERL_LOCAL_LIB_ROOT="/home/cpan/pit/jail/qPGxFwa2lZ"
PERL_MB_OPT="--install_base "/home/cpan/pit/jail/qPGxFwa2lZ""
PERL_MM_OPT="INSTALL_BASE=/home/cpan/pit/jail/qPGxFwa2lZ"
PERL_MM_USE_DEFAULT="1"
PERL_USE_UNSAFE_INC="1"
@INC:
/home/cpan/pit/jail/qPGxFwa2lZ/lib/perl5/5.14.4/x86_64-linux
/home/cpan/pit/jail/qPGxFwa2lZ/lib/perl5/5.14.4
/home/cpan/pit/jail/qPGxFwa2lZ/lib/perl5/x86_64-linux
/home/cpan/pit/jail/qPGxFwa2lZ/lib/perl5
/home/cpan/pit/bare/conf/perl-5.14.4/.cpanplus/5.14.4/build/aGuBn73crQ/Starman-0.4017/blib/lib
/home/cpan/pit/bare/conf/perl-5.14.4/.cpanplus/5.14.4/build/aGuBn73crQ/Starman-0.4017/blib/arch
/home/cpan/pit/bare/perl-5.14.4/lib/site_perl/5.14.4/x86_64-linux
/home/cpan/pit/bare/perl-5.14.4/lib/site_perl/5.14.4
/home/cpan/pit/bare/perl-5.14.4/lib/5.14.4/x86_64-linux
/home/cpan/pit/bare/perl-5.14.4/lib/5.14.4
.