MooseX-Types-DateTime-MoreCoercions v0.15 Perl 5 v5.36.3 x86_64-linux
- Status
- Pass
- From
- Slaven Rezić
- Dist
-
MooseX-Types-DateTime-MoreCoercions v0.15
- Platform
- Perl 5 v5.36.3 x86_64-linux
- Date
- 2025-02-17 09:30:20
- ID
- ce76b27c-ed11-11ef-a3a1-a5f96d8775ea
This distribution has been tested as part of the CPAN Testers
project, supporting the Perl programming language. See
http://wiki.cpantesters.org/ for more information or email
questions to cpan-testers-discuss@perl.org
--
Dear Karen Etheridge,
This is a computer-generated report for MooseX-Types-DateTime-MoreCoercions-0.15
on perl 5.36.3, created by CPAN-Reporter-1.2020.
Thank you for uploading your work to CPAN. Congratulations!
All tests were successful.
Sections of this report:
* Tester comments
* Program output
* Prerequisites
* Environment and other context
------------------------------
TESTER COMMENTS
------------------------------
Additional comments from tester:
this report is from an automated smoke testing program
and was not reviewed by a human for accuracy
------------------------------
PROGRAM OUTPUT
------------------------------
Output from './Build test':
#
# Versions for all modules listed in MYMETA.json (including optional ones):
#
# === Configure Requires ===
#
# Module Want Have
# ------------------- ----- -----
# Module::Build::Tiny 0.007 0.051
#
# === Test Requires ===
#
# Module Want Have
# ------------------- ---- --------
# ExtUtils::MakeMaker any 7.64
# File::Spec any 3.84
# Test::Fatal any 0.017
# Test::More 0.88 1.302209
# ok any 1.302209
#
# === Test Recommends ===
#
# Module Want Have
# ---------- -------- --------
# CPAN::Meta 2.120900 2.150010
#
# === Runtime Requires ===
#
# Module Want Have
# ----------------------- ------ ------
# DateTime 0.4302 1.65
# DateTime::Duration 0.4302 1.65
# DateTimeX::Easy 0.085 0.092
# Moose 0.41 2.2207
# MooseX::Types 0.04 0.50
# MooseX::Types::DateTime 0.07 0.13
# MooseX::Types::Moose 0.04 0.50
# Time::Duration::Parse 0.06 0.16
# if any 0.0610
# namespace::clean 0.19 0.27
# strict any 1.12
# warnings any 1.58
#
# === Other Modules ===
#
# Module Have
# -------------------- -------
# Dist::CheckConflicts 0.11
# Pod::Coverage missing
#
t/00-report-prereqs.t .. ok
t/01_basic.t ........... ok
t/zzz-check-breaks.t ... ok
All tests successful.
Files=3, Tests=31, 1 wallclock secs ( 0.01 usr 0.00 sys + 0.66 cusr 0.12 csys = 0.79 CPU)
Result: PASS
------------------------------
PREREQUISITES
------------------------------
Prerequisite modules loaded:
requires:
Module Need Have
----------------------- ------ --------
DateTime 0.4302 1.65
DateTime::Duration 0.4302 1.65
DateTimeX::Easy 0.085 0.092
if 0 0.0610
Moose 0.41 2.2207
MooseX::Types 0.04 0.50
MooseX::Types::DateTime 0.07 0.13
MooseX::Types::Moose 0.04 0.50
namespace::clean 0.19 0.27
perl 5.006 5.036003
strict 0 1.12
Time::Duration::Parse 0.06 0.16
warnings 0 1.58
build_requires:
Module Need Have
----------------------- ------ --------
ExtUtils::MakeMaker 0 7.64
File::Spec 0 3.84
ok 0 1.302209
perl 5.006 5.036003
Test::Fatal 0 0.017
Test::More 0.88 1.302209
configure_requires:
Module Need Have
----------------------- ------ --------
Module::Build::Tiny 0.007 0.051
perl 5.006 5.036003
------------------------------
ENVIRONMENT AND OTHER CONTEXT
------------------------------
Environment variables:
AUTOMATED_TESTING = 1
LANG = en_US.UTF-8
PATH = /usr/local/bin:/usr/bin:/bin:/usr/local/sbin:/usr/sbin:/sbin:/home/cpansand/bin/linux-gnu:/home/cpansand/bin/sh:/home/cpansand/bin:/usr/games:/home/cpansand/devel:/home/eserte/src/srezic-misc/scripts
PERL5LIB =
PERL5OPT =
PERL5_CPANPLUS_IS_RUNNING = 402330
PERL5_CPAN_IS_RUNNING = 402330
PERL5_CPAN_IS_RUNNING_IN_RECURSION = 389551,402330
PERLDOC = -MPod::Perldoc::ToTextOverstrike
PERL_BATCH = yes
PERL_CANARY_STABILITY_NOPROMPT = 1
PERL_CPAN_REPORTER_CONFIG = /var/tmp/cpansmoker-1023/2025021708/cpanreporter_000_config.ini
PERL_EXTUTILS_AUTOINSTALL = --defaultdeps
PERL_USE_UNSAFE_INC = 1
SHELL = /usr/bin/zsh
TERM = screen
TMPDIR = /var/tmp/cpansmoker-1023/2025021708
Perl special variables (and OS-specific diagnostics, for MSWin32):
$^X = /opt/perl-5.36.3/bin/perl
$UID/$EUID = 1023 / 1023
$GID = 1023 1023
$EGID = 1023 1023
Perl module toolchain versions installed:
Module Have
------------------- --------
CPAN 2.33
CPAN::Meta 2.150010
Cwd 3.84
ExtUtils::CBuilder 0.280236
ExtUtils::Command 7.64
ExtUtils::Install 2.20
ExtUtils::MakeMaker 7.64
ExtUtils::Manifest 1.73
ExtUtils::ParseXS 3.45
File::Spec 3.84
JSON 4.10
JSON::PP 4.16
Module::Build 0.4234
Module::Signature n/a
Parse::CPAN::Meta 2.150010
Test2 1.302209
Test::Harness 3.44
Test::More 1.302209
YAML 1.31
YAML::Syck 1.34
version 0.9929
--
Summary of my perl5 (revision 5 version 36 subversion 3) configuration:
Platform:
osname=linux
osvers=6.12.11-200.fc41.x86_64
archname=x86_64-linux
uname='linux cloud4.bbbike.org 6.12.11-200.fc41.x86_64 #1 smp preempt_dynamic fri jan 24 04:59:58 utc 2025 x86_64 gnulinux '
config_args='-ds -e -Dprefix=/opt/perl-5.36.3 -Uinstallusrbinperl -Dcf_email=srezic@cpan.org'
hint=recommended
useposix=true
d_sigaction=define
useithreads=undef
usemultiplicity=undef
use64bitint=define
use64bitall=define
uselongdouble=undef
usemymalloc=n
default_inc_excludes_dot=define
Compiler:
cc='cc'
ccflags ='-fwrapv -fno-strict-aliasing -pipe -fstack-protector-strong -I/usr/local/include -D_LARGEFILE_SOURCE -D_FILE_OFFSET_BITS=64 -D_FORTIFY_SOURCE=2'
optimize='-O2'
cppflags='-fwrapv -fno-strict-aliasing -pipe -fstack-protector-strong -I/usr/local/include'
ccversion=''
gccversion='14.2.1 20250110 (Red Hat 14.2.1-7)'
gccosandvers=''
intsize=4
longsize=8
ptrsize=8
doublesize=8
byteorder=12345678
doublekind=3
d_longlong=define
longlongsize=8
d_longdbl=define
longdblsize=16
longdblkind=3
ivtype='long'
ivsize=8
nvtype='double'
nvsize=8
Off_t='off_t'
lseeksize=8
alignbytes=8
prototype=define
Linker and Libraries:
ld='cc'
ldflags =' -fstack-protector-strong -L/usr/local/lib'
libpth=/usr/local/lib /usr/lib /usr/lib64 /usr/local/lib64
libs=-lpthread -ldb -ldl -lm -lcrypt -lutil -lc
perllibs=-lpthread -ldl -lm -lcrypt -lutil -lc
libc=/lib/../lib64/libc.so.6
so=so
useshrplib=false
libperl=libperl.a
gnulibc_version='2.40'
Dynamic Linking:
dlsrc=dl_dlopen.xs
dlext=so
d_dlsymun=undef
ccdlflags='-Wl,-E'
cccdlflags='-fPIC'
lddlflags='-shared -O2 -L/usr/local/lib -fstack-protector-strong'
Characteristics of this binary (from libperl):
Compile-time options:
HAS_TIMES
PERLIO_LAYERS
PERL_COPY_ON_WRITE
PERL_DONT_CREATE_GVSV
PERL_MALLOC_WRAP
PERL_OP_PARENT
PERL_PRESERVE_IVUV
USE_64_BIT_ALL
USE_64_BIT_INT
USE_LARGE_FILES
USE_LOCALE
USE_LOCALE_COLLATE
USE_LOCALE_CTYPE
USE_LOCALE_NUMERIC
USE_LOCALE_TIME
USE_PERLIO
USE_PERL_ATOF
Built under linux
Compiled at Feb 6 2025 21:03:46
%ENV:
PERL5LIB=""
PERL5OPT=""
PERL5_CPANPLUS_IS_RUNNING="402330"
PERL5_CPAN_IS_RUNNING="402330"
PERL5_CPAN_IS_RUNNING_IN_RECURSION="389551,402330"
PERLDOC="-MPod::Perldoc::ToTextOverstrike"
PERL_BATCH="yes"
PERL_CANARY_STABILITY_NOPROMPT="1"
PERL_CPAN_REPORTER_CONFIG="/var/tmp/cpansmoker-1023/2025021708/cpanreporter_000_config.ini"
PERL_EXTUTILS_AUTOINSTALL="--defaultdeps"
PERL_USE_UNSAFE_INC="1"
@INC:
/opt/perl-5.36.3/lib/site_perl/5.36.3/x86_64-linux
/opt/perl-5.36.3/lib/site_perl/5.36.3
/opt/perl-5.36.3/lib/5.36.3/x86_64-linux
/opt/perl-5.36.3/lib/5.36.3
.