CGI-Github-Webhook v0.06 Perl 5 v5.28.1 OpenBSD.amd64-openbsd-thread-multi

Status
Pass
From
Alceu Rodrigues de Freitas Junior
Dist
CGI-Github-Webhook v0.06
Platform
Perl 5 v5.28.1 OpenBSD.amd64-openbsd-thread-multi
Date
2019-02-22 18:22:26
ID
ce85601a-36ce-11e9-a490-c99e96402499
This distribution has been tested as part of the CPAN Testers
project, supporting the Perl programming language.  See
http://wiki.cpantesters.org/ for more information or email
questions to cpan-testers-discuss@perl.org


--
Dear Axel Beckert,

This is a computer-generated report for CGI-Github-Webhook-0.06
on perl 5.28.1, created by CPAN-Reporter-1.2018.

Thank you for uploading your work to CPAN.  Congratulations!
All tests were successful.

Sections of this report:

    * Tester comments
    * Program output
    * Prerequisites
    * Environment and other context

------------------------------
TESTER COMMENTS
------------------------------

Additional comments from tester:

this report is from an automated smoke testing program
and was not reviewed by a human for accuracy

------------------------------
PROGRAM OUTPUT
------------------------------

Output from '/usr/bin/make test':

Skip blib/lib/auto/share/module/CGI-Github-Webhook/success.svg (unchanged)
Skip blib/lib/auto/share/module/CGI-Github-Webhook/failed.png (unchanged)
Skip blib/lib/auto/share/module/CGI-Github-Webhook/errored.svg (unchanged)
Skip blib/lib/auto/share/module/CGI-Github-Webhook/success.png (unchanged)
Skip blib/lib/auto/share/module/CGI-Github-Webhook/failed.svg (unchanged)
Skip blib/lib/auto/share/module/CGI-Github-Webhook/errored.png (unchanged)
PERL_DL_NONLAZY=1 "/home/goku/perl5/perlbrew/perls/perl-5.28.1/bin/perl" "-MExtUtils::Command::MM" "-MTest::Harness" "-e" "undef *Test::Harness::Switches; test_harness(0, 'blib/lib', 'blib/arch')" t/*.t
t/auth-fail.t ............ ok
t/author-critic.t ........ skipped: these tests are for testing by the author
t/author-pod-coverage.t .. skipped: these tests are for testing by the author
t/author-pod-syntax.t .... skipped: these tests are for testing by the author
t/basic-functionality.t .. ok
t/cgi-test-auth-fail.t ... ok
t/cgi-test.t ............. ok
t/methods-non-json.t ..... ok
t/methods.t .............. ok
t/release-kwalitee.t ..... skipped: these tests are for release candidate testing
All tests successful.
Files=10, Tests=52,  4 wallclock secs ( 0.01 usr  0.10 sys +  2.29 cusr  1.08 csys =  3.48 CPU)
Result: PASS

------------------------------
PREREQUISITES
------------------------------

Prerequisite modules loaded:

requires:

    Module                  Need  Have    
    ----------------------- ----- --------
    CGI                     0     4.40    
    Data::Dumper            0     2.173   
    Digest::SHA             0     6.02    
    File::Basename          0     2.85    
    File::Copy              0     2.33    
    File::ShareDir          0     1.116   
    JSON                    0     4.01    
    Moo                     0     2.003004
    perl                    5.010 5.028001
    strict                  0     1.11    
    Try::Tiny               0     0.30    
    warnings                0     1.42    

build_requires:

    Module                  Need  Have    
    ----------------------- ----- --------
    CGI::Test               0     1.111   
    CGI::Test::Input::URL   0     0       
    ExtUtils::MakeMaker     0     7.35_09 
    File::Slurper           0     0.012   
    File::Temp              0     0.2309  
    Test::File              0     1.443   
    Test::File::ShareDir    0     1.001002
    Test::More              0     1.302162

configure_requires:

    Module                  Need  Have    
    ----------------------- ----- --------
    ExtUtils::MakeMaker     0     7.35_09 
    File::ShareDir::Install 0.06  0.13    


------------------------------
ENVIRONMENT AND OTHER CONTEXT
------------------------------

Environment variables:

    AUTOMATED_TESTING = 1
    DBD_MYSQL_TESTDB = test
    DBD_MYSQL_TESTHOST = localhost
    DBD_MYSQL_TESTPASSWORD = 
    DBD_MYSQL_TESTPORT = 3306
    DBD_MYSQL_TESTUSER = goku
    EXTENDED_TESTING = 1
    PATH = /home/goku/perl5/perlbrew/bin:/home/goku/perl5/perlbrew/perls/perl-5.28.1/bin:/home/goku/bin:/usr/bin:/bin:/usr/sbin:/sbin:/usr/X11R6/bin:/usr/local/bin:/usr/local/sbin
    PERL5LIB = 
    PERL5OPT = 
    PERL5_CPANPLUS_IS_RUNNING = 51215
    PERL5_CPAN_IS_RUNNING = 51215
    PERL5_CPAN_IS_RUNNING_IN_RECURSION = 21133,51215
    PERLBREW_HOME = /home/goku/.perlbrew
    PERLBREW_MANPATH = /home/goku/perl5/perlbrew/perls/perl-5.28.1/man
    PERLBREW_PATH = /home/goku/perl5/perlbrew/bin:/home/goku/perl5/perlbrew/perls/perl-5.28.1/bin
    PERLBREW_PERL = perl-5.28.1
    PERLBREW_ROOT = /home/goku/perl5/perlbrew
    PERLBREW_SHELLRC_VERSION = 0.86
    PERLBREW_VERSION = 0.86
    PERL_CR_SMOKER_CURRENT = CGI-Github-Webhook-0.06
    PERL_EXTUTILS_AUTOINSTALL = --defaultdeps
    PERL_MM_USE_DEFAULT = 1
    PERL_USE_UNSAFE_INC = 1
    SHELL = /usr/local/bin/bash
    TERM = xterm

Perl special variables (and OS-specific diagnostics, for MSWin32):

    $^X = /home/goku/perl5/perlbrew/perls/perl-5.28.1/bin/perl
    $UID/$EUID = 1001 / 1001
    $GID = 999 999 1001
    $EGID = 999 999 1001

Perl module toolchain versions installed:

    Module              Have    
    ------------------- --------
    CPAN                2.25    
    CPAN::Meta          2.150010
    Cwd                 3.75    
    ExtUtils::CBuilder  0.280230
    ExtUtils::Command   7.35_09 
    ExtUtils::Install   2.14    
    ExtUtils::MakeMaker 7.35_09 
    ExtUtils::Manifest  1.71    
    ExtUtils::ParseXS   3.35    
    File::Spec          3.75    
    JSON                4.01    
    JSON::PP            4.00    
    Module::Build       0.4224  
    Module::Signature   n/a     
    Parse::CPAN::Meta   2.150010
    Test::Harness       3.42    
    Test::More          1.302162
    YAML                1.27    
    YAML::Syck          n/a     
    version             0.9924  


--

Summary of my perl5 (revision 5 version 28 subversion 1) configuration:
   
  Platform:
    osname=openbsd
    osvers=6.4
    archname=OpenBSD.amd64-openbsd-thread-multi
    uname='openbsd cpan-smoker-openbsd 6.4 generic.mp#364 amd64 '
    config_args='-de -Dprefix=/home/goku/perl5/perlbrew/perls/perl-5.28.1 -Dman1dir=none -Dman3dir=none -Dusethreads -Duse64bitall -Dusemultiplicity -Duse64bitint -Aeval:scriptdir=/home/goku/perl5/perlbrew/perls/perl-5.28.1/bin'
    hint=recommended
    useposix=true
    d_sigaction=define
    useithreads=define
    usemultiplicity=define
    use64bitint=define
    use64bitall=define
    uselongdouble=undef
    usemymalloc=n
    default_inc_excludes_dot=define
    bincompat5005=undef
  Compiler:
    cc='cc'
    ccflags ='-pthread -fno-strict-aliasing -pipe -fstack-protector-strong -I/usr/local/include -D_FORTIFY_SOURCE=2'
    optimize='-O2'
    cppflags='-pthread -fno-strict-aliasing -pipe -fstack-protector-strong -I/usr/local/include'
    ccversion=''
    gccversion='4.2.1 Compatible OpenBSD Clang 6.0.0 (tags/RELEASE_600/final)'
    gccosandvers=''
    intsize=4
    longsize=8
    ptrsize=8
    doublesize=8
    byteorder=12345678
    doublekind=3
    d_longlong=define
    longlongsize=8
    d_longdbl=define
    longdblsize=16
    longdblkind=3
    ivtype='long'
    ivsize=8
    nvtype='double'
    nvsize=8
    Off_t='off_t'
    lseeksize=8
    alignbytes=8
    prototype=define
  Linker and Libraries:
    ld='cc'
    ldflags ='-pthread -Wl,-E  -fstack-protector-strong -L/usr/local/lib'
    libpth=/usr/lib /usr/local/lib
    libs=-lpthread -lm -lutil -lc
    perllibs=-lpthread -lm -lutil -lc
    libc=/usr/lib/libc.so.92.5
    so=so
    useshrplib=false
    libperl=libperl.a
    gnulibc_version=''
  Dynamic Linking:
    dlsrc=dl_dlopen.xs
    dlext=so
    d_dlsymun=undef
    ccdlflags=' '
    cccdlflags='-DPIC -fPIC '
    lddlflags='-shared -fPIC  -L/usr/local/lib -fstack-protector-strong'


Characteristics of this binary (from libperl): 
  Compile-time options:
    HAS_TIMES
    MULTIPLICITY
    PERLIO_LAYERS
    PERL_COPY_ON_WRITE
    PERL_DONT_CREATE_GVSV
    PERL_IMPLICIT_CONTEXT
    PERL_MALLOC_WRAP
    PERL_OP_PARENT
    PERL_PRESERVE_IVUV
    USE_64_BIT_ALL
    USE_64_BIT_INT
    USE_ITHREADS
    USE_LARGE_FILES
    USE_LOCALE
    USE_LOCALE_COLLATE
    USE_LOCALE_CTYPE
    USE_LOCALE_NUMERIC
    USE_LOCALE_TIME
    USE_PERLIO
    USE_PERL_ATOF
    USE_REENTRANT_API
  Locally applied patches:
    Devel::PatchPerl 1.52
  Built under openbsd
  Compiled at Jan 31 2019 01:06:57
  %ENV:
    PERL5LIB=""
    PERL5OPT=""
    PERL5_CPANPLUS_IS_RUNNING="51215"
    PERL5_CPAN_IS_RUNNING="51215"
    PERL5_CPAN_IS_RUNNING_IN_RECURSION="21133,51215"
    PERLBREW_HOME="/home/goku/.perlbrew"
    PERLBREW_MANPATH="/home/goku/perl5/perlbrew/perls/perl-5.28.1/man"
    PERLBREW_PATH="/home/goku/perl5/perlbrew/bin:/home/goku/perl5/perlbrew/perls/perl-5.28.1/bin"
    PERLBREW_PERL="perl-5.28.1"
    PERLBREW_ROOT="/home/goku/perl5/perlbrew"
    PERLBREW_SHELLRC_VERSION="0.86"
    PERLBREW_VERSION="0.86"
    PERL_CR_SMOKER_CURRENT="CGI-Github-Webhook-0.06"
    PERL_EXTUTILS_AUTOINSTALL="--defaultdeps"
    PERL_MM_USE_DEFAULT="1"
    PERL_USE_UNSAFE_INC="1"
  @INC:
    /home/goku/perl5/perlbrew/perls/perl-5.28.1/lib/site_perl/5.28.1/OpenBSD.amd64-openbsd-thread-multi
    /home/goku/perl5/perlbrew/perls/perl-5.28.1/lib/site_perl/5.28.1
    /home/goku/perl5/perlbrew/perls/perl-5.28.1/lib/5.28.1/OpenBSD.amd64-openbsd-thread-multi
    /home/goku/perl5/perlbrew/perls/perl-5.28.1/lib/5.28.1
    .