Back
From: metabase:user:322078bc-2aae-11df-837a-5e0a49663a4f
Subject: PASS Deep-Encode-0.11 v5.8.9 SunOS/Solaris
Date: 2010-10-10T03:38:11Z
This distribution has been tested as part of the CPAN Testers
project, supporting the Perl programming language. See
http://wiki.cpantesters.org/ for more information or email
questions to cpan-testers-discuss@perl.org
--
Dear GRIAN,
This is a computer-generated error report created automatically by
CPANPLUS, version 0.9007. Testers personal comments may appear
at the end of this report.
MAKE TEST passed: PERL_DL_NONLAZY=1 /export/home/cpan/pit/bare/perl-5.8.9/bin/perl "-MExtUtils::Command::MM" "-e" "test_harness(0, 'blib/lib', 'blib/arch')" t/*.t
t/Deep-Encode-00.t .. ok
t/Deep-Encode-01.t .. ok
t/Deep-Encode-02.t .. ok
t/Deep-Encode-03.t .. ok
t/Deep-Encode-04.t .. ok
All tests successful.
Files=5, Tests=171, 2 wallclock secs ( 0.26 usr 0.11 sys + 1.29 cusr 0.34 csys = 2.00 CPU)
Result: PASS
[MSG] [Sun Oct 10 04:38:23 2010] Sending test report for 'Deep-Encode-0.11'
This report was machine-generated by CPANPLUS::Dist::YACSmoke 0.58.
Powered by minismokebox version 0.32
------------------------------
ENVIRONMENT AND OTHER CONTEXT
------------------------------
Environment variables:
AUTOMATED_TESTING = 1
LANG = en_GB.UTF-8
LC_COLLATE = en_GB.UTF-8
LC_CTYPE = en_GB.UTF-8
LC_MESSAGES = C
LC_MONETARY = en_GB.UTF-8
LC_NUMERIC = en_GB.UTF-8
PATH = /opt/SUNswpro/bin:/usr/ccs/bin:/usr/bin:/usr/sfw/bin
PERL5LIB = :/export/home/cpan/pit/bare/conf/perl-5.8.9/.cpanplus/5.8.9/build/Deep-Encode-0.11/blib/lib:/export/home/cpan/pit/bare/conf/perl-5.8.9/.cpanplus/5.8.9/build/Deep-Encode-0.11/blib/arch
PERL5_CPANPLUS_IS_RUNNING = 21642
PERL5_CPANPLUS_IS_VERSION = 0.9007
PERL5_MINISMOKEBOX = 0.32
PERL5_YACSMOKE_BASE = /export/home/cpan/pit/bare/conf/perl-5.8.9
PERL_EXTUTILS_AUTOINSTALL = --defaultdeps
PERL_MM_USE_DEFAULT = 1
SHELL = /usr/bin/bash
TERM = vt100
Perl special variables (and OS-specific diagnostics, for MSWin32):
Perl: $^X = /export/home/cpan/pit/bare/perl-5.8.9/bin/perl
UID: $< = 100
EUID: $> = 100
GID: $( = 100 100
EGID: $) = 100 100
-------------------------------
--
Summary of my perl5 (revision 5 version 8 subversion 9) configuration:
Platform:
osname=solaris, osvers=2.10, archname=i86pc-solaris
uname='sunos sharpnel 5.10 generic_120012-14 i86pc i386 i86pc '
config_args='-des -Dprefix=/export/home/cpan/pit/bare/perl-5.8.9'
hint=previous, useposix=true, d_sigaction=define
usethreads=undef use5005threads=undef useithreads=undef usemultiplicity=undef
useperlio=define d_sfio=undef uselargefiles=define usesocks=undef
use64bitint=undef use64bitall=undef uselongdouble=undef
usemymalloc=n, bincompat5005=undef
Compiler:
cc='/opt/SUNWspro/bin/cc', ccflags ='-D_LARGEFILE_SOURCE -D_FILE_OFFSET_BITS=64 -DPERL_USE_SAFE_PUTENV -DPERL_USE_SAFE_PUTENV',
optimize='-O',
cppflags='-D_LARGEFILE_SOURCE -D_FILE_OFFSET_BITS=64 -DPERL_USE_SAFE_PUTENV'
ccversion='Sun C 5.9 SunOS_i386 2007/05/03', gccversion='', gccosandvers=''
intsize=4, longsize=4, ptrsize=4, doublesize=8, byteorder=1234
d_longlong=define, longlongsize=8, d_longdbl=define, longdblsize=12
ivtype='long', ivsize=4, nvtype='double', nvsize=8, Off_t='off_t', lseeksize=8
alignbytes=4, prototype=define
Linker and Libraries:
ld='/opt/SUNWspro/bin/cc', ldflags =' -L/usr/lib -L/usr/ccs/lib -L/opt/SUNWspro/prod/lib -L/lib '
libpth=/usr/lib /usr/ccs/lib /opt/SUNWspro/prod/lib /lib
libs=-lsocket -lnsl -ldl -lm -lc
perllibs=-lsocket -lnsl -ldl -lm -lc
libc=/lib/libc.so, so=so, useshrplib=false, libperl=libperl.a
gnulibc_version=''
Dynamic Linking:
dlsrc=dl_dlopen.xs, dlext=so, d_dlsymun=undef, ccdlflags=' '
cccdlflags='-KPIC', lddlflags='-G -L/usr/lib -L/usr/ccs/lib -L/opt/SUNWspro/prod/lib -L/lib'
Characteristics of this binary (from libperl):
Compile-time options: PERL_MALLOC_WRAP PERL_USE_SAFE_PUTENV USE_FAST_STDIO
USE_LARGE_FILES USE_PERLIO
Built under solaris
Compiled at Sep 27 2010 20:22:19
%ENV:
PERL5LIB=":/export/home/cpan/pit/bare/conf/perl-5.8.9/.cpanplus/5.8.9/build/Deep-Encode-0.11/blib/lib:/export/home/cpan/pit/bare/conf/perl-5.8.9/.cpanplus/5.8.9/build/Deep-Encode-0.11/blib/arch"
PERL5_CPANPLUS_IS_RUNNING="21642"
PERL5_CPANPLUS_IS_VERSION="0.9007"
PERL5_MINISMOKEBOX="0.32"
PERL5_YACSMOKE_BASE="/export/home/cpan/pit/bare/conf/perl-5.8.9"
PERL_EXTUTILS_AUTOINSTALL="--defaultdeps"
PERL_MM_USE_DEFAULT="1"
@INC:
/export/home/cpan/pit/bare/conf/perl-5.8.9/.cpanplus/5.8.9/build/Deep-Encode-0.11/blib/lib
/export/home/cpan/pit/bare/conf/perl-5.8.9/.cpanplus/5.8.9/build/Deep-Encode-0.11/blib/arch
/export/home/cpan/pit/bare/perl-5.8.9/lib/5.8.9/i86pc-solaris
/export/home/cpan/pit/bare/perl-5.8.9/lib/5.8.9
/export/home/cpan/pit/bare/perl-5.8.9/lib/site_perl/5.8.9/i86pc-solaris
/export/home/cpan/pit/bare/perl-5.8.9/lib/site_perl/5.8.9
.