DBIx-Class v0.082841_01 Perl 5 v5.26.2 x86_64-linux-thread-multi-ld
- Status
- Pass
- From
- Andreas J. König (ANDK)
- Dist
-
DBIx-Class v0.082841_01
- Platform
- Perl 5 v5.26.2 x86_64-linux-thread-multi-ld
- Date
- 2019-10-31 09:07:04
- ID
- cea04dee-fbbd-11e9-bbf7-71456ce1229e
This distribution has been tested as part of the CPAN Testers
project, supporting the Perl programming language. See
http://wiki.cpantesters.org/ for more information or email
questions to cpan-testers-discuss@perl.org
--
Dear Peter Rabbitson,
This is a computer-generated report for DBIx-Class-0.082841_01
on perl 5.26.2, created by CPAN-Reporter-1.2018.
Thank you for uploading your work to CPAN. Congratulations!
All tests were successful.
Sections of this report:
* Tester comments
* Program output
* Prerequisites
* Environment and other context
------------------------------
TESTER COMMENTS
------------------------------
Additional comments from tester:
this report is from an automated smoke testing program
and was not reviewed by a human for accuracy
------------------------------
PROGRAM OUTPUT
------------------------------
Output from '/usr/bin/make test':
PERL_DL_NONLAZY=1 "/home/sand/src/perl/repoperls/installed-perls/host/k93msid/v5.26.2/8854/bin/perl" "-MExtUtils::Command::MM" "-MTest::Harness" "-e" "undef *Test::Harness::Switches; test_harness(0, 'inc', 'blib/lib', 'blib/arch')" t/*.t t/admin/*.t t/cdbi/*.t t/cdbi/DeepAbstractSearch/*.t t/cdbi/abstract/*.t t/cdbi/sweet/*.t t/count/*.t t/debug/*.t t/delete/*.t t/inflate/*.t t/multi_create/*.t t/ordered/*.t t/prefetch/*.t t/relationship/*.t t/resultset/*.t t/resultsource/*.t t/row/*.t t/schema/*.t t/search/*.t t/sqlmaker/*.t t/sqlmaker/hierarchical/*.t t/sqlmaker/limit_dialects/*.t t/storage/*.t t/update/*.t xt/*.t
Mismatch of versions '1.1' and '1.44', obtained respectively via `Params::ValidationCompiler::Exception::Named::Extra->VERSION` and parsing the version out of <<SL>>/Exception/Class.pm with ExtUtils::MakeMaker@7.3703. This should never happen - please check whether this is still present in the latest version, and then file a bug with the distribution containing Params::ValidationCompiler::Exception::Named::Extra.
Mismatch of versions '1.1' and '1.44', obtained respectively via `Params::ValidationCompiler::Exception::Named::Required->VERSION` and parsing the version out of <<SL>>/Exception/Class.pm with ExtUtils::MakeMaker@7.3703. This should never happen - please check whether this is still present in the latest version, and then file a bug with the distribution containing Params::ValidationCompiler::Exception::Named::Required.
Mismatch of versions '1.1' and '1.44', obtained respectively via `Params::ValidationCompiler::Exception::ValidationFailedForMooseTypeConstraint->VERSION` and parsing the version out of <<SL>>/Exception/Class.pm with ExtUtils::MakeMaker@7.3703. This should never happen - please check whether this is still present in the latest version, and then file a bug with the distribution containing Params::ValidationCompiler::Exception::ValidationFailedForMooseTypeConstraint.
Mismatch of versions '1.1' and '1.44', obtained respectively via `Params::ValidationCompiler::Exception::Positional::Extra->VERSION` and parsing the version out of <<SL>>/Exception/Class.pm with ExtUtils::MakeMaker@7.3703. This should never happen - please check whether this is still present in the latest version, and then file a bug with the distribution containing Params::ValidationCompiler::Exception::Positional::Extra.
Mismatch of versions '1.1' and '1.44', obtained respectively via `Params::ValidationCompiler::Exception::Positional::Required->VERSION` and parsing the version out of <<SL>>/Exception/Class.pm with ExtUtils::MakeMaker@7.3703. This should never happen - please check whether this is still present in the latest version, and then file a bug with the distribution containing Params::ValidationCompiler::Exception::Positional::Required.
Mismatch of versions '1.1' and '1.44', obtained respectively via `Params::ValidationCompiler::Exception::BadArguments->VERSION` and parsing the version out of <<SL>>/Exception/Class.pm with ExtUtils::MakeMaker@7.3703. This should never happen - please check whether this is still present in the latest version, and then file a bug with the distribution containing Params::ValidationCompiler::Exception::BadArguments.
#
#
# List of loadable modules within both *OPTIONAL* and core dependency chains
# present on this system (modules sourced from ./blib, ./lib, ./t, and ./xt
# with versions identical to their parent namespace were omitted for brevity)
#
# *** Note that *MANY* of these modules will *NEVER* be loaded ***
# *** during normal operation of DBIx::Class ***
#
# @INC at startup (does not reflect manipulation at runtime):
# 0: ./inc/
# 1: ./blib/lib/
# 2: ./blib/arch/
# 3: <<SA>>/
# 4: <<SL>>/
# 5: <<PA>>/
# 6: <<PL>>/
# 7: ./
#
# Sourcing markers:
# PA: $Config{archlib}
# PL: $Config{privlib}
# SA: $Config{sitearch}
# SL: $Config{sitelib}
# BLL: ./blib/lib/
#
# =============================
# PA 0.29 attributes [ MD5: 3c7494a1e2daadab4c2438772daf1f26 ]
# PL 5.74 AutoLoader [ MD5: c923fac66a84c6b5dbbf01250e7c1a42 ]
# PA 1.68 B [ MD5: a1b96c83bbb9e72e40c4ef0ad7ccb9ac ]
# SL 0.24 B::Hooks::EndOfScope [ MD5: 3b9731e44ba19c730e41ef0865a9611a ]
# SL 0.24 B::Hooks::EndOfScope::XS [ MD5: e329476ce9d632219d1448c8dd641a25 ]
# PL 2.26 base [ MD5: 33a4b1acedb7ad3d17aadf941ffdf092 ]
# PL 1.05 bytes [ MD5: 0b1f4cf7f07548ffd51cd5ddb6644fe2 ]
# PL 1.42 Carp [ MD5: 5e505f781edb59d1bc7d50192aca1d0b ]
# SL 6.07 Carp::Clan [ MD5: d05c92201192f70c7c8af6b162e7dddc ]
# PL 1.42 Carp::Heavy [ MD5: 79f092eecb710ba166304e7a88bfa45d ]
# SL 0.51 Class::Accessor [ MD5: a0a06301e39652deaee12c78d63dcc74 ]
# SL Class::Accessor::Chained::Fast [ MD5: 544678632aaf294dc280944a83c509bc ]
# SL 0.51 Class::Accessor::Fast [ MD5: d55e6349be3f027f1c5f6fa7eb833d8e ]
# SL 0.10014 Class::Accessor::Grouped [ MD5: e62be17499d53d13f67a4361268aac40 ]
# SL 1.001002 Class::C3::Componentised [ MD5: 2e92d4f7f9a7d2eda3cd1100583541a2 ]
# SL 0.08 Class::Data::Inheritable [ MD5: eaa489d785a175db193d92b13674d96d ]
# SL 1.7 Class::Factory::Util [ MD5: 23c0a341c83cbc0849dbbdbba7555d0a ]
# SL 1.36 Class::Inspector [ MD5: 7aed0ce1dfc5dd2067632ea22fd2f483 ]
# SL 0.25 Class::Load [ MD5: 52debf263bbf547f0260f9d66a071eee ]
# SA 0.10 Class::Load::XS [ MD5: cc30760936bb48922d9898c915555a19 ]
# SL 2.13 Class::Method::Modifiers [ MD5: 95e9116eb4d94ad43359870692641915 ]
# SA 2.2011 Class::MOP [ MD5: a54b13680ba1c9bb15d2dac08c3d4c07 ]
# SA 2.2011 Class::MOP::Attribute [ MD5: b97369fa22cf45d29e13ca44edf2e1d7 ]
# SA 2.2011 Class::MOP::Class [ MD5: 6107fb41201c685dc6c01e0a6291d081 ]
# SA 2.2011 Class::MOP::Class::Immutable::Trait [ MD5: fbad5022eb3856ee8b4cc58f3d308df0 ]
# SA 2.2011 Class::MOP::Deprecated [ MD5: b00d4b723e69496203ed0e2c0fb5eab2 ]
# SA 2.2011 Class::MOP::Instance [ MD5: 1940492e34a5fa93b5b265ce4639f9cd ]
# SA 2.2011 Class::MOP::Method [ MD5: f4275b73358f9e0051b7fb213a05fb24 ]
# SA 2.2011 Class::MOP::Method::Accessor [ MD5: 952eb0fa1aa3a3f3d1e336ccaa7cc9f0 ]
# SA 2.2011 Class::MOP::Method::Constructor [ MD5: 3cb5b3785c6e148ed78759b8e1c16b78 ]
# SA 2.2011 Class::MOP::Method::Generated [ MD5: 30186f44e9ca39ebce23f9a7f20ecaaf ]
# SA 2.2011 Class::MOP::Method::Inlined [ MD5: a2b94ada1649ef38f39550eb96d338ec ]
# SA 2.2011 Class::MOP::Method::Meta [ MD5: faec755d3226a3536af78721cdd9756c ]
# SA 2.2011 Class::MOP::Method::Wrapped [ MD5: 99c45a16a765b40be83f18bfe9764a1b ]
# SA 2.2011 Class::MOP::MiniTrait [ MD5: c5d343f01475b37129fc1902698280a8 ]
# SA 2.2011 Class::MOP::Mixin [ MD5: 09388be55af0bf097fd75aedb1245294 ]
# SA 2.2011 Class::MOP::Mixin::AttributeCore [ MD5: 3c31aa28d74fadfa01f77102d3bf10c9 ]
# SA 2.2011 Class::MOP::Mixin::HasAttributes [ MD5: ba036cc9f9268c13bbb6d85a756a5a9f ]
# SA 2.2011 Class::MOP::Mixin::HasMethods [ MD5: 104bcb04484a47b9b180fc1411c54453 ]
# SA 2.2011 Class::MOP::Mixin::HasOverloads [ MD5: 2ae83180bc8142e7e29d9e2aca700c91 ]
# SA 2.2011 Class::MOP::Module [ MD5: 9db38cbf025c79d1e7cc547eacd52d9d ]
# SA 2.2011 Class::MOP::Object [ MD5: afadad587720b116a70eb4070345c5d6 ]
# SA 2.2011 Class::MOP::Overload [ MD5: f9043f9e6d172cbd9656819a2344c531 ]
# SA 2.2011 Class::MOP::Package [ MD5: 1bdea8109f05a4f5dd47a0448b4830c4 ]
# SL 1.5 Class::Singleton [ MD5: d1b724a6b51de027cc1656e67ada9a32 ]
# PL 0.65 Class::Struct [ MD5: cf060e4d87730484dcdf246d806fec93 ]
# SL 0.14 Class::Trigger [ MD5: c7a9ce0dac92fac85f6aaaaaea4199e4 ]
# SL 0.11 Class::Unload [ MD5: f1fa19d4b6c75047849dcb0e8a1b383b ]
# SA 1.19 Class::XSAccessor [ MD5: 0b7adfcc61192a80f97463e89d6d1696 ]
# SA 1.19 Class::XSAccessor::Heavy [ MD5: db9379a668d6133fce801e4648cdef45 ]
# SA 0.43 Clone [ MD5: ec9d42c3b72d35751a8b4894318f9c60 ]
# SL 0.010 Clone::Choose [ MD5: 884cece05d3959f067c7e20ed3d05cf5 ]
# SA 3.74 common::sense [ MD5: a15f47d4adf61ca06bc26a0e974925e4 ]
# PA 5.026002 Config [ MD5: 168cf87b807bd41519cd29f34c83955d ]
# PL 1.33 constant [ MD5: 56cde6eba0f667ab56196613df3933c1 ]
# SL 0.03 Context::Preserve [ MD5: 62155e2bc041508eff050250d74a0c38 ]
# SA 4.14 Cpanel::JSON::XS [ MD5: c16efac35665a9edb33d4f57e6697425 ]
# SA 3.75 Cwd [ MD5: ac096f132d787b5c834fdf897d149650 ]
# SA 2.173 Data::Dumper [ MD5: 240698bf674c462e399495439de7a1c3 ]
# SL 2.023 Data::Dumper::Concise [ MD5: b18cb47e46e385ccee825ac7e5e59d9e ]
# SL 0.110 Data::OptList [ MD5: abf71027225f7e71ffb99d9e60f1c817 ]
# SL 2.03 Data::Page [ MD5: b1b86ef926254ee062c0ac6c00041135 ]
# SA 3.03 Date::Simple [ MD5: 7f0f57291d06fba6dec8f2c89418d833 ]
# SA Date::Simple::D8 [ MD5: 3adf337de741bbdafc195903c5fba746 ]
# SA Date::Simple::Fmt [ MD5: d7b0634fe9be047bf070ece7ad10bbf1 ]
# SA Date::Simple::ISO [ MD5: 6daa0380c65f785087c38917770cd9a1 ]
# SA 1.51 DateTime [ MD5: 3676e25623a28ccf93a03299b22d336a ]
# SA 1.51 DateTime::Duration [ MD5: 15d1961da72543574c2759ae009c8b68 ]
# SL 0.81 DateTime::Format::Builder [ MD5: a7504365e360ffadab386d3e7a3d1378 ]
# SL 0.81 DateTime::Format::Builder::Parser [ MD5: 2fe5d6326e9d327a00b79869d2626b12 ]
# SL 0.81 DateTime::Format::Builder::Parser::Dispatch [ MD5: e2581071b6d0557d1abdfc7d9fccd792 ]
# SL 0.81 DateTime::Format::Builder::Parser::generic [ MD5: d6c5ff8efde5024940a41273446792f6 ]
# SL 0.81 DateTime::Format::Builder::Parser::Quick [ MD5: cfb34d755dc7297a46653e5d49341b8a ]
# SL 0.81 DateTime::Format::Builder::Parser::Regex [ MD5: adfa2b43837079406c8b5b3bfedacd1c ]
# SL 0.81 DateTime::Format::Builder::Parser::Strptime [ MD5: b2de69a1394486285921144e22a36d00 ]
# SL 0.06 DateTime::Format::MySQL [ MD5: 648e57ca831a7f177cc655fee2528710 ]
# SL 0.16013 DateTime::Format::Pg [ MD5: a7a717b4cff50ff86119f3991567fe9d ]
# SL 0.11 DateTime::Format::SQLite [ MD5: 1cff4caa26c417be96d7a8843fc32825 ]
# SL 1.76 DateTime::Format::Strptime [ MD5: 3d8d62b172b1fd62b49e2a2dea54de35 ]
# SL 1.76 DateTime::Format::Strptime::Types [ MD5: 38820b2c7ce488330acfb6a7e1d447c7 ]
# SA 1.51 DateTime::Helpers [ MD5: 9f734f3c1759e07deb1f6b747e9d15bd ]
# SA 1.51 DateTime::Infinite [ MD5: 815b61f755f383ffe3bfe422df39880a ]
# SL 1.23 DateTime::Locale [ MD5: b935aadb71ec532ea4d67d2ad9fefae1 ]
# SL 1.23 DateTime::Locale::Base [ MD5: 665185ae267ea9164e73a7732eb57756 ]
# SL 1.23 DateTime::Locale::Data [ MD5: 38b7f1cee74fe7e01d1aed01db25c65c ]
# SL 1.23 DateTime::Locale::FromData [ MD5: e5c8bc6036e4bbbc0009e7345d596086 ]
# SL 1.23 DateTime::Locale::Util [ MD5: 5d8b12d679bfd4b8539c2aebeaae157c ]
# SL 2.37 DateTime::TimeZone [ MD5: e2b4181ce39feb832d44e2245aed4229 ]
# SL 2.37 DateTime::TimeZone::Catalog [ MD5: 5b1190712b2349a99b63b7430850bbeb ]
# SL 2.37 DateTime::TimeZone::Floating [ MD5: 6bfdca6c375b22621232077e449ee6a2 ]
# SL 2.37 DateTime::TimeZone::Local [ MD5: d1e27f0821ead6cb7910f72fd26488c8 ]
# SL 2.37 DateTime::TimeZone::OffsetOnly [ MD5: a3a11aca8b4c1400f05d2de04bcb44c0 ]
# SL 2.37 DateTime::TimeZone::OlsonDB::Change [ MD5: f5c695612d73e3e85cdf2e8cd4f914ea ]
# SL 2.37 DateTime::TimeZone::UTC [ MD5: c9ba9a988f2db8e717f77ca917b4b606 ]
# SA 1.51 DateTime::Types [ MD5: 11ae9d47d30ea5539476dffed33d5157 ]
# SA 1.64 DBD::SQLite [ MD5: 51b8cd5b6a12afa6919700e9835df0cf ]
# SA 1.642 DBI [ MD5: 1fe9f7a88ed440a65d84bcf7d793296b ]
# BLL 0.082841_01 DBIx::Class [ MD5: ada0e597adf1ec94e5245a7f9855e91f ]
# SL 0.14 Devel::GlobalDestruction [ MD5: fa8dcedeb9a8a3d29fbef7dfce342970 ]
# SL 0.005 Devel::OverloadInfo [ MD5: 585b292147dc170f3b3f3611ee04a32b ]
# SL 2.04 Devel::StackTrace [ MD5: 86e99556d4064ec1f14fe93b0505b5ec ]
# SL 2.04 Devel::StackTrace::Frame [ MD5: 7d7bbe06b5e11f6bb6f8051ff628be97 ]
# SL 2.18 Devel::Symdump [ MD5: e649ab91a4890ab2543e821daef73079 ]
# PL 1.16 Digest::base [ MD5: c46e2ebb720ee7d9c600ce5acbf34291 ]
# PA 2.55 Digest::MD5 [ MD5: eb31899db132d674e1db22f4727234f6 ]
# SA 6.02 Digest::SHA [ MD5: 00b35f65c881fa6db2940e462485fdf8 ]
# PA 1.42 DynaLoader [ MD5: 946142306a2c4799cb2f003e42da5d86 ]
# SA 3.01 Encode [ MD5: 9f19550b260cc6d5c5ec05f60211329a ]
# SA 2.24 Encode::Alias [ MD5: c3280193456386938373947a4be14c6b ]
# SA 2.05 Encode::Config [ MD5: 7bdd1d8dffa8d3500086802451fc020d ]
# SA 2.08 Encode::Encoding [ MD5: 3f40faa217288ed2cb4e34af87b6bfd6 ]
# SA 1.03 Encode::MIME::Name [ MD5: 056ea8f31df117e2984d9bd3a77555dc ]
# PA 1.28 Errno [ MD5: b251a7f8991f7919f25438bee3751b24 ]
# SL 0.14 Eval::Closure [ MD5: 6c72ca7cb0924d00e0c1a8bee904c349 ]
# SL 1.44 Exception::Class [ MD5: ae9c191dabc81dfa75a1188ba9346e24 ]
# SL 1.44 Exception::Class::Base [ MD5: 94c307ad2b125af1e33f25107612280a ]
# SL 5.73 Exporter [ MD5: 118f47a7245b8d8026e8a9ac78f35ebb ]
# SL 5.73 Exporter::Heavy [ MD5: d8032ca40b44e010673e6dd5816ca66b ]
# SL 1.002001 Exporter::Tiny [ MD5: badbc5ed1a593ba6f6c88a51e9b74ead ]
# SL 7.37_03 ExtUtils::Liblist [ MD5: 096d14791fe207378483db1aaf804be8 ]
# SL 7.37_03 ExtUtils::Liblist::Kid [ MD5: 22d06bb180141f24350bd7ef1ee76de3 ]
# SL 7.37_03 ExtUtils::MakeMaker [ MD5: db5e658d4c28b039dd43ac337f99ef56 ]
# SL 7.37_03 ExtUtils::MakeMaker::Config [ MD5: 7e3f3791d7be0f23e03411c0c7f80cf9 ]
# SL 7.37_03 ExtUtils::MakeMaker::Locale [ MD5: 6b7b96375564097293bcbf9171ee9636 ]
# SL 7.37_03 ExtUtils::MakeMaker::version [ MD5: 0429dd9abcafe0d4bf5b328eec3ad830 ]
# SL 7.37_03 ExtUtils::MM [ MD5: 5bfb160abc18abb4fce0e8a96ddb9ed7 ]
# SL 7.37_03 ExtUtils::MM_Any [ MD5: e9031605b45396b2976003075f23a629 ]
# SL 7.37_03 ExtUtils::MM_Unix [ MD5: 287b5967404ac2e214d49a0fa5c371cf ]
# SL 7.37_03 ExtUtils::MY [ MD5: 2305125b1d93c8f310e3fb46b6e02b77 ]
# PA 1.13 Fcntl [ MD5: b337d563fd4bc958c7e0a2bba2ca86d2 ]
# PL 2.85 File::Basename [ MD5: 060f029d056cc44e536c7d278f69bf43 ]
# PL 2.32 File::Copy [ MD5: 6bd3ccbef5e29781e19ab4d4a4dfc779 ]
# PL 1.34 File::Find [ MD5: 04150524197463018d3188f24e360c5e ]
# PA 1.28 File::Glob [ MD5: 3924cc309b6830781e15c9b95f1c6e2c ]
# SL 1.004 File::HomeDir [ MD5: f640f0205e9a71b526307ba35e345721 ]
# SL 1.004 File::HomeDir::Driver [ MD5: 41e785bb125af285b8a47daf0f218cc2 ]
# SL 1.004 File::HomeDir::FreeDesktop [ MD5: b5e407cf51040636f250eaa39941e9ef ]
# SL 1.004 File::HomeDir::Unix [ MD5: e6ce1b7f9d8cc0213abc885d1d5882c3 ]
# PL 2.12_01 File::Path [ MD5: b71c56316d768bc029229b0ee4e40f5e ]
# SL 1.116 File::ShareDir [ MD5: f11a84377c1f40a54dcdfb303159ecdd ]
# SA 3.75 File::Spec [ MD5: 60adab4a60c40a7115274bd9c0801425 ]
# SA 3.75 File::Spec::Functions [ MD5: d8ce74bd3c8fed61456dd685212f613e ]
# SA 3.75 File::Spec::Unix [ MD5: 64adb743d17fa746ca7c31eb21971eb7 ]
# PL 1.07 File::stat [ MD5: d6fcb5be03ba2b0f34569f8dbc9c17c8 ]
# SL 0.2309 File::Temp [ MD5: 9710fcbc8911ae90f20b0c863ebfe79b ]
# 0.2309 File::Temp::Dir ! -f $INC{'File/Temp/Dir.pm'}
# SL 1.23 File::Which [ MD5: 2db291b6abbcd6ccafc8bdbf4535f509 ]
# PL 1.51 FindBin [ MD5: dd2958b9672d2fbd39371b5b590def2f ]
# SL 2.51 Getopt::Long [ MD5: 7119f2c25b6e2352580da9b6a84c9ab9 ]
# SL 0.103 Getopt::Long::Descriptive [ MD5: 624d13705eddce5469798f66eacc8998 ]
# SL 0.103 Getopt::Long::Descriptive::Opts [ MD5: 0f4121d8ba0c4cace046a5b3afe9663b ]
# SL 0.103 Getopt::Long::Descriptive::Usage [ MD5: e65e361af5e74c8a57d170d72a4b4b9d ]
# SL 0.300 Hash::Merge [ MD5: 6d88a0cad7f5b301c53a27491c664a53 ]
# PA 0.13 I18N::Langinfo [ MD5: 706de135fde051348167b99b4d87722f ]
# PL 0.0606 if [ MD5: 64ca426ae881664b5bf41c88b2c96963 ]
# SL 1.002005 Import::Into [ MD5: 7f498658c2a0e06c5c034165db33ad65 ]
# PL 1.01 integer [ MD5: 3e5ff5fb486c95945e10e79859dd5bfb ]
# SA 1.39 IO [ MD5: 1287dde4204d090d92949bb3e3d4df01 ]
# SA 1.39 IO::Dir [ MD5: ff2d44ff048deff67d7a4e0ecb02f3ca ]
# SA 1.39 IO::File [ MD5: 9058bcc2b7dea940815bc32a047d23e1 ]
# SA 1.39 IO::Handle [ MD5: fc3ac2163227895696553afdad90ddeb ]
# SA 1.39 IO::Seekable [ MD5: 77ad5899b77f4b6dd085859d3dcdd43b ]
# SL 4.02 JSON [ MD5: e627742db8812fc21f885b2414c7a0c4 ]
# SL 1.39 JSON::Any [ MD5: 58091791762a014d447fdd6f05000e17 ]
# 4.02 JSON::Backend::XS ! -f $INC{'JSON/Backend/XS.pm'}
# SL 2.97001 JSON::PP [ MD5: 7c8231334f3b083273617faa36620527 ]
# SL 2.97001 JSON::PP::Boolean [ MD5: 68075b38a3622486c8df195cc512ebbd ]
# 1.01 JSON::PP::IncrParser ! -f $INC{'JSON/PP/IncrParser.pm'}
# SA 4.02 JSON::XS [ MD5: d22befbc4753ff6024ddf7a4c0a99e89 ]
# 2.97001 JSON::XS::Boolean ! -f $INC{'JSON/XS/Boolean.pm'}
# SL 0.428 List::MoreUtils [ MD5: 55f76e668fc2bba7621dd546702480ff ]
# SL 0.428 List::MoreUtils::PP [ MD5: 8e6548e9adbc78fd971a704921e88dd0 ]
# SA 0.428 List::MoreUtils::XS [ MD5: ce2be007acae5d83793f7a8e2467c6d3 ]
# SA 1.52_001 List::Util [ MD5: 113e5297374e180842bd5aa8649d301b ]
# PL 1.09 locale [ MD5: 0e2f243d25cdd1380e17ebfb8b9eee5c ]
# SL 1.999817 Math::BigInt [ MD5: a4d06b11749b05c9fdd13076e11cf1bc ]
# SA 2.2011 metaclass [ MD5: 1c0dcea9c8b82f33bc08bc59c8ca1fe8 ]
# SL Method::Generate::Accessor [ MD5: 9209197a79974c455fca96e01ae687fe ]
# SL Method::Generate::BuildAll [ MD5: 0ac76bcd03bbbdfa24e2dd6368faca6a ]
# SL Method::Generate::Constructor [ MD5: 34ec0d8db3d6be1fef4b216a47ed3f40 ]
# SL 0.09 Module::Implementation [ MD5: 2a146bb117cd6b798e2b928231799546 ]
# SL 0.016 Module::Runtime [ MD5: db1042b0f9341111c7f904480a82596a ]
# SL 2.003006 Moo [ MD5: 527fb450d0524b1130a359c693d8ea3d ]
# SL Moo::HandleMoose [ MD5: ed0b031e284427345cf74a5e883683e1 ]
# SL Moo::HandleMoose::FakeMetaClass [ MD5: 6d3ddb2b22897cc06ca741e73c35d890 ]
# SL Moo::Object [ MD5: 454a78f98f0239ac4044db19f07e8567 ]
# SL 2.003006 Moo::Role [ MD5: 7ffeef84191212236a44ce4525afb890 ]
# SL Moo::sification [ MD5: 9ef3e1bfcf46a351c20ca221d490d99f ]
# SA 2.2011 Moose [ MD5: 444337641dc67542620e0ed8dd0f095c ]
# SA 2.2011 Moose::Deprecated [ MD5: 4226c2586a03e80fcc582c62247b01aa ]
# SA 2.2011 Moose::Exporter [ MD5: 54e08e75e2b6df9922de689776323e1f ]
# SA 2.2011 Moose::Meta::Attribute [ MD5: 879d591b0409ec16d2b074b3649accfc ]
# SA 2.2011 Moose::Meta::Attribute::Native [ MD5: e5ab4e262cc74be3d49fdd5aa89c93cd ]
# SA 2.2011 Moose::Meta::Attribute::Native::Trait [ MD5: 3f8c2ca4a53c75675645ace6bc54508a ]
# SA 2.2011 Moose::Meta::Attribute::Native::Trait::Counter [ MD5: 39e08201188f8ac9f4fe5f84cc27ecab ]
# SA 2.2011 Moose::Meta::Attribute::Native::Trait::Hash [ MD5: b001c322b52512c5980b3507d11ede72 ]
# SA 2.2011 Moose::Meta::Class [ MD5: ce355dc895bd867a4b69bacfa1f04326 ]
# SA 2.2011 Moose::Meta::Class::Immutable::Trait [ MD5: 222f572becbb89938e5f8e84b3f930c5 ]
# SA 2.2011 Moose::Meta::Instance [ MD5: 9c33a6c6db4700141a5307664807d15c ]
# SA 2.2011 Moose::Meta::Method [ MD5: 8303907ac526ad2c0a6bebea92f28bb6 ]
# SA 2.2011 Moose::Meta::Method::Accessor [ MD5: 0af242dd67ad39fe3ae35c2badd7a2d8 ]
# SA 2.2011 Moose::Meta::Method::Accessor::Native [ MD5: e0524436ab0987a7502e91acd61c7c72 ]
# SA 2.2011 Moose::Meta::Method::Accessor::Native::Collection [ MD5: dee647293398a125a17fd6c9c88c8e0a ]
# SA 2.2011 Moose::Meta::Method::Accessor::Native::Counter::inc [ MD5: 188fd5fdecab208f4d440729495b59d3 ]
# SA 2.2011 Moose::Meta::Method::Accessor::Native::Hash [ MD5: 39dc8cfbe8b120afa293615b271bf220 ]
# SA 2.2011 Moose::Meta::Method::Accessor::Native::Hash::count [ MD5: ec2d76abce74f926eb29662f3b3e5d71 ]
# SA 2.2011 Moose::Meta::Method::Accessor::Native::Hash::delete [ MD5: 4d1a44dd7888a8f8b1604a942c116937 ]
# SA 2.2011 Moose::Meta::Method::Accessor::Native::Hash::get [ MD5: 96292596a2e829ea2506ad4535bc015d ]
# SA 2.2011 Moose::Meta::Method::Accessor::Native::Hash::is_empty [ MD5: e05a40c17aa8a385be9fb2a19f3c7bd1 ]
# SA 2.2011 Moose::Meta::Method::Accessor::Native::Hash::set [ MD5: e6d811b0680093ac16d505e39496595a ]
# SA 2.2011 Moose::Meta::Method::Accessor::Native::Hash::values [ MD5: 43977a86bc1447b75e67d66e43861577 ]
# SA 2.2011 Moose::Meta::Method::Accessor::Native::Hash::Writer [ MD5: a09d2b5f380f83a99b766af13d8975bb ]
# SA 2.2011 Moose::Meta::Method::Accessor::Native::Reader [ MD5: 16b3bddd90c794dcbaf085d15741f004 ]
# SA 2.2011 Moose::Meta::Method::Accessor::Native::Writer [ MD5: e766e4fc03d274a6c4a7dca8a18c0b9a ]
# SA 2.2011 Moose::Meta::Method::Augmented [ MD5: 4068653cd8fff3edd19a39244ceb9a34 ]
# SA 2.2011 Moose::Meta::Method::Constructor [ MD5: 0f9c799beca2809b5deac2bd92628b54 ]
# SA 2.2011 Moose::Meta::Method::Delegation [ MD5: 8425535781540c99d416bd3fdf005b9d ]
# SA 2.2011 Moose::Meta::Method::Destructor [ MD5: 470e135417d1c19476885b43add4894f ]
# SA 2.2011 Moose::Meta::Method::Meta [ MD5: 886ecca041333506bb615929d623e919 ]
# SA 2.2011 Moose::Meta::Method::Overridden [ MD5: b5b01ddf14ecb0c26b2b80c0c53f729f ]
# SA 2.2011 Moose::Meta::Mixin::AttributeCore [ MD5: 31a9ef9447304303541affa41799ec37 ]
# SA 2.2011 Moose::Meta::Object::Trait [ MD5: 6271205e4fce43db053621247c3e19ad ]
# SA 2.2011 Moose::Meta::Role [ MD5: c05c41e78c3beee25737feb00e043ebd ]
# SA 2.2011 Moose::Meta::Role::Application [ MD5: b7ae85755426d953e62e056de7b806ea ]
# SA 2.2011 Moose::Meta::Role::Application::RoleSummation [ MD5: 0977487f23e0b8c451364eb06b2c984a ]
# SA 2.2011 Moose::Meta::Role::Application::ToClass [ MD5: 452f7077755a9aed00bc96f1805d60c4 ]
# SA 2.2011 Moose::Meta::Role::Application::ToInstance [ MD5: aa8290454f3cc2066bad760e19a1dd7d ]
# SA 2.2011 Moose::Meta::Role::Application::ToRole [ MD5: 9f7dbe7217451ffb03024d6e6f72bbe5 ]
# SA 2.2011 Moose::Meta::Role::Attribute [ MD5: 816ee34227534adc7064d34e7fbdc951 ]
# SA 2.2011 Moose::Meta::Role::Composite [ MD5: 7b81fd882ed85aa1cdbf6832cfe84134 ]
# SA 2.2011 Moose::Meta::Role::Method [ MD5: 1d09462bf584c2d36e86f5845385d751 ]
# SA 2.2011 Moose::Meta::Role::Method::Conflicting [ MD5: 59e694d584438dcf6317fdc10f811fed ]
# SA 2.2011 Moose::Meta::Role::Method::Required [ MD5: 16bba4fd5f94ee3a21cfed9295a95aea ]
# SA 2.2011 Moose::Meta::TypeCoercion [ MD5: 19f715cb75c2851882ef278e4a50c083 ]
# SA 2.2011 Moose::Meta::TypeCoercion::Union [ MD5: acb1d306d905e1365d561248f50c75bc ]
# SA 2.2011 Moose::Meta::TypeConstraint [ MD5: a145fb4d27c31569e093c45e4ed062d1 ]
# SA 2.2011 Moose::Meta::TypeConstraint::Class [ MD5: 62ea85fae736a361fc96d53de28ace65 ]
# SA 2.2011 Moose::Meta::TypeConstraint::DuckType [ MD5: 5a73dad1e9b8f84a3c81afa1237f211d ]
# SA 2.2011 Moose::Meta::TypeConstraint::Enum [ MD5: 2c921fe09bccd5c5f46b349103017d8b ]
# SA 2.2011 Moose::Meta::TypeConstraint::Parameterizable [ MD5: d6e5d74e2a784cd869250d92ce24a173 ]
# SA 2.2011 Moose::Meta::TypeConstraint::Parameterized [ MD5: abdb3b3288daff23b6eae3f1a3e41ee3 ]
# SA 2.2011 Moose::Meta::TypeConstraint::Registry [ MD5: 5b0c9dce87261655bc985a8c2742856e ]
# SA 2.2011 Moose::Meta::TypeConstraint::Role [ MD5: 18ea4ceb8d0b00ace86e7d1f92c3509b ]
# SA 2.2011 Moose::Meta::TypeConstraint::Union [ MD5: 692a00331e27536cc6793a383a0afbdb ]
# SA 2.2011 Moose::Object [ MD5: 92477ce5e4ac2804932b29d9efe068d8 ]
# SA 2.2011 Moose::Role [ MD5: 7ab25e54886c319c91a1b876e8e2ef82 ]
# SA 2.2011 Moose::Util [ MD5: 782cf61aee0436a43858836c51b73bd8 ]
# SA 2.2011 Moose::Util::MetaRole [ MD5: c473a681b8cef001cf1800b91351c127 ]
# SA 2.2011 Moose::Util::TypeConstraints [ MD5: 2cec2b5abfead2be20c656453825058a ]
# SA 2.2011 Moose::Util::TypeConstraints::Builtins [ MD5: 31df9e9cccb4fb1cde4e2970380892ef ]
# SL 0.74 MooseX::Getopt [ MD5: 40abdba238cea848804787831051e64f ]
# SL 0.74 MooseX::Getopt::Basic [ MD5: 54a2af329204a981054314d0c7657607 ]
# SL 0.74 MooseX::Getopt::GLD [ MD5: 512d99bf9565ff8633154eac185afb90 ]
# SL 0.74 MooseX::Getopt::Meta::Attribute [ MD5: 6045bc05e8ed49ff343f9e6eb83c20e0 ]
# SL 0.74 MooseX::Getopt::Meta::Attribute::NoGetopt [ MD5: fa946a76db86dd308e461027af33a13b ]
# SL 0.74 MooseX::Getopt::Meta::Attribute::Trait [ MD5: ec38bb43ccf247ed289d00ca808d64f2 ]
# SL 0.74 MooseX::Getopt::Meta::Attribute::Trait::NoGetopt [ MD5: 5220a78810bab143535842589537fb6c ]
# SL 0.74 MooseX::Getopt::OptionTypeMap [ MD5: b922c61c22effb08865ce1531db0b10d ]
# SL 0.74 MooseX::Getopt::ProcessedArgv [ MD5: 561e6a6823f763779f2cc77778e89636 ]
# SL 1.10 MooseX::Role::Parameterized [ MD5: c6ecf44d7456cd53bee338220b23afa2 ]
# SL 1.10 MooseX::Role::Parameterized::Meta::Role::Parameterized [ MD5: addc285533a3d5c5f53b1cda936882d5 ]
# SL 1.10 MooseX::Role::Parameterized::Meta::Trait::Parameterizable [ MD5: fb7abe20d0610324ebdabecc9c257bc4 ]
# SL 1.10 MooseX::Role::Parameterized::Meta::Trait::Parameterized [ MD5: 75ff9f26ba8a109d7a43bfd1911c946a ]
# SL 1.10 MooseX::Role::Parameterized::Parameters [ MD5: 8b52d8ddb1e662fb159fb1082eaac013 ]
# SL 0.50 MooseX::Types [ MD5: 17bbbb8842f7942f7dbbb26921f6a101 ]
# SL 0.50 MooseX::Types::Base [ MD5: d150a08c20428cc44a004f8638ad41db ]
# SL 0.50 MooseX::Types::CheckedUtilExports [ MD5: 557b5771665a6e0ec9ccfe638cecb5b7 ]
# SL 0.015 MooseX::Types::LoadableClass [ MD5: ecc36756c227d77f3e0d50c3b93ae209 ]
# SL 0.50 MooseX::Types::Moose [ MD5: 50ab28fc41501c0c28f0dcd01ca1df26 ]
# SL 0.09 MooseX::Types::Path::Class [ MD5: fa4152eac64df55ede9de273d21bc2d3 ]
# SL 0.50 MooseX::Types::TypeDecorator [ MD5: f141bb4c2a1c181421144011515c112b ]
# SL 0.50 MooseX::Types::UndefinedType [ MD5: 2fd1fdbd0da64f6d55375bce8458d66d ]
# SL 0.50 MooseX::Types::Util [ MD5: 39cdff774bdb7208e1c73892a26ccd3a ]
# PA 1.20 mro [ MD5: 55e173fa7c4aa8a39d0b12f002d01a84 ]
# SL 0.13 MRO::Compat [ MD5: 0e22f9bf6be934a1ef7ecc18c01ea6be ]
# SL 0.29 namespace::autoclean [ MD5: cb986f01f8feabc7b72cc8e09d0aa1be ]
# SL 0.27 namespace::clean [ MD5: f3e03f7f5f26391565d98357834e909b ]
# PL 1.28 overload [ MD5: c62689b45e22bba17c624608526f4735 ]
# PL 0.02 overloading [ MD5: 36e1b34f8175e036d57e51fd7d56becd ]
# SL 0.17 Package::DeprecationManager [ MD5: 93dddddd7913b016f00963197be1c5f1 ]
# SL 0.37 Package::Stash [ MD5: e40c05afed4074ecb0455b05316523e8 ]
# SA 0.28 Package::Stash::XS [ MD5: 5bafa791645794b7b7072bdefd80d787 ]
# SL 1.003002 Package::Variant [ MD5: dab12020035bf6d34adc8aa771e7df9c ]
# SA 2.3 PadWalker [ MD5: 5e80e9a7c9da8a30875f3ba47072930c ]
# SA 1.07 Params::Util [ MD5: dae515c40e02b36de308e51ddf0e8edd ]
# SA 1.29 Params::Validate [ MD5: 4533877989c6fa2c3b03cc56ba0db066 ]
# SA 1.29 Params::Validate::Constants [ MD5: a3aace4389f328e3ff0461aeff514947 ]
# SA 1.29 Params::Validate::XS [ MD5: 9e61da3ba690d844355689dbc98ae5c8 ]
# SL 0.30 Params::ValidationCompiler [ MD5: c86b40c1604b45d8559c16261fd85ed6 ]
# SL 0.30 Params::ValidationCompiler::Compiler [ MD5: c220ead17495813b8958943283b30257 ]
# SL 1.44 Params::ValidationCompiler::Exception::BadArguments [ MD5: ae9c191dabc81dfa75a1188ba9346e24 ]
# SL 1.44 Params::ValidationCompiler::Exception::Named::Extra [ MD5: ae9c191dabc81dfa75a1188ba9346e24 ]
# SL 1.44 Params::ValidationCompiler::Exception::Named::Required [ MD5: ae9c191dabc81dfa75a1188ba9346e24 ]
# SL 1.44 Params::ValidationCompiler::Exception::Positional::Extra [ MD5: ae9c191dabc81dfa75a1188ba9346e24 ]
# SL 1.44 Params::ValidationCompiler::Exception::Positional::Required [ MD5: ae9c191dabc81dfa75a1188ba9346e24 ]
# SL 1.44 Params::ValidationCompiler::Exception::ValidationFailedForMooseTypeConstraint [ MD5: ae9c191dabc81dfa75a1188ba9346e24 ]
# SL 0.30 Params::ValidationCompiler::Exceptions [ MD5: 25fc4c6b5f365fddb4a1ab812c5bcf2d ]
# PL 0.236 parent [ MD5: 0e42f824a13eae5979d10017afc8227b ]
# SL 0.37 Path::Class [ MD5: 62b3248e0d25291933a8d0f09e731547 ]
# SL 0.37 Path::Class::Dir [ MD5: 9b7bd783037e1e812d6a82d62bcecb92 ]
# SL 0.37 Path::Class::Entity [ MD5: 8e14d34b8f5a0909736e9bdaac460848 ]
# SL 0.37 Path::Class::File [ MD5: b7f9029ac9e90dc1d509a95d12103c69 ]
# 5.026002 perl [ MD5: 650d342b476c8630c6af0cbfbdd05d8c ]
# PL 1.10 PerlIO [ MD5: 66c4f1af51bbeb98e0f6ca863f8d1615 ]
# SL 0.23 Pod::Coverage [ MD5: d53035083682c2a78d56d998ad7239d2 ]
# PL 1.07 Pod::Escapes [ MD5: 66b73dccf48caa9ab161e8c3805cf955 ]
# PL 1.63 Pod::Find [ MD5: 1e09437d4c107f7ef2690f6b9995dbd7 ]
# PL 1.63 Pod::InputObjects [ MD5: 6b7a4d75d42c87da3929354fafa2a5a6 ]
# PL 1.63 Pod::Parser [ MD5: 9b166f82ac0afacbb4e2c0140725f29d ]
# SL 3.40 Pod::Simple [ MD5: e94409a756aaf6e223e7be4dffcfb554 ]
# SL 3.40 Pod::Simple::BlackBox [ MD5: 309a3ee31f0b84b770a0a1e35e4b6569 ]
# SL 3.40 Pod::Simple::LinkSection [ MD5: 8eddb2a999fa778a4cc387236e40dedf ]
# PA 1.76 POSIX [ MD5: 8aae02d248a1a31666c00a44087aa82f ]
# PA 0.34 re [ MD5: 556fa9f92f0c82877d05589af0b73acb ]
# SL 0.204 Ref::Util [ MD5: 6cbf466e6da28a59c14b1185ae73a653 ]
# SA 0.117 Ref::Util::XS [ MD5: aae385ffc545b1a3083aefa334789c0f ]
# SL 2.001004 Role::Tiny [ MD5: 84c7caa99715dff5887bae41f51f2857 ]
# SL 2.001004 Role::Tiny::With [ MD5: 55d1c22df054d80352ea593c35b7c5b2 ]
# SA 1.52_001 Scalar::Util [ MD5: f5c3ccdb2782dfe3ab1324ceb34e2449 ]
# SL 0.21 Scope::Guard [ MD5: 914494bdeb65cd340f14eae265635cf2 ]
# PL 1.02 SelectSaver [ MD5: bddc465e351ad0508581b94ef112d322 ]
# SL 0.43 Specio [ MD5: 64e3a7acd36a74e66007c9b3857c39ea ]
# SL 0.43 Specio::Coercion [ MD5: 74c35d086187e28a6fe65cd1218aabd7 ]
# SL 0.43 Specio::Constraint::AnyCan [ MD5: 3f64b12fff12926825f76bc5d813d006 ]
# SL 0.43 Specio::Constraint::Enum [ MD5: d57e211937a5dc17991c8319ce6350f1 ]
# SL 0.43 Specio::Constraint::ObjectCan [ MD5: 6e18944f3f704a0d1a205dcb3a670c15 ]
# SL 0.43 Specio::Constraint::ObjectIsa [ MD5: 56a54cf99cfea035c798ced0cea34c51 ]
# SL 0.43 Specio::Constraint::Parameterizable [ MD5: d10c834a81d44c6e277fe181bd2c2175 ]
# SL 0.43 Specio::Constraint::Parameterized [ MD5: 9b4aa21d9e2a9ce33a72b420d55891bf ]
# SL 0.43 Specio::Constraint::Role::CanType [ MD5: 3888d679a09147bd569da2bb7a8c1ed8 ]
# SL 0.43 Specio::Constraint::Role::Interface [ MD5: 5c61e952150611c37fe8808cd2533c6e ]
# SL 0.43 Specio::Constraint::Role::IsaType [ MD5: d5dcd114c4c35ca079cd958f9a9b41c9 ]
# SL 0.43 Specio::Constraint::Simple [ MD5: 332d8c1510cbf78d87d43fcf9988a672 ]
# SL 0.43 Specio::Constraint::Union [ MD5: 2d48b804946777fa72d9b926209d024d ]
# SL 0.43 Specio::Declare [ MD5: fadb7f1359053f105645b982c7c013a7 ]
# SL 0.43 Specio::DeclaredAt [ MD5: 95b8c2bf620411bcdc0cd8cb0ddaf84d ]
# SL 0.43 Specio::Exception [ MD5: 21effdc6fd09dc4d2c26a67819f0d3c4 ]
# SL 0.43 Specio::Exporter [ MD5: 57a9312ef2f44478c6e701eab3bc9ff2 ]
# SL 0.43 Specio::Helpers [ MD5: 7b272e2cfed6d9185d5dd71bc39ef093 ]
# SL 0.43 Specio::Library::Builtins [ MD5: 95b8c44fec33b68696f1067945f44838 ]
# SL 0.43 Specio::Library::Numeric [ MD5: 2c0ac7c203af5b72597772490755f6ff ]
# SL 0.43 Specio::Library::String [ MD5: a969c04c85408cbe9e2e4c2cd68c7057 ]
# SL 0.43 Specio::OO [ MD5: d7d7cef3405fbc4136ff5c0046d73035 ]
# SL 0.43 Specio::PartialDump [ MD5: b49079a3f6611f6a8aec9f66ac7ea597 ]
# SL 0.43 Specio::Registry [ MD5: 7684371905ed79c55f91af1fc2979c4c ]
# SL 0.43 Specio::Role::Inlinable [ MD5: ebcf1066e4a0fa5e7d42631e8aa164d5 ]
# SL 0.43 Specio::TypeChecks [ MD5: 3bb5e3407b970f9185008619bcb6f39f ]
# SL 1.91 SQL::Abstract::Classic [ MD5: 82c47bb99257b1225bb3576458e85992 ]
# SL SQL::Abstract::Tree [ MD5: 4ebd475571c49fd341fd961558c89c7b ]
# SL SQL::Abstract::Util [ MD5: 4599b28bcd164597e690650c495bd658 ]
# SL 0.11024 SQL::Translator [ MD5: 5fd91213b280fc91efde26604dcc3981 ]
# BLL 1.10 SQL::Translator::Parser::DBIx::Class [ MD5: a2e6513ee1189074e99c2a7753d7fb2a ]
# SL 1.59 SQL::Translator::Producer [ MD5: e741c79efb8c1678e75e4c53280210a4 ]
# BLL 0.1 SQL::Translator::Producer::DBIx::Class::File [ MD5: c69e702afc25396bd697909dc8536bf1 ]
# SL SQL::Translator::Role::BuildArgs [ MD5: da4de7404aebe70de0aaa77689a9d9a2 ]
# SL SQL::Translator::Role::Debug [ MD5: 12120b74191e9a87aca4f4fa9d3f6ae4 ]
# SL SQL::Translator::Role::Error [ MD5: fd75a6bb42465db4e3c6447beb7779d4 ]
# SL SQL::Translator::Role::ListAttr [ MD5: 9b44f5bb79226f54a5c2d66b8121583d ]
# SL 1.59 SQL::Translator::Schema [ MD5: 08b93cfcb5a324dbef7459b78994d299 ]
# SL 1.59 SQL::Translator::Schema::Constants [ MD5: 4758aab105d0c8ba8e6d14cf2a00d609 ]
# SL 1.59 SQL::Translator::Schema::Constraint [ MD5: 5b0891f237c1fe824cb64d2674def117 ]
# SL 1.59 SQL::Translator::Schema::Field [ MD5: f070932651fd83c62e75ec2609589bfd ]
# SL 1.59 SQL::Translator::Schema::Index [ MD5: a80167781d6e4d05a86d7c83903c5970 ]
# SL 1.59 SQL::Translator::Schema::Object [ MD5: b9cc554f4a37ac0968d989a7bd207881 ]
# SL 1.59 SQL::Translator::Schema::Procedure [ MD5: c1a2960dc1362b865e84efb531a60429 ]
# SL SQL::Translator::Schema::Role::Compare [ MD5: c779113b952d8a8d70a5eee87a97a0c2 ]
# SL SQL::Translator::Schema::Role::Extra [ MD5: 34c2f771146c0fd45bb22fb08c9afd77 ]
# SL 1.59 SQL::Translator::Schema::Table [ MD5: bf0698fcf15c7a3607e79201abb9a846 ]
# SL 1.59 SQL::Translator::Schema::Trigger [ MD5: 9477399c9c8721cae9eb27a948bbf330 ]
# SL 1.59 SQL::Translator::Schema::View [ MD5: 37e785ff2231f692512f3e8b56bfb3f5 ]
# SL SQL::Translator::Types [ MD5: f750930fdefdeca9559b44d101ce1761 ]
# SL 1.59 SQL::Translator::Utils [ MD5: 20d0843f7ff1ce9348a5dac2e9d32431 ]
# SA 3.15 Storable [ MD5: 69585bcc08511ae70e57bf21ba5725bd ]
# PL 1.11 strict [ MD5: 441328c7ffbbe42a0226ec65bde71715 ]
# SL 2.000005 strictures [ MD5: 2d535853e820c461539ed19f92fecbcb ]
# SL 2.006006 Sub::Defer [ MD5: d3942ab62222394a34d49d8a4e5d7e69 ]
# SL 0.987 Sub::Exporter [ MD5: aa6b0dc0ffcf3831d4cee7da6d7e8330 ]
# SL 0.100052 Sub::Exporter::ForMethods [ MD5: 50b7071f63f77815db48360df0b102c4 ]
# SL 0.001013 Sub::Exporter::Progressive [ MD5: 5f37412f2438f87c7b088c7b2e6dd8ab ]
# SL 0.987 Sub::Exporter::Util [ MD5: 9bfd22ab1afa835541f6a7d298ab90fc ]
# SA 0.14 Sub::Identify [ MD5: c5aa7af217a6440b522298715d770472 ]
# SL 0.928 Sub::Install [ MD5: f077d4c445e5cceebd5aab8460fd2d5e ]
# SA 0.26 Sub::Name [ MD5: 9ffca0ac7776cb7653a81b85330b6b71 ]
# SL 2.006006 Sub::Quote [ MD5: 5601633673df930e47b212c2022b4eec ]
# SA 1.52_001 Sub::Util [ MD5: 09882238aa69b70fec222bad9a2744e0 ]
# PL 1.08 Symbol [ MD5: f261ff12097b376fceb636639aa228c8 ]
# SL 1.302168 Test2::API [ MD5: e6270fa3231ca3e0d6432dd21b9a39fb ]
# SL 1.302168 Test2::API::Context [ MD5: 9e75d5e412bf0278381f222333d374c4 ]
# SL 1.302168 Test2::API::Instance [ MD5: 1e16286e8eff07ea1bb047199f885850 ]
# SL 1.302168 Test2::API::Stack [ MD5: a589aa3ef9571dfdaa3f0e9ab3e15c9d ]
# SL 1.302168 Test2::Event [ MD5: cf4be7f645c782fd9dc5c829a4e77225 ]
# SL 1.302168 Test2::Event::Bail [ MD5: 4ee8d787f8de1b1dc4905f9cd995739f ]
# SL 1.302168 Test2::Event::Diag [ MD5: 11f0ad1cc146ada1028f020764d1a40c ]
# SL 1.302168 Test2::Event::Exception [ MD5: 2e29d66967dd9b2a3136d445e284ebcc ]
# SL 1.302168 Test2::Event::Fail [ MD5: 94f0ca37290dbdbdd48c98686459d56d ]
# SL 1.302168 Test2::Event::Note [ MD5: 822afb19150468f72b632e87ed34edff ]
# SL 1.302168 Test2::Event::Ok [ MD5: 15afdd74cc80c1c72ba800829648ef42 ]
# SL 1.302168 Test2::Event::Pass [ MD5: c462c0a203d82c2fa058c002ce04fac1 ]
# SL 1.302168 Test2::Event::Plan [ MD5: 0dfee946f8c9f6ed78558e1ca0316876 ]
# SL 1.302168 Test2::Event::Skip [ MD5: f959508c407ec9c45d8dd7ca9c4a4146 ]
# SL 1.302168 Test2::Event::Subtest [ MD5: bee79658076b528a787edc01fa62e779 ]
# SL 1.302168 Test2::Event::V2 [ MD5: 15a1d01299056df410ddaf95a775bfd6 ]
# SL 1.302168 Test2::Event::Waiting [ MD5: 3873032656465aed02cddb35eab92916 ]
# SL 1.302168 Test2::EventFacet [ MD5: 04a0c53304ddfc61b9627e3adba5350d ]
# SL 1.302168 Test2::EventFacet::About [ MD5: 4c0f9d033b9063fa338caf6e59a91beb ]
# SL 1.302168 Test2::EventFacet::Amnesty [ MD5: 60315efee9d11bc368b4290e13038809 ]
# SL 1.302168 Test2::EventFacet::Assert [ MD5: 5f10bbb988b4142fd1a57ee8ef1716db ]
# SL 1.302168 Test2::EventFacet::Control [ MD5: 0be7f53eb56b68e16a1a7ea5ad7b057a ]
# SL 1.302168 Test2::EventFacet::Error [ MD5: 0a392763e754ddbf0aea629825032632 ]
# SL 1.302168 Test2::EventFacet::Hub [ MD5: 2e652a1b47a1313c42ef18473746e19b ]
# SL 1.302168 Test2::EventFacet::Info [ MD5: 2bbc95db783ac3ad50cb67369b30ed95 ]
# SL 1.302168 Test2::EventFacet::Meta [ MD5: 17ffe33206c7a4dc1b3e7975d4e94796 ]
# SL 1.302168 Test2::EventFacet::Parent [ MD5: 15de2c4f928b5c3a798c7bcf24a6caa9 ]
# SL 1.302168 Test2::EventFacet::Plan [ MD5: 0c1b7f9b875381e9820e03ce1c1a4f6c ]
# SL 1.302168 Test2::EventFacet::Trace [ MD5: 31106327d69fc492d0f6ca68874d9f28 ]
# SL 1.302168 Test2::Formatter [ MD5: 595822cfb2e3f7a34ec71b73b51dbba2 ]
# SL 1.302168 Test2::Formatter::TAP [ MD5: e3d6fcb3be333cb63ddc4cd79fa2e02e ]
# SL 1.302168 Test2::Hub [ MD5: 030bea64bb878db85a50109436a32c08 ]
# SL 1.302168 Test2::Hub::Interceptor [ MD5: 2c375785633e18685cc45ec97ce7e011 ]
# SL 1.302168 Test2::Hub::Interceptor::Terminator [ MD5: 9107203028d389249b3c113de256e767 ]
# SL 1.302168 Test2::Hub::Subtest [ MD5: c8a91077241fd1cded801396cdc00eba ]
# SL 1.302168 Test2::Util [ MD5: a371a9b40c0b20f26e1b4842fdf824f2 ]
# SL 1.302168 Test2::Util::ExternalMeta [ MD5: 609c6438fb010b60b50af7b9ab7329be ]
# SL 1.302168 Test2::Util::Facets2Legacy [ MD5: f7da7b6a1148151c62225883d7c65785 ]
# SL 1.302168 Test2::Util::HashBase [ MD5: eb361524310d451b5bace78d4a35c0a6 ]
# SL 1.302168 Test2::Util::Trace [ MD5: e4185a8017118ac2afbebc73c82de806 ]
# SL 1.302168 Test::Builder [ MD5: c4c960e57152139bac0b005cf4818014 ]
# SL 1.302168 Test::Builder::Formatter [ MD5: 74166d9ef2bab0fee3351a6a5e4a8042 ]
# SL 1.302168 Test::Builder::Module [ MD5: 36c12ff1f7fb584d7f54852aaa73d9cf ]
# SL 1.302168 Test::Builder::TodoDiag [ MD5: 428302f7676fc217485de275e2f15db4 ]
# SL 2.00 Test::EOL [ MD5: 863a9894c60d455a12c7c030fb075a0a ]
# SA 2.2011 Test::Moose [ MD5: d7c7b6c5f05b9b7abb9cb37ee0b2c950 ]
# SL 1.302168 Test::More [ MD5: 38371e1217dbf8dab9d70cf2c321a63a ]
# SL 2.02 Test::NoTabs [ MD5: a136a1f75f3296f62c8bdc898d4dc83e ]
# SL 1.52 Test::Pod [ MD5: 57529b9abbdd5ecf857b9c354764eb31 ]
# SL 1.10 Test::Pod::Coverage [ MD5: b751ee701f87277a9013c485f474424e ]
# SL 0.52 Test::Strict [ MD5: ef2aca15b1c442f7eaf533b540acf4ea ]
# SL 1.99 Text::CSV [ MD5: 339a3e8324ca80406b7515f31a737196 ]
# SA 1.40 Text::CSV_XS [ MD5: e9b8bbeb5c60dd64238798c6c027c169 ]
# PL 1.05 Tie::Hash [ MD5: acc4709f0adb89bef2863771b6995d2b ]
# SA 1.9760 Time::HiRes [ MD5: 0be4677ec2ce5129e71a49c0d331cc71 ]
# SL 0.30 Try::Tiny [ MD5: d89736db8fa61623ca85dcccd3678b4d ]
# SL 1.0 Types::Serialiser [ MD5: b409e70ebab79d5b48b44dde9574b411 ]
# 2.97001 Types::Serialiser::Boolean ! -f $INC{'Types/Serialiser/Boolean.pm'}
# PL 1.19 utf8 [ MD5: 1e81482deb175e2b15443c5223ec2e17 ]
# SA 0.62 Variable::Magic [ MD5: f799b01d18fef4f04032b0737bca868c ]
# PL 1.03 vars [ MD5: 613c5318b87aa69b1145ca028f964445 ]
# SA 0.9924 version [ MD5: 6a2ea5f50139835f39590496dd5cd018 ]
# SA 0.9924 version::regex [ MD5: 1804cdcea69766fe0b4587f713779d20 ]
# SA 0.9924 version::vxs [ MD5: f7b0d12a2ac2ede57d12035e68c291ff ]
# PL 1.37 warnings [ MD5: 0e16d816918d9c552dd93339cd3c7b49 ]
# PL 1.04 warnings::register [ MD5: 2d8f6ce093a2176b982c0e12c0194b3b ]
# PL 0.27 XSLoader [ MD5: 899f9728852e657e953bac9b376308bb ]
# =============================
#
# List of loadable modules within both *OPTIONAL* and core dependency chains
# present on this system (modules sourced from ./blib, ./lib, ./t, and ./xt
# with versions identical to their parent namespace were omitted for brevity)
#
# *** Note that *MANY* of these modules will *NEVER* be loaded ***
# *** during normal operation of DBIx::Class ***
#
#
t/00describe_environment.t .......................... ok
t/04_c3_mro.t ....................................... ok
t/05components.t .................................... ok
t/100extra_source.t ................................. ok
t/100populate.t ..................................... ok
t/101populate_rs.t .................................. ok
t/101source.t ....................................... ok
t/102load_classes.t ................................. ok
t/103many_to_many_warning.t ......................... ok
t/104view.t ......................................... ok
t/106dbic_carp.t .................................... ok
t/107obj_result_class.t ............................. ok
t/18insert_default.t ................................ ok
t/19retrieve_on_insert.t ............................ ok
t/20setuperrors.t ................................... ok
t/26dumper.t ........................................ ok
t/33exception_wrap.t ................................ ok
t/34exception_action.t .............................. ok
t/35exception_inaction.t ............................ ok
t/39load_namespaces_1.t ............................. ok
t/39load_namespaces_2.t ............................. ok
t/39load_namespaces_3.t ............................. ok
t/39load_namespaces_4.t ............................. ok
t/39load_namespaces_exception.t ..................... ok
t/39load_namespaces_rt41083.t ....................... ok
t/39load_namespaces_stress.t ........................ ok
t/40compose_connection.t ............................ ok
t/40resultsetmanager.t .............................. ok
t/46where_attribute.t ............................... ok
t/50fork.t .......................................... skipped: Set $ENV{DBICTEST_PG_DSN}, _USER and _PASS to run this test (note: creates and drops a table named artist!)
t/51threadnodb.t .................................... ok
t/51threads.t ....................................... skipped: Set $ENV{DBICTEST_PG_DSN}, _USER and _PASS to run this test (note: creates and drops a table named artist!)
t/51threadtxn.t ..................................... skipped: Set $ENV{DBICTEST_PG_DSN}, _USER and _PASS to run this test (note: creates and drops a table named artist!)
t/52leaks.t ......................................... ok
t/53lean_startup.t .................................. ok
t/55namespaces_cleaned.t ............................ ok
t/60core.t .......................................... ok
t/61findnot.t ....................................... ok
t/63register_class.t ................................ ok
t/63register_column.t ............................... ok
t/63register_source.t ............................... ok
t/64db.t ............................................ ok
t/65multipk.t ....................................... ok
t/67pager.t ......................................... ok
t/69update.t ........................................ ok
t/70auto.t .......................................... ok
t/71mysql.t ......................................... skipped: Set $ENV{DBICTEST_MYSQL_DSN}, _USER and _PASS to run this test
t/72pg.t ............................................ skipped: Set $ENV{DBICTEST_PG_DSN}, _USER and _PASS to run this test
t/72pg_bytea.t ...................................... skipped: Set $ENV{DBICTEST_PG_DSN}, _USER and _PASS to run this test
t/73oracle.t ........................................ skipped: Set $ENV{DBICTEST_ORA_DSN}, _USER and _PASS to run this test.
t/73oracle_blob.t ................................... skipped: Set $ENV{DBICTEST_ORA_DSN}, _USER and _PASS to run this test.
t/73oracle_hq.t ..................................... skipped: Set $ENV{DBICTEST_ORA_DSN}, _USER and _PASS to run this test.
t/745db2.t .......................................... skipped: Set $ENV{DBICTEST_DB2_DSN}, _USER and _PASS to run this test
t/746db2_400.t ...................................... skipped: Set $ENV{DBICTEST_DB2_400_DSN}, _USER and _PASS to run this test
t/746mssql.t ........................................ skipped: Set $ENV{DBICTEST_MSSQL_ODBC_DSN}, _USER and _PASS to run this test
t/746sybase.t ....................................... skipped: Set $ENV{DBICTEST_SYBASE_DSN}, _USER and _PASS to run this test. Warning: This test drops and creates the tables: 'artist', 'money_test' and 'bindtype_test'
t/747mssql_ado.t .................................... skipped: Set $ENV{DBICTEST_MSSQL_ADO_DSN}, _USER and _PASS to run this test
t/748informix.t ..................................... skipped: Set $ENV{DBICTEST_INFORMIX_DSN}, _USER and _PASS to run this test
t/749sqlanywhere.t .................................. skipped: Set $ENV{DBICTEST_SQLANYWHERE_DSN} and/or $ENV{DBICTEST_SQLANYWHERE_ODBC_DSN},
t/74mssql.t ......................................... skipped: Set $ENV{DBICTEST_MSSQL_DSN}, _USER and _PASS to run this test
t/750firebird.t ..................................... skipped: Set $ENV{DBICTEST_FIREBIRD_DSN} and/or $ENV{DBICTEST_FIREBIRD_INTERBASE_DSN} and/or $ENV{DBICTEST_FIREBIRD_ODBC_DSN}, _USER and _PASS to run these tests. WARNING: this test creates and drops the tables "artist", "bindtype_test" and "sequence_test"; the generators "gen_artist_artistid", "pkid1_seq", "pkid2_seq" and "nonpkid_seq" and the trigger "artist_bi".
t/751msaccess.t ..................................... skipped: Set $ENV{DBICTEST_MSACCESS_ODBC_DSN} and/or $ENV{DBICTEST_MSACCESS_ADO_DSN} (and optionally _USER and _PASS) to run these tests.
t/752sqlite.t ....................................... ok
t/76joins.t ......................................... ok
t/76select.t ........................................ ok
t/77join_count.t .................................... ok
t/78self_referencial.t .............................. ok
t/79aliasing.t ...................................... ok
t/80unique.t ........................................ ok
t/82cascade_copy.t .................................. ok
t/83cache.t ......................................... ok
t/84serialize.t ..................................... ok
t/85utf8.t .......................................... ok
t/86might_have.t .................................... ok
t/86sqlt.t .......................................... ok
t/87ordered.t ....................................... ok
t/88result_set_column.t ............................. ok
t/90ensure_class_loaded.t ........................... ok
t/90join_torture.t .................................. ok
t/91merge_joinpref_attr.t ........................... ok
t/93autocast.t ...................................... ok
t/93single_accessor_object.t ........................ ok
t/94pk_mutation.t ................................... ok
t/94versioning.t .................................... skipped: Set $ENV{DBICTEST_MYSQL_DSN}, _USER and _PASS to run this test
t/96_is_deteministic_value.t ........................ ok
t/97result_class.t .................................. ok
t/99dbic_sqlt_parser.t .............................. ok
t/admin/01load.t .................................... skipped: Test needs MooseX::Types::JSON >= 0.02 (see DBIx::Class::Optional::Dependencies for details)
t/admin/02ddl.t ..................................... skipped: Test needs MooseX::Types::JSON >= 0.02 (see DBIx::Class::Optional::Dependencies for details)
t/admin/03data.t .................................... skipped: Test needs MooseX::Types::JSON >= 0.02 (see DBIx::Class::Optional::Dependencies for details)
t/admin/10script.t .................................. skipped: Test needs JSON::DWIW, MooseX::Types::JSON >= 0.02
t/cdbi/01-columns.t ................................. skipped: Class::DBI required for this test
t/cdbi/02-Film.t .................................... skipped: Class::DBI required for this test
t/cdbi/03-subclassing.t ............................. skipped: Class::DBI required for this test
t/cdbi/04-lazy.t .................................... skipped: Class::DBI required for this test
t/cdbi/06-hasa.t .................................... skipped: Class::DBI required for this test
t/cdbi/08-inheritcols.t ............................. skipped: Class::DBI required for this test
t/cdbi/09-has_many.t ................................ skipped: Class::DBI required for this test
t/cdbi/11-triggers.t ................................ skipped: Class::DBI required for this test
t/cdbi/12-filter.t .................................. skipped: Class::DBI required for this test
t/cdbi/13-constraint.t .............................. skipped: Class::DBI required for this test
t/cdbi/14-might_have.t .............................. skipped: Class::DBI required for this test
t/cdbi/15-accessor.t ................................ skipped: Class::DBI required for this test
t/cdbi/16-reserved.t ................................ skipped: Class::DBI required for this test
t/cdbi/18-has_a.t ................................... skipped: Class::DBI required for this test
t/cdbi/19-set_sql.t ................................. skipped: Class::DBI required for this test
t/cdbi/21-iterator.t ................................ skipped: Class::DBI required for this test
t/cdbi/22-deflate_order.t ........................... skipped: Class::DBI required for this test
t/cdbi/22-self_referential.t ........................ skipped: Class::DBI required for this test
t/cdbi/23-cascade.t ................................. skipped: Class::DBI required for this test
t/cdbi/24-meta_info.t ............................... skipped: Class::DBI required for this test
t/cdbi/26-mutator.t ................................. skipped: Class::DBI required for this test
t/cdbi/30-pager.t ................................... skipped: Class::DBI required for this test
t/cdbi/68-inflate_has_a.t ........................... skipped: Class::DBI required for this test
t/cdbi/70_implicit_inflate.t ........................ skipped: Class::DBI required for this test
t/cdbi/71_column_object.t ........................... skipped: The tested functionality is only available in Class::DBI >= 3.0.5
t/cdbi/98-failure.t ................................. skipped: Class::DBI required for this test
t/cdbi/abstract/search_where.t ...................... skipped: Class::DBI required for this test
t/cdbi/columns_as_hashes.t .......................... skipped: Class::DBI required for this test
t/cdbi/columns_dont_override_custom_accessors.t ..... skipped: Class::DBI required for this test
t/cdbi/construct.t .................................. skipped: Class::DBI required for this test
t/cdbi/copy.t ....................................... skipped: Class::DBI required for this test
t/cdbi/DeepAbstractSearch/01_search.t ............... skipped: Class::DBI required for this test
t/cdbi/early_column_heisenbug.t ..................... skipped: Class::DBI required for this test
t/cdbi/has_many_loads_foreign_class.t ............... skipped: Class::DBI required for this test
t/cdbi/hasa_without_loading.t ....................... skipped: Class::DBI required for this test
t/cdbi/max_min_value_of.t ........................... skipped: Class::DBI required for this test
t/cdbi/mk_group_accessors.t ......................... skipped: Class::DBI required for this test
t/cdbi/multi_column_set.t ........................... skipped: Class::DBI required for this test
t/cdbi/object_cache.t ............................... skipped: Class::DBI required for this test
t/cdbi/retrieve_from_sql_with_limit.t ............... skipped: Class::DBI required for this test
t/cdbi/set_to_undef.t ............................... skipped: Class::DBI required for this test
t/cdbi/set_vs_DateTime.t ............................ skipped: Class::DBI required for this test
t/cdbi/sweet/08pager.t .............................. skipped: Class::DBI required for this test
t/count/count_rs.t .................................. ok
t/count/distinct.t .................................. ok
t/count/group_by_func.t ............................. ok
t/count/grouped_pager.t ............................. ok
t/count/in_subquery.t ............................... ok
t/count/joined.t .................................... ok
t/count/prefetch.t .................................. ok
t/count/search_related.t ............................ ok
t/debug/bulk-insert.t ............................... ok
t/debug/core.t ...................................... ok
t/debug/no-repeats.t ................................ ok
t/debug/pretty.t .................................... ok
t/debug/show-progress.t ............................. ok
t/delete/cascade_missing.t .......................... ok
t/delete/complex.t .................................. ok
t/delete/m2m.t ...................................... ok
t/delete/related.t .................................. ok
t/discard_changes_in_DESTROY.t ...................... ok
t/inflate/core.t .................................... ok
t/inflate/datetime.t ................................ ok
t/inflate/datetime_determine_parser.t ............... ok
t/inflate/datetime_firebird.t ....................... skipped: Set $ENV{DBICTEST_FIREBIRD_DSN} and/or $ENV{DBICTEST_FIREBIRD_INTERBASE_DSN} and/or $ENV{DBICTEST_FIREBIRD_ODBC_DSN}, _USER and _PASS to run these tests. WARNING: This test drops and creates a table called 'event'
t/inflate/datetime_informix.t ....................... skipped: Set $ENV{DBICTEST_INFORMIX_DSN} _USER and _PASS to run this test'.
t/inflate/datetime_missing_deps.t ................... ok
t/inflate/datetime_msaccess.t ....................... skipped: Set $ENV{DBICTEST_MSACCESS_ODBC_DSN} and/or $ENV{DBICTEST_MSACCESS_ADO_DSN} (and optionally _USER and _PASS) to run these tests.
t/inflate/datetime_mssql.t .......................... skipped: Set $ENV{DBICTEST_MSSQL_ODBC_DSN} and/or $ENV{DBICTEST_MSSQL_DSN} and/or $ENV{DBICTEST_MSSQL_ADO_DSN} _USER and _PASS to run this test
t/inflate/datetime_mysql.t .......................... ok
t/inflate/datetime_oracle.t ......................... skipped: Set $ENV{DBICTEST_ORA_DSN}, _USER and _PASS to run this test. Warning: This test drops and creates a table called 'event'
t/inflate/datetime_pg.t ............................. ok
t/inflate/datetime_sqlanywhere.t .................... skipped: Set $ENV{DBICTEST_SQLANYWHERE_DSN} and/or $ENV{DBICTEST_SQLANYWHERE_ODBC_DSN}
t/inflate/datetime_sybase.t ......................... skipped: Set $ENV{DBICTEST_SYBASE_DSN}, _USER and _PASS to run this test
t/inflate/file_column.t ............................. ok
t/inflate/hri.t ..................................... ok
t/inflate/hri_torture.t ............................. ok
t/inflate/serialize.t ............................... ok
t/multi_create/cd_single.t .......................... ok
t/multi_create/diamond.t ............................ ok
t/multi_create/existing_in_chain.t .................. ok
t/multi_create/find_or_multicreate.t ................ ok
t/multi_create/has_many.t ........................... ok
t/multi_create/in_memory.t .......................... ok
t/multi_create/insert_defaults.t .................... ok
t/multi_create/m2m.t ................................ ok
t/multi_create/multilev_single_PKeqFK.t ............. ok
t/multi_create/reentrance_count.t ................... skipped: Disable test entirely until multicreate is rewritten in terms of subqueries
t/multi_create/standard.t ........................... ok
t/multi_create/torture.t ............................ ok
t/ordered/cascade_delete.t .......................... ok
t/ordered/unordered_movement.t ...................... ok
t/prefetch/attrs_untouched.t ........................ ok
t/prefetch/correlated.t ............................. ok
t/prefetch/count.t .................................. ok
t/prefetch/diamond.t ................................ ok
t/prefetch/double_prefetch.t ........................ ok
t/prefetch/empty_cache.t ............................ ok
t/prefetch/false_colvalues.t ........................ ok
t/prefetch/grouped.t ................................ ok
t/prefetch/incomplete.t ............................. ok
t/prefetch/join_type.t .............................. ok
t/prefetch/lazy_cursor.t ............................ ok
t/prefetch/manual.t ................................. ok
t/prefetch/multiple_hasmany.t ....................... ok
t/prefetch/multiple_hasmany_torture.t ............... ok
t/prefetch/o2m_o2m_order_by_with_limit.t ............ ok
t/prefetch/one_to_many_to_one.t ..................... ok
t/prefetch/refined_search_on_relation.t ............. ok
t/prefetch/restricted_children_set.t ................ ok
t/prefetch/standard.t ............................... ok
t/prefetch/via_search_related.t ..................... ok
t/prefetch/with_limit.t ............................. ok
t/relationship/after_update.t ....................... ok
t/relationship/core.t ............................... ok
t/relationship/custom.t ............................. ok
t/relationship/custom_opaque.t ...................... ok
t/relationship/custom_with_null_in_cond.t ........... ok
t/relationship/doesnt_exist.t ....................... ok
t/relationship/dynamic_foreign_columns.t ............ ok
t/relationship/info.t ............................... ok
t/relationship/malformed_declaration.t .............. ok
t/relationship/proxy.t .............................. ok
t/relationship/set_column_on_fk.t ................... ok
t/relationship/unresolvable.t ....................... ok
t/relationship/update_or_create_multi.t ............. ok
t/relationship/update_or_create_single.t ............ ok
t/resultset/as_query.t .............................. ok
t/resultset/as_subselect_rs.t ....................... ok
t/resultset/bind_attr.t ............................. ok
t/resultset/find_on_subquery_cond.t ................. ok
t/resultset/inflate_result_api.t .................... ok
t/resultset/inflatemap_abuse.t ...................... ok
t/resultset/is_ordered.t ............................ ok
t/resultset/is_paged.t .............................. ok
t/resultset/nulls_only.t ............................ ok
t/resultset/plus_select.t ........................... ok
t/resultset/rowparser_internals.t ................... ok
t/resultset/update_delete.t ......................... ok
t/resultset_class.t ................................. ok
t/resultset_overload.t .............................. ok
t/resultsource/bare_resultclass_exception.t ......... ok
t/resultsource/set_primary_key.t .................... ok
t/row/copy_with_extra_selection.t ................... ok
t/row/filter_column.t ............................... ok
t/row/find_one_has_many.t ........................... ok
t/row/inflate_result.t .............................. ok
t/row/pkless.t ...................................... ok
t/row/set_extra_column.t ............................ ok
t/schema/anon.t ..................................... ok
t/schema/clone.t .................................... ok
t/search/deprecated_attributes.t .................... ok
t/search/distinct.t ................................. ok
t/search/empty_attrs.t .............................. ok
t/search/preserve_original_rs.t ..................... ok
t/search/reentrancy.t ............................... ok
t/search/related_has_many.t ......................... ok
t/search/related_strip_prefetch.t ................... ok
t/search/select_chains.t ............................ ok
t/search/select_chains_unbalanced.t ................. ok
t/search/stack_cond.t ............................... ok
t/search/subquery.t ................................. ok
t/search/void.t ..................................... ok
t/sqlmaker/bind_transport.t ......................... ok
t/sqlmaker/core.t ................................... ok
t/sqlmaker/core_quoted.t ............................ ok
t/sqlmaker/dbihacks_internals.t ..................... ok
t/sqlmaker/hierarchical/oracle.t .................... skipped: Test needs Math::Base36 >= 0.07
t/sqlmaker/legacy_joins.t ........................... ok
t/sqlmaker/limit_dialects/basic.t ................... ok
t/sqlmaker/limit_dialects/custom.t .................. ok
t/sqlmaker/limit_dialects/fetch_first.t ............. ok
t/sqlmaker/limit_dialects/first_skip.t .............. ok
t/sqlmaker/limit_dialects/generic_subq.t ............ ok
t/sqlmaker/limit_dialects/mssql_torture.t ........... ok
t/sqlmaker/limit_dialects/rno.t ..................... ok
t/sqlmaker/limit_dialects/rownum.t .................. ok
t/sqlmaker/limit_dialects/skip_first.t .............. ok
t/sqlmaker/limit_dialects/toplimit.t ................ ok
t/sqlmaker/limit_dialects/torture.t ................. ok
t/sqlmaker/literal_with_bind.t ...................... ok
t/sqlmaker/msaccess.t ............................... ok
t/sqlmaker/mysql.t .................................. ok
t/sqlmaker/nest_deprec.t ............................ ok
t/sqlmaker/oracle.t ................................. skipped: Test needs Math::Base36 >= 0.07
t/sqlmaker/oraclejoin.t ............................. skipped: Test needs Math::Base36 >= 0.07
t/sqlmaker/order_by_bindtransport.t ................. ok
t/sqlmaker/order_by_func.t .......................... ok
t/sqlmaker/pg.t ..................................... ok
t/sqlmaker/quotes.t ................................. ok
t/sqlmaker/rebase.t ................................. ok
t/sqlmaker/sqlite.t ................................. ok
t/storage/base.t .................................... ok
t/storage/cursor.t .................................. ok
t/storage/dbh_do.t .................................. ok
t/storage/dbi_coderef.t ............................. ok
t/storage/dbi_env.t ................................. ok
t/storage/deploy.t .................................. ok
t/storage/deprecated_exception_source_bind_attrs.t .. ok
t/storage/disable_sth_caching.t ..................... ok
t/storage/error.t ................................... ok
t/storage/exception.t ............................... ok
t/storage/global_destruction.t ...................... ok
t/storage/nobindvars.t .............................. ok
t/storage/on_connect_call.t ......................... ok
t/storage/on_connect_do.t ........................... ok
t/storage/ping_count.t .............................. ok
t/storage/prefer_stringification.t .................. ok
t/storage/quote_names.t ............................. ok
t/storage/reconnect.t ............................... ok
t/storage/replicated.t .............................. ok
t/storage/savepoints.t .............................. ok
t/storage/stats.t ................................... ok
t/storage/txn.t ..................................... ok
t/storage/txn_scope_guard.t ......................... ok
t/update/all.t ...................................... ok
t/update/ident_cond.t ............................... ok
t/update/type_aware.t ............................... ok
#
#
#
# 208 contributors made this library what it is today
#
#
# Distinguished patrons:
# * ( 2014 ~ 2015 ) Henry Van Styn, creator of http://p3rl.org/RapidApp
#
#
t/zzzzzzz_authors.t ................................. ok
t/zzzzzzz_perl_perf_bug.t ........................... skipped: Skipping as system appears to be a smoker
t/zzzzzzz_sqlite_deadlock.t ......................... ok
xt/authors.t ........................................ ok
xt/dbictest_unlink_guard.t .......................... ok
xt/footers.t ........................................ ok
xt/old_envvars.t .................................... ok
xt/optional_deps.t .................................. ok
xt/pod.t ............................................ ok
xt/podcoverage.t .................................... ok
xt/quote_sub.t ...................................... ok
xt/standalone_testschema_resultclasses.t ............ ok
xt/strictures.t ..................................... ok
xt/whitespace.t ..................................... ok
All tests successful.
Test Summary Report
-------------------
t/sqlmaker/limit_dialects/generic_subq.t (Wstat: 0 Tests: 19 Failed: 0)
TODO passed: 9, 11, 13, 15, 17
Files=323, Tests=45873, 247 wallclock secs ( 2.69 usr 2.45 sys + 122.87 cusr 19.83 csys = 147.84 CPU)
Result: PASS
------------------------------
PREREQUISITES
------------------------------
Prerequisite modules loaded:
requires:
Module Need Have
------------------------ -------- --------
Class::Accessor::Grouped 0.10012 0.10014
Class::C3::Componentised 1.0009 1.001002
Class::Inspector 1.24 1.36
Config::Any 0.20 0.32
Context::Preserve 0.01 0.03
Data::Dumper::Concise 2.020 2.023
Data::Page 2.00 2.03
DBD::SQLite 1.29 1.64
DBI 1.57 1.642
Devel::GlobalDestruction 0.09 0.14
File::Temp 0.22 0.2309
Hash::Merge 0.12 0.300
Module::Find 0.07 0.13
Moo 2.000 2.003006
MRO::Compat 0.12 0.13
namespace::clean 0.24 0.27
Package::Stash 0.28 0.37
Path::Class 0.18 0.37
perl 5.008001 5.026002
Scope::Guard 0.03 0.21
SQL::Abstract::Classic 1.91 1.91
Sub::Name 0.04 0.26
Test::Deep 0.101 1.128
Test::Exception 0.31 0.43
Test::More 0.94 1.302168
Test::Warn 0.21 0.36
Text::Balanced 2.00 2.03
Try::Tiny 0.07 0.30
build_requires:
Module Need Have
------------------------ -------- --------
DBD::SQLite 1.29 1.64
ExtUtils::MakeMaker 6.59 7.37_03
File::Temp 0.22 0.2309
Package::Stash 0.28 0.37
Test::Deep 0.101 1.128
Test::Exception 0.31 0.43
Test::More 0.94 1.302168
Test::Warn 0.21 0.36
configure_requires:
Module Need Have
------------------------ -------- --------
ExtUtils::MakeMaker 6.59 7.37_03
------------------------------
ENVIRONMENT AND OTHER CONTEXT
------------------------------
Environment variables:
AUTOMATED_TESTING = 1
LANG = en_US.UTF-8
PATH = /home/sand/bin:/usr/local/bin:/usr/bin:/bin:/usr/games:/usr/local/perl/bin:/usr/X11/bin:/sbin:/usr/sbin
PERL5LIB =
PERL5OPT =
PERL5_CPANPLUS_IS_RUNNING = 9175
PERL5_CPAN_IS_RUNNING = 9175
PERL_CANARY_STABILITY_NOPROMPT = 1
PERL_MM_USE_DEFAULT = 1
PERL_USE_UNSAFE_INC = 1
SHELL = /usr/bin/zsh
TERM = screen
Perl special variables (and OS-specific diagnostics, for MSWin32):
$^X = /home/sand/src/perl/repoperls/installed-perls/host/k93msid/v5.26.2/8854/bin/perl
$UID/$EUID = 1005 / 1005
$GID = 1005 1005
$EGID = 1005 1005
Perl module toolchain versions installed:
Module Have
------------------- --------
CPAN 2.27
CPAN::Meta 2.150010
Cwd 3.75
ExtUtils::CBuilder 0.280231
ExtUtils::Command 7.37_03
ExtUtils::Install 2.06
ExtUtils::MakeMaker 7.37_03
ExtUtils::Manifest 1.70
ExtUtils::ParseXS 3.35
File::Spec 3.75
JSON 4.02
JSON::PP 2.97001
Module::Build 0.4229
Module::Signature 0.83
Parse::CPAN::Meta 2.150010
Test::Harness 3.42
Test::More 1.302168
YAML 1.29
YAML::Syck 1.31
version 0.9924
--
Summary of my perl5 (revision 5 version 26 subversion 2) configuration:
Commit id: c5b1997939178730653db9e80f90cd53d722fe8d
Platform:
osname=linux
osvers=4.18.0-2-amd64
archname=x86_64-linux-thread-multi-ld
uname='linux k93msid 4.18.0-2-amd64 #1 smp debian 4.18.10-2 (2018-10-07) x86_64 gnulinux '
config_args='-Dprefix=/home/sand/src/perl/repoperls/installed-perls/host/k93msid/v5.26.2/8854 -Dmyhostname=k93msid -Dinstallusrbinperl=n -Uversiononly -Dusedevel -des -Ui_db -Dlibswanted=cl pthread socket inet nsl gdbm dbm malloc dl ld sun m crypt sec util c cposix posix ucb BSD gdbm_compat -Duseithreads -Duselongdouble -DEBUGGING=-g'
hint=recommended
useposix=true
d_sigaction=define
useithreads=define
usemultiplicity=define
use64bitint=define
use64bitall=define
uselongdouble=define
usemymalloc=n
default_inc_excludes_dot=define
bincompat5005=undef
Compiler:
cc='cc'
ccflags ='-D_REENTRANT -D_GNU_SOURCE -fwrapv -fno-strict-aliasing -pipe -fstack-protector-strong -I/usr/local/include -D_LARGEFILE_SOURCE -D_FILE_OFFSET_BITS=64'
optimize='-O2 -g'
cppflags='-D_REENTRANT -D_GNU_SOURCE -fwrapv -fno-strict-aliasing -pipe -fstack-protector-strong -I/usr/local/include'
ccversion=''
gccversion='8.2.0'
gccosandvers=''
intsize=4
longsize=8
ptrsize=8
doublesize=8
byteorder=12345678
doublekind=3
d_longlong=define
longlongsize=8
d_longdbl=define
longdblsize=16
longdblkind=3
ivtype='long'
ivsize=8
nvtype='long double'
nvsize=16
Off_t='off_t'
lseeksize=8
alignbytes=16
prototype=define
Linker and Libraries:
ld='cc'
ldflags =' -fstack-protector-strong -L/usr/local/lib'
libpth=/usr/local/lib /usr/lib/gcc/x86_64-linux-gnu/8/include-fixed /usr/include/x86_64-linux-gnu /usr/lib /lib/x86_64-linux-gnu /lib/../lib /usr/lib/x86_64-linux-gnu /usr/lib/../lib /lib
libs=-lpthread -lnsl -ldl -lm -lcrypt -lutil -lc
perllibs=-lpthread -lnsl -ldl -lm -lcrypt -lutil -lc
libc=libc-2.27.so
so=so
useshrplib=false
libperl=libperl.a
gnulibc_version='2.27'
Dynamic Linking:
dlsrc=dl_dlopen.xs
dlext=so
d_dlsymun=undef
ccdlflags='-Wl,-E'
cccdlflags='-fPIC'
lddlflags='-shared -O2 -g -L/usr/local/lib -fstack-protector-strong'
Characteristics of this binary (from libperl):
Compile-time options:
HAS_TIMES
MULTIPLICITY
PERLIO_LAYERS
PERL_COPY_ON_WRITE
PERL_DONT_CREATE_GVSV
PERL_IMPLICIT_CONTEXT
PERL_MALLOC_WRAP
PERL_OP_PARENT
PERL_PRESERVE_IVUV
PERL_USE_DEVEL
USE_64_BIT_ALL
USE_64_BIT_INT
USE_ITHREADS
USE_LARGE_FILES
USE_LOCALE
USE_LOCALE_COLLATE
USE_LOCALE_CTYPE
USE_LOCALE_NUMERIC
USE_LOCALE_TIME
USE_LONG_DOUBLE
USE_PERLIO
USE_PERL_ATOF
USE_REENTRANT_API
Built under linux
Compiled at Oct 27 2018 20:54:46
%ENV:
PERL5LIB=""
PERL5OPT=""
PERL5_CPANPLUS_IS_RUNNING="9175"
PERL5_CPAN_IS_RUNNING="9175"
PERL_CANARY_STABILITY_NOPROMPT="1"
PERL_MM_USE_DEFAULT="1"
PERL_USE_UNSAFE_INC="1"
@INC:
/home/sand/src/perl/repoperls/installed-perls/host/k93msid/v5.26.2/8854/lib/site_perl/5.26.2/x86_64-linux-thread-multi-ld
/home/sand/src/perl/repoperls/installed-perls/host/k93msid/v5.26.2/8854/lib/site_perl/5.26.2
/home/sand/src/perl/repoperls/installed-perls/host/k93msid/v5.26.2/8854/lib/5.26.2/x86_64-linux-thread-multi-ld
/home/sand/src/perl/repoperls/installed-perls/host/k93msid/v5.26.2/8854/lib/5.26.2
.