Report for Soar-Production-0.03

Back
From: metabase:user:31dd1d2e-2aae-11df-837a-5e0a49663a4f
Subject: PASS Soar-Production-0.03 v5.16.3 
Date: 2013-09-29T19:22:21Z

This distribution has been tested as part of the CPAN Testers
project, supporting the Perl programming language.  See
http://wiki.cpantesters.org/ for more information or email
questions to cpan-testers-discuss@perl.org


--
Dear Nathan Gary Glenn,

This is a computer-generated report for Soar-Production-0.03
on perl 5.16.3, created by CPAN-Reporter-1.2010.

Thank you for uploading your work to CPAN.  Congratulations!
All tests were successful.

Sections of this report:

    * Tester comments
    * Program output
    * Prerequisites
    * Environment and other context

------------------------------
TESTER COMMENTS
------------------------------

Additional comments from tester:

this report is from an automated smoke testing program
and was not reviewed by a human for accuracy

------------------------------
PROGRAM OUTPUT
------------------------------

Output from 'c:\Perl1664\bin\perl.exe ./Build test':

t/0-use.t ........................ ok
t/00-compile.t ................... ok
# 
# 
# Generated by Dist::Zilla::Plugin::ReportVersions::Tiny v1.08
# perl: 5.016003 (wanted 5.010) on MSWin32 from c:\Perl1664\bin\perl.exe
# 
# Carp                                          => 1.26       (want any version)
# Data::Diver                                   => 1.0101     (want any version)
# Data::Dumper                                  => 2.139      (want any version)
# Exporter::Easy                                => 0.16       (want any version)
# File::Find                                    => 1.20       (want any version)
# File::Spec                                    => 3.40       (want any version)
# File::Spec::Functions                         => 3.40       (want any version)
# File::Temp                                    => 0.2302     (want any version)
# FindBin                                       => 1.51       (want any version)
# Module::Build                                 => 0.4003     (want 0.3601) 
# Parse::RecDescent                             => 1.967009   (want any version)
# Path::Tiny                                    => 0.037      (want any version)
# Pod::Coverage::TrustPod                       => module not found. (want any version)
# Test::Base                                    => 0.60       (want any version)
# Test::Base::Filter                            => <undef>    (want any version)
# Test::CPAN::Meta                              => module not found. (want any version)
# Test::Deep                                    => 0.11       (want any version)
# Test::Exception                               => 0.31       (want any version)
# Test::LongString                              => 0.15       (want any version)
# Test::More                                    => 0.98       (want 0.88)   
# Test::Pod                                     => module not found. (want 1.41)   
# Test::Pod::Coverage                           => module not found. (want 1.08)   
# Test::Warn                                    => 0.24       (want any version)
# strict                                        => 1.07       (want any version)
# utf8                                          => 1.09       (want any version)
# version                                       => 0.9902     (want 0.9901) 
# warnings                                      => 1.13       (want any version)
# 
# Thanks for using my code.  I hope it works for you.
# If not, please try and include this output in the bug report.
# That will help me reproduce the issue and solve your problem.
# 
t/000-report-versions-tiny.t ..... ok
t/1-basic.t ...................... ok
t/parser/00-use.t ................ ok
t/parser/01-bad_input.t .......... ok
t/parser/01_5-comments.t ......... ok
t/parser/02-split-productions.t .. ok
t/parser/03-production-names.t ... ok
t/parser/04-documentation.t ...... ok
t/parser/05-Flags.t .............. ok
t/parser/06-State.t .............. ok
t/parser/07-variables.t .......... ok
t/parser/08-attributes.t ......... ok
t/parser/09-int.t ................ ok
t/parser/10-float.t .............. ok
t/parser/11-string.t ............. ok
t/parser/12-quoted.t ............. ok
t/parser/13-disjunct.t ........... ok
t/parser/14-conjunct.t ........... ok
t/parser/15-predicate.t .......... ok
t/parser/16-preference.t ......... ok
t/parser/17-function.t ........... ok
t/parser/18-negative.t ........... ok
t/parser/19-conjunctiveCond.t .... ok
t/parser/20-test_data.t .......... ok
t/printer/0-use.t ................ ok
t/printer/1-test_data.t .......... ok
All tests successful.
Files=28, Tests=1816, 112 wallclock secs ( 0.28 usr +  0.09 sys =  0.37 CPU)
Result: PASS

------------------------------
PREREQUISITES
------------------------------

Prerequisite modules loaded:

requires:

    Module                Need   Have    
    --------------------- ------ --------
    Carp                  0      1.26    
    Data::Dumper          0      2.139   
    Exporter::Easy        0      0.16    
    Parse::RecDescent     0      1.967009
    perl                  5.010  5.016003
    strict                0      1.07    
    warnings              0      1.13    

build_requires:

    Module                Need   Have    
    --------------------- ------ --------
    Data::Diver           0      1.0101  
    File::Find            0      1.20    
    File::Spec            0      3.40    
    File::Spec::Functions 0      3.40    
    File::Temp            0      0.2302  
    FindBin               0      1.51    
    Module::Build         0.3601 0.4003  
    Path::Tiny            0      0.037   
    Test::Base            0      0.60    
    Test::Base::Filter    0      0       
    Test::Deep            0      0.110   
    Test::Exception       0      0.31    
    Test::LongString      0      0.15    
    Test::More            0.88   0.98    
    Test::Warn            0      0.24    
    utf8                  0      1.09    

configure_requires:

    Module                Need   Have    
    --------------------- ------ --------
    Module::Build         0.3601 0.4003  


------------------------------
ENVIRONMENT AND OTHER CONTEXT
------------------------------

Environment variables:

    ACTIVEPERL_CONFIG_SILENT = 1
    AUTOMATED_TESTING = 1
    COMSPEC = C:\Windows\system32\cmd.exe
    NUMBER_OF_PROCESSORS = 2
    PATH = c:\Perl1664\site\bin;c:\Perl1664\bin;C:\Program Files (x86)\NVIDIA Corporation\PhysX\Common;%CommonProgramFiles%\Microsoft Shared\Windows Live;C:\Program Files (x86)\ActiveState Komodo IDE 6\;C:\Program Files (x86)\PC Connectivity Solution\;C:\Windows\system32;C:\Windows;C:\Windows\System32\Wbem;C:\Windows\System32\WindowsPowerShell\v1.0\;C:\Program Files\TortoiseSVN\bin;C:\Program Files (x86)\Git\cmd;C:\Program Files\TortoiseGit\bin;C:\Program Files (x86)\OpenVPN\bin
    PERL5LIB = C:\perl1664\cpan\build\Test-Warn-0.24-MaKH3n/blib/arch;C:\perl1664\cpan\build\Test-Warn-0.24-MaKH3n/blib/lib;C:\perl1664\cpan\build\Tree-DAG_Node-1.18-8LK82G/blib/arch;C:\perl1664\cpan\build\Tree-DAG_Node-1.18-8LK82G/blib/lib;C:\perl1664\cpan\build\File-Slurp-9999.19-DAQAXh/blib/arch;C:\perl1664\cpan\build\File-Slurp-9999.19-DAQAXh/blib/lib;C:\perl1664\cpan\build\Parse-RecDescent-1.967009-IwhKT8/blib/arch;C:\perl1664\cpan\build\Parse-RecDescent-1.967009-IwhKT8/blib/lib;C:\perl1664\cpan\build\Test-LongString-0.15-4TC6nI/blib/arch;C:\perl1664\cpan\build\Test-LongString-0.15-4TC6nI/blib/lib;C:\perl1664\cpan\build\Test-Deep-0.110-ZT5a02/blib/arch;C:\perl1664\cpan\build\Test-Deep-0.110-ZT5a02/blib/lib;C:\perl1664\cpan\build\Data-Diver-1.0101-icvLPi/blib/arch;C:\perl1664\cpan\build\Data-Diver-1.0101-icvLPi/blib/lib;C:\perl1664\cpan\build\Exporter-Easy-0.16-QyEnVI/blib/arch;C:\perl1664\cpan\build\Exporter-Easy-0.16-QyEnVI/blib/lib;C:\perl1664\cpan\build\Test-Base-0.60-SHoaTx/blib/arch;C:\perl1664\cpan\build\Test-Base-0.60-SHoaTx/blib/lib;C:\perl1664\cpan\build\Spiffy-0.31-6JMe6g/blib/arch;C:\perl1664\cpan\build\Spiffy-0.31-6JMe6g/blib/lib;C:\perl1664\cpan\build\File-Temp-0.2302-WednmN/blib/arch;C:\perl1664\cpan\build\File-Temp-0.2302-WednmN/blib/lib;C:\perl1664\cpan\build\Path-Tiny-0.037-ESJKfn/blib/arch;C:\perl1664\cpan\build\Path-Tiny-0.037-ESJKfn/blib/lib
    PERL5OPT = 
    PERL5_CPANPLUS_IS_RUNNING = 28456
    PERL5_CPAN_IS_RUNNING = 28456
    PERL5_CPAN_IS_RUNNING_IN_RECURSION = 3668,28456
    PERL_CR_SMOKER_CURRENT = Soar-Production-0.03
    PERL_EXTUTILS_AUTOINSTALL = --defaultdeps
    PERL_JSON_BACKEND = JSON::XS
    PERL_MM_USE_DEFAULT = 1
    PERL_YAML_BACKEND = YAML::XS
    PROCESSOR_IDENTIFIER = AMD64 Family 16 Model 4 Stepping 2, AuthenticAMD
    TEMP = C:\Users\Mithaldu\AppData\Local\Temp
    TERM = dumb

Perl special variables (and OS-specific diagnostics, for MSWin32):

    $^X = c:\Perl1664\bin\perl.exe
    $UID/$EUID = 0 / 0
    $GID = 0
    $EGID = 0
    Win32::GetOSName = Win7
    Win32::GetOSVersion = Service Pack 1, 6, 1, 7601, 2, 1, 0, 256, 1
    Win32::FsType = NTFS
    Win32::IsAdminUser = 0

Perl module toolchain versions installed:

    Module              Have    
    ------------------- --------
    CPAN                1.9800  
    CPAN::Meta          2.132140
    Cwd                 3.40    
    ExtUtils::CBuilder  0.280206
    ExtUtils::Command   1.17    
    ExtUtils::Install   1.54    
    ExtUtils::MakeMaker 6.63_02 
    ExtUtils::Manifest  1.61    
    ExtUtils::ParseXS   3.18    
    File::Spec          3.40    
    JSON                2.53    
    JSON::PP            2.27200 
    Module::Build       0.4003  
    Module::Signature   n/a     
    Parse::CPAN::Meta   1.4405  
    Test::Harness       3.26    
    Test::More          0.98    
    YAML                0.84    
    YAML::Syck          n/a     
    version             0.9902  


--

Summary of my perl5 (revision 5 version 16 subversion 3) configuration:
   
  Platform:
    osname=MSWin32, osvers=5.2, archname=MSWin32-x64-multi-thread
    uname=''
    config_args='undef'
    hint=recommended, useposix=true, d_sigaction=undef
    useithreads=define, usemultiplicity=define
    useperlio=define, d_sfio=undef, uselargefiles=define, usesocks=undef
    use64bitint=define, use64bitall=undef, uselongdouble=undef
    usemymalloc=n, bincompat5005=undef
  Compiler:
    cc='c:\Perl1664\site\bin\gcc.exe', ccflags ='-DNDEBUG -DWIN32 -D_CONSOLE -DNO_STRICT -DWIN64 -DCONSERVATIVE -DPERL_TEXTMODE_SCRIPTS -DUSE_SITECUSTOMIZE -DPERL_IMPLICIT_CONTEXT -DPERL_IMPLICIT_SYS -DUSE_PERLIO -DHASATTRIBUTE -fno-strict-aliasing -mms-bitfields',
    optimize='-O2',
    cppflags='-DWIN32'
    ccversion='', gccversion='gcc.exe (rubenvb-4.5.4) 4.5.4', gccosandvers=''
    intsize=4, longsize=4, ptrsize=8, doublesize=8, byteorder=12345678
    d_longlong=undef, longlongsize=8, d_longdbl=define, longdblsize=8
    ivtype='__int64', ivsize=8, nvtype='double', nvsize=8, Off_t='__int64', lseeksize=8
    alignbytes=8, prototype=define
  Linker and Libraries:
    ld='c:\Perl1664\site\bin\g++.exe', ldflags ='-L"c:\perl1664\lib\CORE"'
    libpth=\lib
    libs=-lkernel32 -luser32 -lgdi32 -lwinspool -lcomdlg32 -ladvapi32 -lshell32 -lole32 -loleaut32 -lnetapi32 -luuid -lws2_32 -lmpr -lwinmm -lversion -lodbc32 -lodbccp32 -lcomctl32 -lmsvcrt
    perllibs=-lkernel32 -luser32 -lgdi32 -lwinspool -lcomdlg32 -ladvapi32 -lshell32 -lole32 -loleaut32 -lnetapi32 -luuid -lws2_32 -lmpr -lwinmm -lversion -lodbc32 -lodbccp32 -lcomctl32 -lmsvcrt
    libc=msvcrt.lib, so=dll, useshrplib=true, libperl=perl516.lib
    gnulibc_version=''
  Dynamic Linking:
    dlsrc=dl_win32.xs, dlext=dll, d_dlsymun=undef, ccdlflags=' '
    cccdlflags=' ', lddlflags='-mdll -L"c:\perl1664\lib\CORE"'


Characteristics of this binary (from libperl): 
  Compile-time options: HAS_TIMES HAVE_INTERP_INTERN MULTIPLICITY
                        PERLIO_LAYERS PERL_DONT_CREATE_GVSV
                        PERL_IMPLICIT_CONTEXT PERL_IMPLICIT_SYS
                        PERL_MALLOC_WRAP PERL_PRESERVE_IVUV PL_OP_SLAB_ALLOC
                        USE_64_BIT_INT USE_ITHREADS USE_LARGE_FILES
                        USE_LOCALE USE_LOCALE_COLLATE USE_LOCALE_CTYPE
                        USE_LOCALE_NUMERIC USE_PERLIO USE_PERL_ATOF
                        USE_SITECUSTOMIZE
  Locally applied patches:
	ActivePerl Build 1603 [296746]
  Built under MSWin32
  Compiled at Mar 13 2013 13:31:10
  %ENV:
    PERL5LIB="C:\perl1664\cpan\build\Test-Warn-0.24-MaKH3n/blib/arch;C:\perl1664\cpan\build\Test-Warn-0.24-MaKH3n/blib/lib;C:\perl1664\cpan\build\Tree-DAG_Node-1.18-8LK82G/blib/arch;C:\perl1664\cpan\build\Tree-DAG_Node-1.18-8LK82G/blib/lib;C:\perl1664\cpan\build\File-Slurp-9999.19-DAQAXh/blib/arch;C:\perl1664\cpan\build\File-Slurp-9999.19-DAQAXh/blib/lib;C:\perl1664\cpan\build\Parse-RecDescent-1.967009-IwhKT8/blib/arch;C:\perl1664\cpan\build\Parse-RecDescent-1.967009-IwhKT8/blib/lib;C:\perl1664\cpan\build\Test-LongString-0.15-4TC6nI/blib/arch;C:\perl1664\cpan\build\Test-LongString-0.15-4TC6nI/blib/lib;C:\perl1664\cpan\build\Test-Deep-0.110-ZT5a02/blib/arch;C:\perl1664\cpan\build\Test-Deep-0.110-ZT5a02/blib/lib;C:\perl1664\cpan\build\Data-Diver-1.0101-icvLPi/blib/arch;C:\perl1664\cpan\build\Data-Diver-1.0101-icvLPi/blib/lib;C:\perl1664\cpan\build\Exporter-Easy-0.16-QyEnVI/blib/arch;C:\perl1664\cpan\build\Exporter-Easy-0.16-QyEnVI/blib/lib;C:\perl1664\cpan\build\Test-Base-0.60-SHoaTx/blib/arch;C:\perl1664\cpan\build\Test-Base-0.60-SHoaTx/blib/lib;C:\perl1664\cpan\build\Spiffy-0.31-6JMe6g/blib/arch;C:\perl1664\cpan\build\Spiffy-0.31-6JMe6g/blib/lib;C:\perl1664\cpan\build\File-Temp-0.2302-WednmN/blib/arch;C:\perl1664\cpan\build\File-Temp-0.2302-WednmN/blib/lib;C:\perl1664\cpan\build\Path-Tiny-0.037-ESJKfn/blib/arch;C:\perl1664\cpan\build\Path-Tiny-0.037-ESJKfn/blib/lib"
    PERL5_CPANPLUS_IS_RUNNING="28456"
    PERL5_CPAN_IS_RUNNING="28456"
    PERL5_CPAN_IS_RUNNING_IN_RECURSION="3668,28456"
    PERL_CR_SMOKER_CURRENT="Soar-Production-0.03"
    PERL_EXTUTILS_AUTOINSTALL="--defaultdeps"
    PERL_JSON_BACKEND="JSON::XS"
    PERL_MM_USE_DEFAULT="1"
    PERL_YAML_BACKEND="YAML::XS"
  @INC:
    C:\perl1664\cpan\build\Test-Warn-0.24-MaKH3n/blib/arch
    C:\perl1664\cpan\build\Test-Warn-0.24-MaKH3n/blib/lib
    C:\perl1664\cpan\build\Tree-DAG_Node-1.18-8LK82G/blib/arch
    C:\perl1664\cpan\build\Tree-DAG_Node-1.18-8LK82G/blib/lib
    C:\perl1664\cpan\build\File-Slurp-9999.19-DAQAXh/blib/arch
    C:\perl1664\cpan\build\File-Slurp-9999.19-DAQAXh/blib/lib
    C:\perl1664\cpan\build\Parse-RecDescent-1.967009-IwhKT8/blib/arch
    C:\perl1664\cpan\build\Parse-RecDescent-1.967009-IwhKT8/blib/lib
    C:\perl1664\cpan\build\Test-LongString-0.15-4TC6nI/blib/arch
    C:\perl1664\cpan\build\Test-LongString-0.15-4TC6nI/blib/lib
    C:\perl1664\cpan\build\Test-Deep-0.110-ZT5a02/blib/arch
    C:\perl1664\cpan\build\Test-Deep-0.110-ZT5a02/blib/lib
    C:\perl1664\cpan\build\Data-Diver-1.0101-icvLPi/blib/arch
    C:\perl1664\cpan\build\Data-Diver-1.0101-icvLPi/blib/lib
    C:\perl1664\cpan\build\Exporter-Easy-0.16-QyEnVI/blib/arch
    C:\perl1664\cpan\build\Exporter-Easy-0.16-QyEnVI/blib/lib
    C:\perl1664\cpan\build\Test-Base-0.60-SHoaTx/blib/arch
    C:\perl1664\cpan\build\Test-Base-0.60-SHoaTx/blib/lib
    C:\perl1664\cpan\build\Spiffy-0.31-6JMe6g/blib/arch
    C:\perl1664\cpan\build\Spiffy-0.31-6JMe6g/blib/lib
    C:\perl1664\cpan\build\File-Temp-0.2302-WednmN/blib/arch
    C:\perl1664\cpan\build\File-Temp-0.2302-WednmN/blib/lib
    C:\perl1664\cpan\build\Path-Tiny-0.037-ESJKfn/blib/arch
    C:\perl1664\cpan\build\Path-Tiny-0.037-ESJKfn/blib/lib
    c:/Perl1664/site/lib
    c:/Perl1664/lib
    .