Config-INI-Serializer v0.002 Perl 5 v5.26.0 i86pc-solaris-multi
- Status
- Pass
- From
- Serguei Trouchelle (STRO)
- Dist
-
Config-INI-Serializer v0.002
- Platform
- Perl 5 v5.26.0 i86pc-solaris-multi
- Date
- 2018-04-16 13:26:44
- ID
- ceb01c06-4179-11e8-9866-e732eb939fb9
This distribution has been tested as part of the CPAN Testers
project, supporting the Perl programming language. See
http://wiki.cpantesters.org/ for more information or email
questions to cpan-testers-discuss@perl.org
--
Dear Steffen Schwigon,
This is a computer-generated report for Config-INI-Serializer-0.002
on perl 5.26.0, created by CPAN-Reporter-1.2018.
Thank you for uploading your work to CPAN. Congratulations!
All tests were successful.
Sections of this report:
* Tester comments
* Program output
* Prerequisites
* Environment and other context
------------------------------
TESTER COMMENTS
------------------------------
Additional comments from tester:
this report is from an automated smoke testing program
and was not reviewed by a human for accuracy
------------------------------
PROGRAM OUTPUT
------------------------------
Output from '/usr/bin/make test':
PERL_DL_NONLAZY=1 "/home/stro/perl/5.26.0m/bin/perl" "-MExtUtils::Command::MM" "-MTest::Harness" "-e" "undef *Test::Harness::Switches; test_harness(0, 'blib/lib', 'blib/arch')" t/*.t
t/00-compile.t ............ ok
t/author-eol.t ............ skipped: these tests are for testing by the author
t/author-no-tabs.t ........ skipped: these tests are for testing by the author
t/release-pod-coverage.t .. skipped: these tests are for release candidate testing
t/release-pod-syntax.t .... skipped: these tests are for release candidate testing
t/serializer.t ............ ok
All tests successful.
Files=6, Tests=9, 3 wallclock secs ( 0.15 usr 0.07 sys + 2.06 cusr 0.48 csys = 2.76 CPU)
Result: PASS
------------------------------
PREREQUISITES
------------------------------
Prerequisite modules loaded:
requires:
Module Need Have
------------------- ----- --------
perl 5.006 5.026000
strict 0 1.11
warnings 0 1.37
build_requires:
Module Need Have
------------------- ----- --------
blib 1.01 1.06
Data::Dumper 0 2.167
ExtUtils::MakeMaker 0 7.34
File::Spec 0 3.74
IO::Handle 0 1.36
IPC::Open3 0 1.20
Test::Deep 0 1.127
Test::More 0 1.302135
configure_requires:
Module Need Have
------------------- ----- --------
ExtUtils::MakeMaker 0 7.34
------------------------------
ENVIRONMENT AND OTHER CONTEXT
------------------------------
Environment variables:
AUTOMATED_TESTING = 1
LANG = en_US.UTF-8
PATH = /usr/gnu/bin:/usr/bin:/usr/sbin:/sbin:/usr/sfw/bin:
PERL5LIB =
PERL5OPT =
PERL5_CPANPLUS_IS_RUNNING = 29698
PERL5_CPAN_IS_RUNNING = 29698
PERL5_CPAN_IS_RUNNING_IN_RECURSION = 5621,29698
PERL_CR_SMOKER_CURRENT = BenchmarkAnything-Storage-Frontend-Lib-0.022
PERL_EXTUTILS_AUTOINSTALL = --defaultdeps
PERL_MM_USE_DEFAULT = 1
PERL_USE_UNSAFE_INC = 1
SHELL = /bin/bash
TERM = xterm
Perl special variables (and OS-specific diagnostics, for MSWin32):
$^X = /home/stro/perl/5.26.0m/bin/perl
$UID/$EUID = 101 / 101
$GID = 10 10
$EGID = 10 10
Perl module toolchain versions installed:
Module Have
------------------- --------
CPAN 2.18
CPAN::Meta 2.150010
Cwd 3.74
ExtUtils::CBuilder 0.280226
ExtUtils::Command 7.34
ExtUtils::Install 2.06
ExtUtils::MakeMaker 7.34
ExtUtils::Manifest 1.70
ExtUtils::ParseXS 3.34
File::Spec 3.74
JSON 2.97001
JSON::PP 2.97001
Module::Build 0.4224
Module::Signature n/a
Parse::CPAN::Meta 2.150010
Test::Harness 3.42
Test::More 1.302135
YAML 1.24
YAML::Syck 1.30
version 0.992
--
Summary of my perl5 (revision 5 version 26 subversion 0) configuration:
Platform:
osname=solaris
osvers=2.11
archname=i86pc-solaris-multi
uname='sunos vm-openindiana-001 5.11 illumos-ed992b0aac i86pc i386 i86pc solaris '
config_args=''
hint=recommended
useposix=true
d_sigaction=define
useithreads=undef
usemultiplicity=define
use64bitint=undef
use64bitall=undef
uselongdouble=undef
usemymalloc=n
default_inc_excludes_dot=define
bincompat5005=undef
Compiler:
cc='/opt/SUNWspro/bin/cc'
ccflags ='-I/usr/gnu/include -D_LARGEFILE_SOURCE -D_FILE_OFFSET_BITS=64 -DPERL_USE_SAFE_PUTENV'
optimize='-O'
cppflags='-I/usr/gnu/include'
ccversion='Sun C 5.10 SunOS_i386 2009/06/03'
gccversion=''
gccosandvers=''
intsize=4
longsize=4
ptrsize=4
doublesize=8
byteorder=1234
doublekind=3
d_longlong=define
longlongsize=8
d_longdbl=define
longdblsize=12
longdblkind=3
ivtype='long'
ivsize=4
nvtype='double'
nvsize=8
Off_t='off_t'
lseeksize=8
alignbytes=4
prototype=define
Linker and Libraries:
ld='/opt/SUNWspro/bin/cc'
ldflags =' -L/usr/lib -L/usr/ccs/lib -L/opt/sunstudio12.1/prod/lib -L/lib -L/usr/gnu/lib '
libpth=/usr/lib /usr/ccs/lib /opt/sunstudio12.1/prod/lib /lib /usr/gnu/lib
libs=-lpthread -lsocket -lnsl -lgdbm -ldb -ldl -lm -lc
perllibs=-lpthread -lsocket -lnsl -ldl -lm -lc
libc=/lib/libc.so
so=so
useshrplib=true
libperl=libperl.so
gnulibc_version=''
Dynamic Linking:
dlsrc=dl_dlopen.xs
dlext=so
d_dlsymun=undef
ccdlflags=' -R /home/stro/perl/5.26.0m/lib/5.26.0/i86pc-solaris-multi/CORE'
cccdlflags='-KPIC'
lddlflags='-G -L/usr/lib -L/usr/ccs/lib -L/opt/sunstudio12.1/prod/lib -L/lib -L/usr/gnu/lib'
Characteristics of this binary (from libperl):
Compile-time options:
HAS_TIMES
MULTIPLICITY
PERLIO_LAYERS
PERL_COPY_ON_WRITE
PERL_DONT_CREATE_GVSV
PERL_HASH_FUNC_ONE_AT_A_TIME_HARD
PERL_IMPLICIT_CONTEXT
PERL_MALLOC_WRAP
PERL_OP_PARENT
PERL_PRESERVE_IVUV
PERL_USE_SAFE_PUTENV
USE_LARGE_FILES
USE_LOCALE
USE_LOCALE_COLLATE
USE_LOCALE_CTYPE
USE_LOCALE_NUMERIC
USE_LOCALE_TIME
USE_PERLIO
USE_PERL_ATOF
Built under solaris
Compiled at Sep 17 2017 23:16:30
%ENV:
PERL5LIB=""
PERL5OPT=""
PERL5_CPANPLUS_IS_RUNNING="29698"
PERL5_CPAN_IS_RUNNING="29698"
PERL5_CPAN_IS_RUNNING_IN_RECURSION="5621,29698"
PERL_CR_SMOKER_CURRENT="BenchmarkAnything-Storage-Frontend-Lib-0.022"
PERL_EXTUTILS_AUTOINSTALL="--defaultdeps"
PERL_MM_USE_DEFAULT="1"
PERL_USE_UNSAFE_INC="1"
@INC:
/home/stro/perl/5.26.0m/lib/site_perl/5.26.0/i86pc-solaris-multi
/home/stro/perl/5.26.0m/lib/site_perl/5.26.0
/home/stro/perl/5.26.0m/lib/5.26.0/i86pc-solaris-multi
/home/stro/perl/5.26.0m/lib/5.26.0
.