Algorithm-AM v3.11 Perl 5 v5.10.1 x86_64-linux

Status
Pass
From
Andreas J. König (ANDK)
Dist
Algorithm-AM v3.11
Platform
Perl 5 v5.10.1 x86_64-linux
Date
2017-11-27 22:17:51
ID
cec2da70-d3c0-11e7-9a13-b3c82b10b04a
This distribution has been tested as part of the CPAN Testers
project, supporting the Perl programming language.  See
http://wiki.cpantesters.org/ for more information or email
questions to cpan-testers-discuss@perl.org


--
Dear Nathan Gary Glenn,

This is a computer-generated report for Algorithm-AM-3.11
on perl 5.10.1, created by CPAN-Reporter-1.2018.

Thank you for uploading your work to CPAN.  Congratulations!
All tests were successful.

Sections of this report:

    * Tester comments
    * Program output
    * Prerequisites
    * Environment and other context

------------------------------
TESTER COMMENTS
------------------------------

Additional comments from tester:

this report is from an automated smoke testing program
and was not reviewed by a human for accuracy

------------------------------
PROGRAM OUTPUT
------------------------------

Output from '/usr/bin/make test':

"/home/sand/src/perl/repoperls/installed-perls/host/k93msid/perl-5.10.1/89ad/bin/perl" -MExtUtils::Command::MM -e 'cp_nonempty' -- AM.bs blib/arch/auto/Algorithm/AM/AM.bs 644
PERL_DL_NONLAZY=1 "/home/sand/src/perl/repoperls/installed-perls/host/k93msid/perl-5.10.1/89ad/bin/perl" "-MExtUtils::Command::MM" "-MTest::Harness" "-e" "undef *Test::Harness::Switches; test_harness(0, 'blib/lib', 'blib/arch')" t/*.t
t/0-use_AM.t ........... ok
t/0-use_Batch.t ........ ok
# 
# Versions for all modules listed in MYMETA.json (including optional ones):
# 
# === Configure Requires ===
# 
#     Module              Want Have
#     ------------------- ---- ----
#     ExtUtils::MakeMaker 6.17 7.30
# 
# === Build Requires ===
# 
#     Module              Want Have
#     ------------------- ---- ----
#     ExtUtils::MakeMaker  any 7.30
# 
# === Test Requires ===
# 
#     Module              Want     Have
#     ------------------- ---- --------
#     ExtUtils::MakeMaker  any     7.30
#     File::Spec           any     3.62
#     FindBin              any     1.50
#     Test::Deep           any    1.127
#     Test::Exception      any     0.43
#     Test::LongString     any     0.17
#     Test::More          0.88 1.302116
#     Test::NoWarnings     any     1.04
# 
# === Test Recommends ===
# 
#     Module         Want     Have
#     ---------- -------- --------
#     CPAN::Meta 2.120900 2.150010
# 
# === Runtime Requires ===
# 
#     Module            Want     Have
#     ----------------- ---- --------
#     Carp               any     1.38
#     Class::Tiny        any    1.006
#     Exporter::Easy     any     0.18
#     Getopt::Long      2.13      2.5
#     Import::Into       any 1.002005
#     Log::Any           any    1.701
#     Log::Any::Adapter  any    1.701
#     Path::Tiny         any    0.104
#     Pod::Usage         any     1.69
#     Text::Table        any    1.133
#     XSLoader           any     0.24
#     feature            any     1.13
#     integer            any     1.00
#     strict             any     1.04
#     warnings           any     1.06
# 
t/00-report-prereqs.t .. ok
t/01-Item.t ............ ok
t/02-DataSet.t ......... ok
t/03-AM.t .............. ok
t/04-Result.t .......... ok
t/05-Bigint.t .......... ok
t/06-Batch.t ........... ok
t/07-Batch_hooks.t ..... ok
t/08-finnverb.t ........ ok
t/09-soybean.t ......... ok
All tests successful.
Files=12, Tests=143,  4 wallclock secs ( 0.04 usr  0.09 sys +  1.59 cusr  0.28 csys =  2.00 CPU)
Result: PASS

------------------------------
PREREQUISITES
------------------------------

Prerequisite modules loaded:

requires:

    Module              Need     Have    
    ------------------- -------- --------
    Carp                0        1.38    
    Class::Tiny         0        1.006   
    Exporter::Easy      0        0.18    
    feature             0        1.13    
    Getopt::Long        2.13     2.5     
    Import::Into        0        1.002005
    integer             0        1.00    
    Log::Any            0        1.701   
    Log::Any::Adapter   0        1.701   
    Path::Tiny          0        0.104   
    perl                5.010000 5.010001
    Pod::Usage          0        1.69    
    strict              0        1.04    
    Text::Table         0        1.133   
    warnings            0        1.06    
    XSLoader            0        0.24    

build_requires:

    Module              Need     Have    
    ------------------- -------- --------
    ExtUtils::MakeMaker 0        7.30    
    File::Spec          0        3.62    
    FindBin             0        1.50    
    Test::Deep          0        1.127   
    Test::Exception     0        0.43    
    Test::LongString    0        0.17    
    Test::More          0.88     1.302116
    Test::NoWarnings    0        1.04    

configure_requires:

    Module              Need     Have    
    ------------------- -------- --------
    ExtUtils::MakeMaker 6.17     7.30    
    perl                5.010    5.010001


------------------------------
ENVIRONMENT AND OTHER CONTEXT
------------------------------

Environment variables:

    AUTOMATED_TESTING = 1
    LANG = en_US.UTF-8
    PATH = /home/sand/bin:/usr/local/bin:/usr/bin:/bin:/usr/games:/usr/local/perl/bin:/usr/X11/bin:/sbin:/usr/sbin
    PERL5LIB = /tmp/loop_over_bdir-23850-jnmxPE/Exporter-Easy-0.18-0/blib/arch:/tmp/loop_over_bdir-23850-jnmxPE/Exporter-Easy-0.18-0/blib/lib
    PERL5OPT = 
    PERL5_CPANPLUS_IS_RUNNING = 23858
    PERL5_CPAN_IS_RUNNING = 23858
    PERL5_CPAN_IS_RUNNING_IN_RECURSION = 17456,23858
    PERL_CANARY_STABILITY_NOPROMPT = 1
    PERL_MM_USE_DEFAULT = 1
    PERL_USE_UNSAFE_INC = 1
    SHELL = /usr/bin/zsh
    TERM = screen

Perl special variables (and OS-specific diagnostics, for MSWin32):

    $^X = /home/sand/src/perl/repoperls/installed-perls/host/k93msid/perl-5.10.1/89ad/bin/perl
    $UID/$EUID = 1005 / 1005
    $GID = 1005 1005
    $EGID = 1005 1005

Perl module toolchain versions installed:

    Module              Have    
    ------------------- --------
    CPAN                2.18    
    CPAN::Meta          2.150010
    Cwd                 3.62    
    ExtUtils::CBuilder  0.280230
    ExtUtils::Command   7.30    
    ExtUtils::Install   2.06    
    ExtUtils::MakeMaker 7.30    
    ExtUtils::Manifest  1.70    
    ExtUtils::ParseXS   3.35    
    File::Spec          3.62    
    JSON                2.97000 
    JSON::PP            2.97000 
    Module::Build       0.4224  
    Module::Signature   0.81    
    Parse::CPAN::Meta   2.150010
    Test::Harness       3.39    
    Test::More          1.302116
    YAML                1.23    
    YAML::Syck          1.30    
    version             0.9918  


--

Summary of my perl5 (revision 5 version 10 subversion 1) configuration:
  Commit id: 5348debf9fd57fc15c26529386769684fab96e57
  Platform:
    osname=linux, osvers=4.12.0-2-amd64, archname=x86_64-linux
    uname='linux k93msid 4.12.0-2-amd64 #1 smp debian 4.12.13-1 (2017-09-19) x86_64 gnulinux '
    config_args='-Dprefix=/home/sand/src/perl/repoperls/installed-perls/host/k93msid/perl-5.10.1/89ad -Dmyhostname=k93msid -Dinstallusrbinperl=n -Uversiononly -Dusedevel -des -Ui_db -Dlibswanted=cl pthread socket inet nsl gdbm dbm malloc dl ld sun m crypt sec util c cposix posix ucb BSD gdbm_compat -Uuseithreads -Uuselongdouble -DDEBUGGING=-g'
    hint=recommended, useposix=true, d_sigaction=define
    useithreads=undef, usemultiplicity=undef
    useperlio=define, d_sfio=undef, uselargefiles=define, usesocks=undef
    use64bitint=define, use64bitall=define, uselongdouble=undef
    usemymalloc=n, bincompat5005=undef
  Compiler:
    cc='cc', ccflags ='-fno-strict-aliasing -pipe -fstack-protector -I/usr/local/include -D_LARGEFILE_SOURCE -D_FILE_OFFSET_BITS=64',
    optimize='-O2 -g',
    cppflags='-fno-strict-aliasing -pipe -fstack-protector -I/usr/local/include'
    ccversion='', gccversion='7.2.0', gccosandvers=''
    intsize=4, longsize=8, ptrsize=8, doublesize=8, byteorder=12345678
    d_longlong=define, longlongsize=8, d_longdbl=define, longdblsize=16
    ivtype='long', ivsize=8, nvtype='double', nvsize=8, Off_t='off_t', lseeksize=8
    alignbytes=8, prototype=define
  Linker and Libraries:
    ld='cc', ldflags =' -fstack-protector -L/usr/local/lib'
    libpth=/usr/local/lib /lib/x86_64-linux-gnu /lib/../lib /usr/lib/x86_64-linux-gnu /usr/lib/../lib /lib /usr/lib
    libs=-lpthread -lnsl -ldl -lm -lcrypt -lutil -lc
    perllibs=-lpthread -lnsl -ldl -lm -lcrypt -lutil -lc
    libc=libc-2.24.so, so=so, useshrplib=false, libperl=libperl.a
    gnulibc_version='2.24'
  Dynamic Linking:
    dlsrc=dl_dlopen.xs, dlext=so, d_dlsymun=undef, ccdlflags='-Wl,-E'
    cccdlflags='-fPIC', lddlflags='-shared -O2 -g -L/usr/local/lib -fstack-protector'


Characteristics of this binary (from libperl): 
  Compile-time options: PERL_DONT_CREATE_GVSV PERL_MALLOC_WRAP PERL_USE_DEVEL
                        USE_64_BIT_ALL USE_64_BIT_INT USE_LARGE_FILES
                        USE_PERLIO
  Built under linux
  Compiled at Oct  3 2017 21:13:10
  %ENV:
    PERL5LIB="/tmp/loop_over_bdir-23850-jnmxPE/Exporter-Easy-0.18-0/blib/arch:/tmp/loop_over_bdir-23850-jnmxPE/Exporter-Easy-0.18-0/blib/lib"
    PERL5OPT=""
    PERL5_CPANPLUS_IS_RUNNING="23858"
    PERL5_CPAN_IS_RUNNING="23858"
    PERL5_CPAN_IS_RUNNING_IN_RECURSION="17456,23858"
    PERL_CANARY_STABILITY_NOPROMPT="1"
    PERL_MM_USE_DEFAULT="1"
    PERL_USE_UNSAFE_INC="1"
  @INC:
    /tmp/loop_over_bdir-23850-jnmxPE/Exporter-Easy-0.18-0/blib/arch
    /tmp/loop_over_bdir-23850-jnmxPE/Exporter-Easy-0.18-0/blib/lib
    /home/sand/src/perl/repoperls/installed-perls/host/k93msid/perl-5.10.1/89ad/lib/5.10.1/x86_64-linux
    /home/sand/src/perl/repoperls/installed-perls/host/k93msid/perl-5.10.1/89ad/lib/5.10.1
    /home/sand/src/perl/repoperls/installed-perls/host/k93msid/perl-5.10.1/89ad/lib/site_perl/5.10.1/x86_64-linux
    /home/sand/src/perl/repoperls/installed-perls/host/k93msid/perl-5.10.1/89ad/lib/site_perl/5.10.1
    .