Sub-HandlesVia v0.050002 Perl 5 v5.41.12 MSWin32-x64-multi-thread

Status
Pass
From
twata
Dist
Sub-HandlesVia v0.050002
Platform
Perl 5 v5.41.12 MSWin32-x64-multi-thread
Date
2025-05-19 14:41:40
ID
cecb3d52-6ea7-1014-a69b-ee9dd654879c
This distribution has been tested as part of the CPAN Testers
project, supporting the Perl programming language.  See
http://wiki.cpantesters.org/ for more information or email
questions to cpan-testers-discuss@perl.org


--
Dear Toby Inkster,

This is a computer-generated report for Sub-HandlesVia-0.050002
on perl 5.41.12, created by CPAN-Reporter-1.2020.

Thank you for uploading your work to CPAN.  Congratulations!
All tests were successful.

Sections of this report:

    * Tester comments
    * Program output
    * Prerequisites
    * Environment and other context

------------------------------
TESTER COMMENTS
------------------------------

Additional comments from tester:

none provided

------------------------------
PROGRAM OUTPUT
------------------------------

Output from '"C:\Program Files\Microsoft Visual Studio\2022\Community\VC\Tools\MSVC\14.33.31629\bin\Hostx64\x64\nmake.exe" test':


Microsoft (R) Program Maintenance Utility Version 14.33.31630.0
Copyright (C) Microsoft Corporation.  All rights reserved.

	"C:\perl64\5.41.12\bin\perl.exe" "-MExtUtils::Command::MM" "-MTest::Harness" "-e" "undef *Test::Harness::Switches; test_harness(0, 'blib\lib', 'blib\arch')" t\*.t t\02moo\*.t t\03moo_mxtt\*.t t\04moose\*.t t\05moose_nativetypes\*.t t\06mouse\*.t t\07mouse_nativetypes\*.t t\30egpod\*.t t\40mite\*.t
# 
#   Perl                                        5.041012
#   Exporter::Tiny                              1.006002
#   Type::Tiny/Type::Tiny::XS                   2.008002/0.025
#   Scalar::Util/List::Util/Sub::Util           1.6801/1.6801/1.6801
# 
#   Class::Tiny                                 1.008
#   Role::Tiny                                  2.002004
#   Class::Method::Modifiers                    2.15
#   Moo/MooX::TypeTiny/Class::XSAccessor        2.005005/0.002003/1.19
#   Moose                                       2.2207
#   Mouse                                       undef
# 
#   Test::More/Test::Fatal/Test::Requires       1.302210/0.017/0.11
# 
#   $AUTOMATED_TESTING                          undef
#   $NONINTERACTIVE_TESTING                     "1"
#   $EXTENDED_TESTING                           undef
#   $AUTHOR_TESTING                             undef
#   $RELEASE_TESTING                            undef
# 
# >>>> Type::Tiny is using Type::Tiny::XS
# 
t\00begin.t ............................ ok
t\01basic.t ............................ ok
t\02moo.t .............................. ok
t\02moo\ext_attr.t ..................... ok
t\02moo\role.t ......................... ok
t\02moo\roles-multiple.t ............... ok
t\02moo\trait_array.t .................. ok
t\02moo\trait_bool.t ................... ok
t\02moo\trait_code.t ................... ok
t\02moo\trait_counter.t ................ ok
t\02moo\trait_hash.t ................... ok
t\02moo\trait_number.t ................. ok
t\02moo\trait_string.t ................. ok
t\03moo_mxtt.t ......................... ok
t\03moo_mxtt\role.t .................... ok
t\03moo_mxtt\trait_array.t ............. ok
t\03moo_mxtt\trait_bool.t .............. ok
t\03moo_mxtt\trait_code.t .............. ok
t\03moo_mxtt\trait_counter.t ........... ok
t\03moo_mxtt\trait_hash.t .............. ok
t\03moo_mxtt\trait_number.t ............ ok
t\03moo_mxtt\trait_string.t ............ ok
t\04moose.t ............................ ok
t\04moose\ext_attr.t ................... ok
t\04moose\role.t ....................... ok
t\04moose\roles-multiple.t ............. ok
t\04moose\trait_array.t ................ ok
t\04moose\trait_bool.t ................. ok
t\04moose\trait_code.t ................. ok
t\04moose\trait_counter.t .............. ok
t\04moose\trait_hash.t ................. ok
t\04moose\trait_number.t ............... ok
t\04moose\trait_string.t ............... ok
t\05moose_nativetypes.t ................ ok
t\05moose_nativetypes\role.t ........... ok
t\05moose_nativetypes\trait_array.t .... ok
t\05moose_nativetypes\trait_bool.t ..... ok
t\05moose_nativetypes\trait_code.t ..... ok
t\05moose_nativetypes\trait_counter.t .. ok
t\05moose_nativetypes\trait_hash.t ..... ok
t\05moose_nativetypes\trait_number.t ... ok
t\05moose_nativetypes\trait_string.t ... ok
t\06mouse.t ............................ skipped: Test requires module 'Mouse' but it's not found
t\06mouse\ext_attr.t ................... skipped: Test requires module 'Mouse' but it's not found
t\06mouse\role.t ....................... skipped: Test requires module 'Mouse' but it's not found
t\06mouse\roles-multiple.t ............. skipped: TODO (issue #9)
t\06mouse\trait_array.t ................ skipped: Test requires module 'Mouse' but it's not found
t\06mouse\trait_bool.t ................. skipped: Test requires module 'Mouse' but it's not found
t\06mouse\trait_code.t ................. skipped: Test requires module 'Mouse' but it's not found
t\06mouse\trait_counter.t .............. skipped: Test requires module 'Mouse' but it's not found
t\06mouse\trait_hash.t ................. skipped: Test requires module 'Mouse' but it's not found
t\06mouse\trait_number.t ............... skipped: Test requires module 'Mouse' but it's not found
t\06mouse\trait_string.t ............... skipped: Test requires module 'Mouse' but it's not found
t\07mouse_nativetypes.t ................ skipped: Test requires module 'Mouse' but it's not found
t\07mouse_nativetypes\role.t ........... skipped: Test requires module 'Mouse' but it's not found
t\07mouse_nativetypes\trait_array.t .... skipped: Test requires module 'Mouse' but it's not found
t\07mouse_nativetypes\trait_bool.t ..... skipped: Test requires module 'Mouse' but it's not found
t\07mouse_nativetypes\trait_code.t ..... skipped: Test requires module 'Mouse' but it's not found
t\07mouse_nativetypes\trait_counter.t .. skipped: Test requires module 'Mouse' but it's not found
t\07mouse_nativetypes\trait_hash.t ..... skipped: Test requires module 'Mouse' but it's not found
t\07mouse_nativetypes\trait_number.t ... skipped: Test requires module 'Mouse' but it's not found
t\07mouse_nativetypes\trait_string.t ... skipped: Test requires module 'Mouse' but it's not found
t\08classtiny.t ........................ ok
t\09barebones.t ........................ ok
t\10barebones_eagerbuilder.t ........... ok
t\11delegation.t ....................... ok
t\12slotaccess.t ....................... skipped: Test requires module 'MooseX::ArrayRef' but it's not found
t\14enum.t ............................. ok
t\15preludes.t ......................... ok
t\16stackqueue.t ....................... ok
t\20moosex_extended.t .................. skipped: test requires MooseX::Extended
t\30egpod\array.t ...................... ok
t\30egpod\bool.t ....................... ok
t\30egpod\code.t ....................... ok
t\30egpod\counter.t .................... ok
t\30egpod\hash.t ....................... ok
t\30egpod\number.t ..................... ok
t\30egpod\scalar.t ..................... ok
t\30egpod\string.t ..................... ok
t\31egpod_dummy.t ...................... ok
t\40mite\00-basic.t .................... ok
t\40mite\01-roles.t .................... ok
t\40mite\array.t ....................... ok
t\40mite\bool.t ........................ ok
t\40mite\code.t ........................ ok
t\40mite\counter.t ..................... ok
t\40mite\hash.t ........................ ok
t\40mite\number.t ...................... ok
t\40mite\scalar.t ...................... ok
t\40mite\string.t ...................... ok
t\50objectpad.t ........................ skipped: Test requires module 'Object::Pad' but it's not found
t\60detect.t ........................... skipped: Test requires module 'Mouse::Role' but it's not found
t\61moosemetagubbins.t ................. ok
t\62mousemetagubbins.t ................. skipped: Test requires module 'Mouse' but it's not found
t\80beam.t ............................. skipped: Test requires module 'Beam::Wire' but it's not found
t\81mxpa.t ............................. skipped: Test requires module 'MooX::ProtectedAttributes' but it's not found
t\94cmp.t .............................. ok
t\95any.t .............................. ok
t\96foreach.t .......................... ok
t\97pickrandom.t ....................... ok
t\98apply.t ............................ ok
t\99headtail.t ......................... ok
All tests successful.
Files=102, Tests=7279, 106 wallclock secs ( 2.33 usr +  0.38 sys =  2.70 CPU)
Result: PASS

------------------------------
PREREQUISITES
------------------------------

Prerequisite modules loaded:

requires:

    Module                   Need     Have    
    ------------------------ -------- --------
    Class::Method::Modifiers 0        2.15    
    Exporter::Shiny          0        1.006002
    List::Util               1.54     1.68_01 
    perl                     5.008001 5.041012
    Role::Hooks              0.008    0.008   
    Role::Tiny               0        2.002004
    Type::Tiny               1.004    2.008002

build_requires:

    Module                   Need     Have    
    ------------------------ -------- --------
    Test::Fatal              0        0.017   
    Test::More               0.96     1.302210
    Test::Requires           0        0.11    
    Try::Tiny                0        0.32    

configure_requires:

    Module                   Need     Have    
    ------------------------ -------- --------
    ExtUtils::MakeMaker      6.17     7.74    

opt_requires:

    Module                   Need     Have    
    ------------------------ -------- --------
    Sub::Util                0        1.68_01 

opt_build_requires:

    Module                   Need     Have    
    ------------------------ -------- --------
    Class::Tiny              0        1.008   
    Moo                      0        2.005005
    Moose                    0        2.2207  
  ! MooseX::Extended         0.22     n/a     
    MooX::TypeTiny           0        0.002003
  ! Mouse                    0        n/a     
  ! Object::Pad              0.70     n/a     


------------------------------
ENVIRONMENT AND OTHER CONTEXT
------------------------------

Environment variables:

    COMSPEC = C:\WINDOWS\system32\cmd.exe
    INCLUDE = C:\Program Files\Microsoft Visual Studio\2022\Community\VC\Tools\MSVC\14.33.31629\include;C:\Program Files\Microsoft Visual Studio\2022\Community\VC\Tools\MSVC\14.33.31629\ATLMFC\include;C:\Program Files\Microsoft Visual Studio\2022\Community\VC\Auxiliary\VS\include;C:\Program Files (x86)\Windows Kits\10\include\10.0.19041.0\ucrt;C:\Program Files (x86)\Windows Kits\10\\include\10.0.19041.0\\um;C:\Program Files (x86)\Windows Kits\10\\include\10.0.19041.0\\shared;C:\Program Files (x86)\Windows Kits\10\\include\10.0.19041.0\\winrt;C:\Program Files (x86)\Windows Kits\10\\include\10.0.19041.0\\cppwinrt;C:\ext\include;C:\perl64\local\include
    LC_ALL = C
    LIB = C:\Program Files\Microsoft Visual Studio\2022\Community\VC\Tools\MSVC\14.33.31629\ATLMFC\lib\x64;C:\Program Files\Microsoft Visual Studio\2022\Community\VC\Tools\MSVC\14.33.31629\lib\x64;C:\Program Files (x86)\Windows Kits\10\lib\10.0.19041.0\ucrt\x64;C:\Program Files (x86)\Windows Kits\10\\lib\10.0.19041.0\\um\x64;C:\ext\lib
    NONINTERACTIVE_TESTING = 1
    NUMBER_OF_PROCESSORS = 4
    PATH = C:\home\oat54112\perl5\bin;C:\patch-2.5.9-7-bin\bin;C:\perl64\5.41.12\bin;C:\build-openssl\bin;C:\ext\bin;C:\Program Files\Microsoft Visual Studio\2022\Community\VC\Tools\MSVC\14.33.31629\bin\HostX64\x64;C:\Program Files\Microsoft Visual Studio\2022\Community\Common7\IDE\VC\VCPackages;C:\Program Files\Microsoft Visual Studio\2022\Community\Common7\IDE\CommonExtensions\Microsoft\TestWindow;C:\Program Files\Microsoft Visual Studio\2022\Community\Common7\IDE\CommonExtensions\Microsoft\TeamFoundation\Team Explorer;C:\Program Files\Microsoft Visual Studio\2022\Community\MSBuild\Current\bin\Roslyn;C:\Program Files\Microsoft Visual Studio\2022\Community\Team Tools\Performance Tools\x64;C:\Program Files\Microsoft Visual Studio\2022\Community\Team Tools\Performance Tools;C:\Program Files (x86)\Windows Kits\10\bin\10.0.19041.0\\x64;C:\Program Files (x86)\Windows Kits\10\bin\\x64;C:\Program Files\Microsoft Visual Studio\2022\Community\\MSBuild\Current\Bin\amd64;C:\Windows\Microsoft.NET\Framework64\v4.0.30319;C:\Program Files\Microsoft Visual Studio\2022\Community\Common7\IDE\;C:\Program Files\Microsoft Visual Studio\2022\Community\Common7\Tools\;C:\Program Files (x86)\Windows Resource Kits\Tools\;C:\WINDOWS\system32;C:\WINDOWS;C:\WINDOWS\System32\Wbem;C:\WINDOWS\System32\WindowsPowerShell\v1.0\;C:\Program Files\Microsoft Visual Studio\2022\Community\Common7\IDE\CommonExtensions\Microsoft\CMake\CMake\bin;C:\Program Files\Microsoft Visual Studio\2022\Community\Common7\IDE\CommonExtensions\Microsoft\CMake\Ninja;C:\Program Files\Microsoft Visual Studio\2022\Community\Common7\IDE\VC\Linux\bin\ConnectionManagerExe
    PERL5LIB = C:\home\oat54112\perl5\lib\perl5
    PERL5OPT = 
    PERL5_CPANPLUS_IS_RUNNING = 13744
    PERL5_CPAN_IS_RUNNING = 13744
    PERL_LOCAL_LIB_ROOT = C:\home\oat54112\perl5
    PERL_MB_OPT = --install_base "C:\\home\\oat54112\\perl5"
    PERL_MM_OPT = INSTALL_BASE=C:\\home\\oat54112\\perl5
    PERL_MM_USE_DEFAULT = 1
    PERL_USE_UNSAFE_INC = 1
    PROCESSOR_IDENTIFIER = Intel64 Family 6 Model 58 Stepping 9, GenuineIntel
    TEMP = C:\Users\USER\AppData\Local\Temp
    TERM = dumb

Perl special variables (and OS-specific diagnostics, for MSWin32):

    $^X = C:\perl64\5.41.12\bin\perl.exe
    $UID/$EUID = 0 / 0
    $GID = 0
    $EGID = 0
    Win32::GetOSName = Win8.1
    Win32::GetOSVersion = , 6, 3, 9600, 2, 0, 0, 256, 1
    Win32::FsType = NTFS
    Win32::IsAdminUser = 0

Perl module toolchain versions installed:

    Module              Have    
    ------------------- --------
    CPAN                2.38    
    CPAN::Meta          2.150010
    Cwd                 3.94    
    ExtUtils::CBuilder  0.280240
    ExtUtils::Command   7.74    
    ExtUtils::Install   2.22    
    ExtUtils::MakeMaker 7.74    
    ExtUtils::Manifest  1.75    
    ExtUtils::ParseXS   3.57    
    File::Spec          3.94    
    JSON                4.10    
    JSON::PP            4.16    
    Module::Build       0.4234  
    Module::Signature   n/a     
    Parse::CPAN::Meta   2.150010
    Test2               1.302210
    Test::Harness       3.52    
    Test::More          1.302210
    YAML                1.31    
    YAML::Syck          n/a     
    version             0.9933  


--

Summary of my perl5 (revision 5 version 41 subversion 12) configuration:
   
  Platform:
    osname=MSWin32
    osvers=6.3.9600
    archname=MSWin32-x64-multi-thread
    uname=''
    config_args='undef'
    hint=recommended
    useposix=true
    d_sigaction=undef
    useithreads=define
    usemultiplicity=define
    use64bitint=define
    use64bitall=undef
    uselongdouble=undef
    usemymalloc=n
    default_inc_excludes_dot=define
  Compiler:
    cc='cl'
    ccflags ='-nologo -GF -W3 -MD -DWIN32 -D_CONSOLE -DNO_STRICT -DWIN64 -D_CRT_SECURE_NO_DEPRECATE  -D_CRT_NONSTDC_NO_DEPRECATE -D_WINSOCK_DEPRECATED_NO_WARNINGS  -DPERL_TEXTMODE_SCRIPTS -DMULTIPLICITY -DPERL_IMPLICIT_SYS'
    optimize='-O1 -Zi -GL -fp:precise'
    cppflags='-DWIN32'
    ccversion='19.33.31630'
    gccversion=''
    gccosandvers=''
    intsize=4
    longsize=4
    ptrsize=8
    doublesize=8
    byteorder=12345678
    doublekind=3
    d_longlong=undef
    longlongsize=8
    d_longdbl=define
    longdblsize=8
    longdblkind=0
    ivtype='__int64'
    ivsize=8
    nvtype='double'
    nvsize=8
    Off_t='__int64'
    lseeksize=8
    alignbytes=8
    prototype=define
  Linker and Libraries:
    ld='link'
    ldflags ='-nologo -nodefaultlib -debug -opt:ref,icf -ltcg  -libpath:"c:\perl64\5.41.12\lib\CORE"  -machine:AMD64 -subsystem:console,"5.02"'
    libpth="C:\Program Files\Microsoft Visual Studio\2022\Community\VC\Tools\MSVC\14.33.31629\\lib\x64"
    libs=oldnames.lib kernel32.lib user32.lib gdi32.lib winspool.lib  comdlg32.lib advapi32.lib shell32.lib ole32.lib oleaut32.lib  netapi32.lib uuid.lib ws2_32.lib mpr.lib winmm.lib  version.lib odbc32.lib odbccp32.lib comctl32.lib msvcrt.lib vcruntime.lib ucrt.lib
    perllibs=oldnames.lib kernel32.lib user32.lib gdi32.lib winspool.lib  comdlg32.lib advapi32.lib shell32.lib ole32.lib oleaut32.lib  netapi32.lib uuid.lib ws2_32.lib mpr.lib winmm.lib  version.lib odbc32.lib odbccp32.lib comctl32.lib msvcrt.lib vcruntime.lib ucrt.lib
    libc=ucrt.lib
    so=dll
    useshrplib=true
    libperl=perl541.lib
    gnulibc_version=''
  Dynamic Linking:
    dlsrc=dl_win32.xs
    dlext=dll
    d_dlsymun=undef
    ccdlflags=' '
    cccdlflags=' '
    lddlflags='-dll -nologo -nodefaultlib -debug -opt:ref,icf -ltcg  -libpath:"c:\perl64\5.41.12\lib\CORE"  -machine:AMD64 -subsystem:console,"5.02"'


Characteristics of this binary (from libperl): 
  Compile-time options:
    HAS_LONG_DOUBLE
    HAS_TIMES
    HAVE_INTERP_INTERN
    MULTIPLICITY
    PERLIO_LAYERS
    PERL_COPY_ON_WRITE
    PERL_DONT_CREATE_GVSV
    PERL_HASH_FUNC_SIPHASH13
    PERL_HASH_USE_SBOX32
    PERL_IMPLICIT_SYS
    PERL_MALLOC_WRAP
    PERL_OP_PARENT
    PERL_PRESERVE_IVUV
    PERL_USE_SAFE_PUTENV
    USE_64_BIT_INT
    USE_ITHREADS
    USE_LARGE_FILES
    USE_LOCALE
    USE_LOCALE_COLLATE
    USE_LOCALE_CTYPE
    USE_LOCALE_NUMERIC
    USE_LOCALE_TIME
    USE_PERLIO
    USE_PERL_ATOF
    USE_THREAD_SAFE_LOCALE
  Built under MSWin32
  Compiled at Apr 22 2025 22:17:35
  %ENV:
    PERL5LIB="C:\home\oat54112\perl5\lib\perl5"
    PERL5_CPANPLUS_IS_RUNNING="13744"
    PERL5_CPAN_IS_RUNNING="13744"
    PERL_LOCAL_LIB_ROOT="C:\home\oat54112\perl5"
    PERL_MB_OPT="--install_base "C:\\home\\oat54112\\perl5""
    PERL_MM_OPT="INSTALL_BASE=C:\\home\\oat54112\\perl5"
    PERL_MM_USE_DEFAULT="1"
    PERL_USE_UNSAFE_INC="1"
  @INC:
    C:\home\oat54112\perl5\lib\perl5/MSWin32-x64-multi-thread
    C:\home\oat54112\perl5\lib\perl5
    C:/perl64/site/5.41.12/lib
    C:/perl64/5.41.12/lib
    .