Language-LispPerl v0.007 Perl 5 v5.22.2 x86_64-linux

Status
Pass
From
Andreas J. König (ANDK)
Dist
Language-LispPerl v0.007
Platform
Perl 5 v5.22.2 x86_64-linux
Date
2017-12-08 09:40:21
ID
cecd71b8-dbfb-11e7-baf8-fc56ad0c1d39
This distribution has been tested as part of the CPAN Testers
project, supporting the Perl programming language.  See
http://wiki.cpantesters.org/ for more information or email
questions to cpan-testers-discuss@perl.org


--
Dear Jerome Eteve,

This is a computer-generated report for Language-LispPerl-0.007
on perl 5.22.2, created by CPAN-Reporter-1.2018.

Thank you for uploading your work to CPAN.  Congratulations!
All tests were successful.

Sections of this report:

    * Tester comments
    * Program output
    * Prerequisites
    * Environment and other context

------------------------------
TESTER COMMENTS
------------------------------

Additional comments from tester:

this report is from an automated smoke testing program
and was not reviewed by a human for accuracy

------------------------------
PROGRAM OUTPUT
------------------------------

Output from '/usr/bin/make test':

Skip blib/lib/auto/share/dist/Language-LispPerl/lisp/anyevent-http.clp (unchanged)
Skip blib/lib/auto/share/dist/Language-LispPerl/lisp/quoi/ajax.clp (unchanged)
Skip blib/lib/auto/share/dist/Language-LispPerl/lisp/uri.clp (unchanged)
Skip blib/lib/auto/share/dist/Language-LispPerl/lisp/quoi/table.clp (unchanged)
Skip blib/lib/auto/share/dist/Language-LispPerl/lisp/quoi.clp (unchanged)
Skip blib/lib/auto/share/dist/Language-LispPerl/lisp/xml.clp (unchanged)
Skip blib/lib/auto/share/dist/Language-LispPerl/lisp/quoi/default_template.clp (unchanged)
Skip blib/lib/auto/share/dist/Language-LispPerl/lisp/core.clp (unchanged)
Skip blib/lib/auto/share/dist/Language-LispPerl/lisp/file.clp (unchanged)
Skip blib/lib/auto/share/dist/Language-LispPerl/lisp/anyevent.clp (unchanged)
Skip blib/lib/auto/share/dist/Language-LispPerl/lisp/quoi/menu.clp (unchanged)
Skip blib/lib/auto/share/dist/Language-LispPerl/lisp/anyevent-dbi.clp (unchanged)
Skip blib/lib/auto/share/dist/Language-LispPerl/lisp/quoi/comet.clp (unchanged)
Skip blib/lib/auto/share/dist/Language-LispPerl/lisp/anyevent-httpd.clp (unchanged)
PERL_DL_NONLAZY=1 "/home/sand/src/perl/repoperls/installed-perls/host/k93msid/v5.22.2/89ad/bin/perl" "-MExtUtils::Command::MM" "-MTest::Harness" "-e" "undef *Test::Harness::Switches; test_harness(0, 'blib/lib', 'blib/arch')" t/*.t
t/basic.t ......... ok
t/basic_syntax.t .. ok
t/builtins.t ...... ok
t/file.t .......... ok
t/perlbinding.t ... ok
t/persist.t ....... ok
All tests successful.
Files=6, Tests=233,  3 wallclock secs ( 0.04 usr  0.04 sys +  1.71 cusr  0.29 csys =  2.08 CPU)
Result: PASS

------------------------------
PREREQUISITES
------------------------------

Prerequisite modules loaded:

requires:

    Module                  Need   Have   
    ----------------------- ------ -------
    Carp                    0      1.38   
    Class::Load             0.23   0.24   
    Coro                    6.29   6.514  
    File::ShareDir          0      1.104  
    IPC::System::Simple     0      1.25   
    Log::Any                0      1.702  
    Moose                   2.1205 2.2008 

build_requires:

    Module                  Need   Have   
    ----------------------- ------ -------
    ExtUtils::MakeMaker     0      7.31_05
    File::Share             0      0.25   
    File::Temp              0      0.2304 
    JSON                    0      2.94   
    Test::Exception         0      0.43   

configure_requires:

    Module                  Need   Have   
    ----------------------- ------ -------
    ExtUtils::MakeMaker     0      7.31_05
    File::ShareDir::Install 0.06   0.11   


------------------------------
ENVIRONMENT AND OTHER CONTEXT
------------------------------

Environment variables:

    AUTOMATED_TESTING = 1
    LANG = en_US.UTF-8
    PATH = /home/sand/bin:/usr/local/bin:/usr/bin:/bin:/usr/games:/usr/local/perl/bin:/usr/X11/bin:/sbin:/usr/sbin
    PERL5LIB = 
    PERL5OPT = 
    PERL5_CPANPLUS_IS_RUNNING = 3909
    PERL5_CPAN_IS_RUNNING = 3909
    PERL5_CPAN_IS_RUNNING_IN_RECURSION = 1718,3909
    PERL_CANARY_STABILITY_NOPROMPT = 1
    PERL_MM_USE_DEFAULT = 1
    PERL_USE_UNSAFE_INC = 1
    SHELL = /usr/bin/zsh
    TERM = screen

Perl special variables (and OS-specific diagnostics, for MSWin32):

    $^X = /home/sand/src/perl/repoperls/installed-perls/host/k93msid/v5.22.2/89ad/bin/perl
    $UID/$EUID = 1005 / 1005
    $GID = 1005 1005
    $EGID = 1005 1005

Perl module toolchain versions installed:

    Module              Have    
    ------------------- --------
    CPAN                2.20    
    CPAN::Meta          2.150010
    Cwd                 3.62    
    ExtUtils::CBuilder  0.280226
    ExtUtils::Command   7.31_05 
    ExtUtils::Install   2.06    
    ExtUtils::MakeMaker 7.31_05 
    ExtUtils::Manifest  1.70    
    ExtUtils::ParseXS   3.35    
    File::Spec          3.62    
    JSON                2.94    
    JSON::PP            2.96    
    Module::Build       0.4224  
    Module::Signature   0.81    
    Parse::CPAN::Meta   2.150010
    Test::Harness       3.39    
    Test::More          1.302120
    YAML                1.23    
    YAML::Syck          1.30    
    version             0.9918  


--

Summary of my perl5 (revision 5 version 22 subversion 2) configuration:
  Derived from: 9cbffb38735712e3a34e6f537892b6ef06fb815f
  Platform:
    osname=linux, osvers=4.12.0-2-amd64, archname=x86_64-linux
    uname='linux k93msid 4.12.0-2-amd64 #1 smp debian 4.12.13-1 (2017-09-19) x86_64 gnulinux '
    config_args='-Dprefix=/home/sand/src/perl/repoperls/installed-perls/host/k93msid/v5.22.2/89ad -Dmyhostname=k93msid -Dinstallusrbinperl=n -Uversiononly -Dusedevel -des -Ui_db -Dlibswanted=cl pthread socket inet nsl gdbm dbm malloc dl ld sun m crypt sec util c cposix posix ucb BSD gdbm_compat -Uuseithreads -Uuselongdouble -DDEBUGGING=-g'
    hint=recommended, useposix=true, d_sigaction=define
    useithreads=undef, usemultiplicity=undef
    use64bitint=define, use64bitall=define, uselongdouble=undef
    usemymalloc=n, bincompat5005=undef
  Compiler:
    cc='cc', ccflags ='-fwrapv -fno-strict-aliasing -pipe -fstack-protector-strong -I/usr/local/include -D_LARGEFILE_SOURCE -D_FILE_OFFSET_BITS=64',
    optimize='-O2 -g',
    cppflags='-fwrapv -fno-strict-aliasing -pipe -fstack-protector-strong -I/usr/local/include'
    ccversion='', gccversion='7.2.0', gccosandvers=''
    intsize=4, longsize=8, ptrsize=8, doublesize=8, byteorder=12345678, doublekind=3
    d_longlong=define, longlongsize=8, d_longdbl=define, longdblsize=16, longdblkind=3
    ivtype='long', ivsize=8, nvtype='double', nvsize=8, Off_t='off_t', lseeksize=8
    alignbytes=8, prototype=define
  Linker and Libraries:
    ld='cc', ldflags =' -fstack-protector-strong -L/usr/local/lib'
    libpth=/usr/local/lib /usr/lib/gcc/x86_64-linux-gnu/7/include-fixed /usr/include/x86_64-linux-gnu /usr/lib /lib/x86_64-linux-gnu /lib/../lib /usr/lib/x86_64-linux-gnu /usr/lib/../lib /lib
    libs=-lpthread -lnsl -ldl -lm -lcrypt -lutil -lc
    perllibs=-lpthread -lnsl -ldl -lm -lcrypt -lutil -lc
    libc=libc-2.24.so, so=so, useshrplib=false, libperl=libperl.a
    gnulibc_version='2.24'
  Dynamic Linking:
    dlsrc=dl_dlopen.xs, dlext=so, d_dlsymun=undef, ccdlflags='-Wl,-E'
    cccdlflags='-fPIC', lddlflags='-shared -O2 -g -L/usr/local/lib -fstack-protector-strong'


Characteristics of this binary (from libperl): 
  Compile-time options: HAS_TIMES PERLIO_LAYERS PERL_DONT_CREATE_GVSV
                        PERL_HASH_FUNC_ONE_AT_A_TIME_HARD PERL_MALLOC_WRAP
                        PERL_NEW_COPY_ON_WRITE PERL_PRESERVE_IVUV
                        PERL_USE_DEVEL USE_64_BIT_ALL USE_64_BIT_INT
                        USE_LARGE_FILES USE_LOCALE USE_LOCALE_COLLATE
                        USE_LOCALE_CTYPE USE_LOCALE_NUMERIC USE_LOCALE_TIME
                        USE_PERLIO USE_PERL_ATOF
  Locally applied patches:
	uncommitted-changes
  Built under linux
  Compiled at Oct  4 2017 01:29:44
  %ENV:
    PERL5LIB=""
    PERL5OPT=""
    PERL5_CPANPLUS_IS_RUNNING="3909"
    PERL5_CPAN_IS_RUNNING="3909"
    PERL5_CPAN_IS_RUNNING_IN_RECURSION="1718,3909"
    PERL_CANARY_STABILITY_NOPROMPT="1"
    PERL_MM_USE_DEFAULT="1"
    PERL_USE_UNSAFE_INC="1"
  @INC:
    /home/sand/src/perl/repoperls/installed-perls/host/k93msid/v5.22.2/89ad/lib/site_perl/5.22.2/x86_64-linux
    /home/sand/src/perl/repoperls/installed-perls/host/k93msid/v5.22.2/89ad/lib/site_perl/5.22.2
    /home/sand/src/perl/repoperls/installed-perls/host/k93msid/v5.22.2/89ad/lib/5.22.2/x86_64-linux
    /home/sand/src/perl/repoperls/installed-perls/host/k93msid/v5.22.2/89ad/lib/5.22.2
    .