TAP-Harness-JUnit v0.42 Perl 5 v5.26.0 x86_64-linux-thread-multi

Status
Pass
From
Nigel Horne
Dist
TAP-Harness-JUnit v0.42
Platform
Perl 5 v5.26.0 x86_64-linux-thread-multi
Date
2018-08-31 13:50:23
ID
cedaff4a-ad24-11e8-8fb1-ef5133556b3f
This distribution has been tested as part of the CPAN Testers
project, supporting the Perl programming language.  See
http://wiki.cpantesters.org/ for more information or email
questions to cpan-testers-discuss@perl.org


--
Dear Jeff Lavallee,

This is a computer-generated report for TAP-Harness-JUnit-0.42
on perl 5.26.0, created by CPAN-Reporter-1.2018.

Thank you for uploading your work to CPAN.  Congratulations!
All tests were successful.

Sections of this report:

    * Tester comments
    * Program output
    * Prerequisites
    * Environment and other context

------------------------------
TESTER COMMENTS
------------------------------

Additional comments from tester:

this report is from an automated smoke testing program
and was not reviewed by a human for accuracy

------------------------------
PROGRAM OUTPUT
------------------------------

Output from './Build test':

t/use.t ................ ok
t/xmlfile_default.t .... ok
t/package.t ............ ok
t/outputs.t ............ ok
t/outputs_with_time.t .. ok
t/large_suite.t ........ ok
All tests successful.
Files=6, Tests=40,  0 wallclock secs ( 0.04 usr  0.00 sys +  1.19 cusr  0.17 csys =  1.40 CPU)
Result: PASS

------------------------------
PREREQUISITES
------------------------------

Prerequisite modules loaded:

requires:

    Module        Need Have    
    ------------- ---- --------
    Encode        0    2.93    
    File::Temp    0    0.2304  
    Scalar::Util  0    1.49    
    TAP::Harness  3.05 3.39    
    TAP::Parser   0    3.39    
    Test::More    0    1.302136
    Time::HiRes   0    1.9746  
    XML::Simple   0    2.24    

build_requires:

    Module        Need Have    
    ------------- ---- --------
    Test::Deep    0    1.127   

configure_requires:

    Module        Need Have    
    ------------- ---- --------
    Module::Build 0.42 0.4224  


------------------------------
ENVIRONMENT AND OTHER CONTEXT
------------------------------

Environment variables:

    AUTOMATED_TESTING = 1
    HARNESS_OPTIONS = j10
    LANG = en_GB.UTF-8
    NONINTERACTIVE_TESTING = 1
    PATH = /home/njh/perl5/perlbrew/bin:/home/njh/perl5/perlbrew/perls/perl-5.26.0/bin:/home/njh/src/njh/smoker/bin:/usr/bin:/bin
    PERL5LIB = /tmp/build/Modern-Perl-1.20180701-2/blib/arch:/tmp/build/Modern-Perl-1.20180701-2/blib/lib:/tmp/build/Devel-Cover-Report-Clover-1.01-5/blib/arch:/tmp/build/Devel-Cover-Report-Clover-1.01-5/blib/lib:/tmp/build/Carp-Always-0.16-5/blib/arch:/tmp/build/Carp-Always-0.16-5/blib/lib:/tmp/build/File-Path-2.16-5/blib/arch:/tmp/build/File-Path-2.16-5/blib/lib:/tmp/build/Unicode-Homoglyph-Replace-0.01-5/blib/arch:/tmp/build/Unicode-Homoglyph-Replace-0.01-5/blib/lib
    PERL5OPT = 
    PERL5_CPANPLUS_IS_RUNNING = 26031
    PERL5_CPAN_IS_RUNNING = 26031
    PERLBREW_HOME = /home/njh/.perlbrew
    PERLBREW_MANPATH = /home/njh/perl5/perlbrew/perls/perl-5.26.0/man
    PERLBREW_PATH = /home/njh/perl5/perlbrew/bin:/home/njh/perl5/perlbrew/perls/perl-5.26.0/bin
    PERLBREW_PERL = perl-5.26.0
    PERLBREW_ROOT = /home/njh/perl5/perlbrew
    PERLBREW_SHELLRC_VERSION = 0.82
    PERLBREW_VERSION = 0.82
    PERL_MM_USE_DEFAULT = 1
    PERL_USE_UNSAFE_INC = 1
    SHELL = /bin/sh
    TEMP = /tmp/user/1000
    TMPDIR = /tmp/user/1000/testwrapper.26017

Perl special variables (and OS-specific diagnostics, for MSWin32):

    $^X = /home/njh/perl5/perlbrew/perls/perl-5.26.0/bin/perl5.26.0
    $UID/$EUID = 1000 / 1000
    $GID = 1000 4 24 25 29 30 44 46 107 112 118 1000
    $EGID = 1000 4 24 25 29 30 44 46 107 112 118 1000

Perl module toolchain versions installed:

    Module              Have    
    ------------------- --------
    CPAN                2.18    
    CPAN::Meta          2.150010
    Cwd                 3.67    
    ExtUtils::CBuilder  0.280226
    ExtUtils::Command   7.30    
    ExtUtils::Install   2.14    
    ExtUtils::MakeMaker 7.30    
    ExtUtils::Manifest  1.70    
    ExtUtils::ParseXS   3.35    
    File::Spec          3.67    
    JSON                2.97001 
    JSON::PP            2.94    
    Module::Build       0.4224  
    Module::Signature   n/a     
    Parse::CPAN::Meta   2.150010
    Test::Harness       3.39    
    Test::More          1.302136
    YAML                1.26    
    YAML::Syck          1.30    
    version             0.9918  


--

Summary of my perl5 (revision 5 version 26 subversion 0) configuration:
   
  Platform:
    osname=linux
    osvers=4.9.0-3-amd64
    archname=x86_64-linux-thread-multi
    uname='linux microcenter 4.9.0-3-amd64 #1 smp debian 4.9.25-1 (2017-05-02) x86_64 gnulinux '
    config_args='-de -Dprefix=/home/njh/perl5/perlbrew/perls/perl-5.26.0 -Duseithreads -Dusemultiplicity -Dusedevel -Accflags=-O2 -W -Wformat=2 -Wswitch -Wshadow -Wwrite-strings -Wuninitialized -Wall -pipe -mtune=native -march=native -fomit-frame-pointer -msse2 -msse -mmmx -mfpmath=sse -D_FORTIFY_SOURCE=2 -Wpointer-arith -Wstrict-prototypes -fstack-protector -Wstack-protector -Wextra -Wbad-function-cast -Wcast-align -Wcast-qual -Wdisabled-optimization -Wendif-labels -Wfloat-equal -Wformat-nonliteral -Winline -Wmissing-declarations -Wmissing-prototypes -Wnested-externs -Wpointer-arith -Wundef -Wformat-security -ftree-vectorize -fdiagnostics-color=auto -Aeval:scriptdir=/home/njh/perl5/perlbrew/perls/perl-5.26.0/bin'
    hint=recommended
    useposix=true
    d_sigaction=define
    useithreads=define
    usemultiplicity=define
    use64bitint=define
    use64bitall=define
    uselongdouble=undef
    usemymalloc=n
    default_inc_excludes_dot=define
    bincompat5005=undef
  Compiler:
    cc='cc'
    ccflags ='-D_REENTRANT -D_GNU_SOURCE -O2 -W -Wformat=2 -Wswitch -Wshadow -Wwrite-strings -Wuninitialized -Wall -pipe -mtune=native -march=native -fomit-frame-pointer -msse2 -msse -mmmx -mfpmath=sse -D_FORTIFY_SOURCE=2 -Wpointer-arith -Wstrict-prototypes -fstack-protector -Wstack-protector -Wextra -Wbad-function-cast -Wcast-align -Wcast-qual -Wdisabled-optimization -Wendif-labels -Wfloat-equal -Wformat-nonliteral -Winline -Wmissing-declarations -Wmissing-prototypes -Wnested-externs -Wpointer-arith -Wundef -Wformat-security -ftree-vectorize -fdiagnostics-color=auto -fwrapv -fno-strict-aliasing -fstack-protector-strong -I/usr/local/include -D_LARGEFILE_SOURCE -D_FILE_OFFSET_BITS=64'
    optimize='-O2'
    cppflags='-D_REENTRANT -D_GNU_SOURCE -O2 -W -Wformat=2 -Wswitch -Wshadow -Wwrite-strings -Wuninitialized -Wall -pipe -mtune=native -march=native -fomit-frame-pointer -msse2 -msse -mmmx -mfpmath=sse -D_FORTIFY_SOURCE=2 -Wpointer-arith -Wstrict-prototypes -fstack-protector -Wstack-protector -Wextra -Wbad-function-cast -Wcast-align -Wcast-qual -Wdisabled-optimization -Wendif-labels -Wfloat-equal -Wformat-nonliteral -Winline -Wmissing-declarations -Wmissing-prototypes -Wnested-externs -Wpointer-arith -Wundef -Wformat-security -ftree-vectorize -fdiagnostics-color=auto -fwrapv -fno-strict-aliasing -fstack-protector-strong -I/usr/local/include'
    ccversion=''
    gccversion='6.3.0 20170516'
    gccosandvers=''
    intsize=4
    longsize=8
    ptrsize=8
    doublesize=8
    byteorder=12345678
    doublekind=3
    d_longlong=define
    longlongsize=8
    d_longdbl=define
    longdblsize=16
    longdblkind=3
    ivtype='long'
    ivsize=8
    nvtype='double'
    nvsize=8
    Off_t='off_t'
    lseeksize=8
    alignbytes=8
    prototype=define
  Linker and Libraries:
    ld='cc'
    ldflags =' -fstack-protector-strong -L/usr/local/lib'
    libpth=/usr/local/lib /usr/lib/gcc/x86_64-linux-gnu/6/include-fixed /usr/include/x86_64-linux-gnu /usr/lib /lib/x86_64-linux-gnu /lib/../lib /usr/lib/x86_64-linux-gnu /usr/lib/../lib /lib
    libs=-lpthread -lnsl -lgdbm -ldb -ldl -lm -lcrypt -lutil -lc -lgdbm_compat
    perllibs=-lpthread -lnsl -ldl -lm -lcrypt -lutil -lc
    libc=libc-2.24.so
    so=so
    useshrplib=false
    libperl=libperl.a
    gnulibc_version='2.24'
  Dynamic Linking:
    dlsrc=dl_dlopen.xs
    dlext=so
    d_dlsymun=undef
    ccdlflags='-Wl,-E'
    cccdlflags='-fPIC'
    lddlflags='-shared -O2 -L/usr/local/lib -fstack-protector-strong'


Characteristics of this binary (from libperl): 
  Compile-time options:
    HAS_TIMES
    MULTIPLICITY
    PERLIO_LAYERS
    PERL_COPY_ON_WRITE
    PERL_DONT_CREATE_GVSV
    PERL_IMPLICIT_CONTEXT
    PERL_MALLOC_WRAP
    PERL_OP_PARENT
    PERL_PRESERVE_IVUV
    PERL_USE_DEVEL
    USE_64_BIT_ALL
    USE_64_BIT_INT
    USE_ITHREADS
    USE_LARGE_FILES
    USE_LOCALE
    USE_LOCALE_COLLATE
    USE_LOCALE_CTYPE
    USE_LOCALE_NUMERIC
    USE_LOCALE_TIME
    USE_PERLIO
    USE_PERL_ATOF
    USE_REENTRANT_API
  Built under linux
  Compiled at Jun  1 2017 23:16:30
  %ENV:
    PERL5LIB="/tmp/build/Modern-Perl-1.20180701-2/blib/arch:/tmp/build/Modern-Perl-1.20180701-2/blib/lib:/tmp/build/Devel-Cover-Report-Clover-1.01-5/blib/arch:/tmp/build/Devel-Cover-Report-Clover-1.01-5/blib/lib:/tmp/build/Carp-Always-0.16-5/blib/arch:/tmp/build/Carp-Always-0.16-5/blib/lib:/tmp/build/File-Path-2.16-5/blib/arch:/tmp/build/File-Path-2.16-5/blib/lib:/tmp/build/Unicode-Homoglyph-Replace-0.01-5/blib/arch:/tmp/build/Unicode-Homoglyph-Replace-0.01-5/blib/lib"
    PERL5OPT=""
    PERL5_CPANPLUS_IS_RUNNING="26031"
    PERL5_CPAN_IS_RUNNING="26031"
    PERLBREW_HOME="/home/njh/.perlbrew"
    PERLBREW_MANPATH="/home/njh/perl5/perlbrew/perls/perl-5.26.0/man"
    PERLBREW_PATH="/home/njh/perl5/perlbrew/bin:/home/njh/perl5/perlbrew/perls/perl-5.26.0/bin"
    PERLBREW_PERL="perl-5.26.0"
    PERLBREW_ROOT="/home/njh/perl5/perlbrew"
    PERLBREW_SHELLRC_VERSION="0.82"
    PERLBREW_VERSION="0.82"
    PERL_MM_USE_DEFAULT="1"
    PERL_USE_UNSAFE_INC="1"
  @INC:
    /tmp/build/Modern-Perl-1.20180701-2/blib/arch
    /tmp/build/Modern-Perl-1.20180701-2/blib/lib
    /tmp/build/Devel-Cover-Report-Clover-1.01-5/blib/arch
    /tmp/build/Devel-Cover-Report-Clover-1.01-5/blib/lib
    /tmp/build/Carp-Always-0.16-5/blib/arch
    /tmp/build/Carp-Always-0.16-5/blib/lib
    /tmp/build/File-Path-2.16-5/blib/arch
    /tmp/build/File-Path-2.16-5/blib/lib
    /tmp/build/Unicode-Homoglyph-Replace-0.01-5/blib/arch
    /tmp/build/Unicode-Homoglyph-Replace-0.01-5/blib/lib
    /home/njh/perl5/perlbrew/perls/perl-5.26.0/lib/site_perl/5.26.0/x86_64-linux-thread-multi
    /home/njh/perl5/perlbrew/perls/perl-5.26.0/lib/site_perl/5.26.0
    /home/njh/perl5/perlbrew/perls/perl-5.26.0/lib/5.26.0/x86_64-linux-thread-multi
    /home/njh/perl5/perlbrew/perls/perl-5.26.0/lib/5.26.0
    .