Back
From: metabase:user:8c48a90a-896b-11e5-98e3-c9e5a36ac393
Subject: PASS String-Print-0.15 v5.22.0 GNU/Linux
Date: 2015-11-13T06:43:11Z
This distribution has been tested as part of the CPAN Testers
project, supporting the Perl programming language. See
http://wiki.cpantesters.org/ for more information or email
questions to cpan-testers-discuss@perl.org
--
Dear Mark Overmeer,
This is a computer-generated report for String-Print-0.15
on perl 5.22.0, created by CPAN-Reporter-1.2015.
Thank you for uploading your work to CPAN. Congratulations!
All tests were successful.
Sections of this report:
* Tester comments
* Program output
* Prerequisites
* Environment and other context
------------------------------
TESTER COMMENTS
------------------------------
Additional comments from tester:
this report is from an automated smoke testing program
and was not reviewed by a human for accuracy
------------------------------
PROGRAM OUTPUT
------------------------------
Output from '/usr/bin/make test':
PERL_DL_NONLAZY=1 "/home/ray/perl5/perlbrew/perls/perl-5.22.0/bin/perl" "-MExtUtils::Command::MM" "-MTest::Harness" "-e" "undef *Test::Harness::Switches; test_harness(0, 'blib/lib', 'blib/arch')" t/*.t
Perl 5.022000
Test::More version 1.001014
Unicode::GCString version 2013.10
t/00use.t ........ ok
t/10serial.t ..... ok
t/11modif.t ...... ok
t/20prewrite.t ... ok
t/30examp_oo.t ... ok
t/31examp_fun.t .. ok
t/40utf8.t ....... ok
All tests successful.
Files=7, Tests=153, 0 wallclock secs ( 0.05 usr 0.02 sys + 0.38 cusr 0.05 csys = 0.50 CPU)
Result: PASS
------------------------------
PREREQUISITES
------------------------------
Prerequisite modules loaded:
requires:
Module Need Have
------------------- ---- --------
Encode 0 2.72
Test::More 0.86 1.001014
Unicode::GCString 0 2013.10
build_requires:
Module Need Have
------------------- ---- --------
ExtUtils::MakeMaker 0 7.04_01
configure_requires:
Module Need Have
------------------- ---- --------
ExtUtils::MakeMaker 0 7.04_01
------------------------------
ENVIRONMENT AND OTHER CONTEXT
------------------------------
Environment variables:
AUTOMATED_TESTING = 1
LANG = en_US.UTF-8
PATH = /home/ray/perl5/perlbrew/bin:/home/ray/perl5/perlbrew/perls/perl-5.22.0/bin:/home/ray/bin:/usr/local/sbin:/usr/local/bin:/usr/sbin:/usr/bin:/sbin:/bin:/usr/games:/usr/local/games:/home/ray/dwimperl-linux-5.20.1-10-x86_64/perl/bin
PERL5LIB = /home/ray/.cpan/build/Unicode-LineBreak-2015.11-uPXfLf/blib/arch:/home/ray/.cpan/build/Unicode-LineBreak-2015.11-uPXfLf/blib/lib:/home/ray/.cpan/build/MIME-Charset-1.012-JZL7Y1/blib/arch:/home/ray/.cpan/build/MIME-Charset-1.012-JZL7Y1/blib/lib
PERL5OPT =
PERL5_CPANPLUS_IS_RUNNING = 29523
PERL5_CPAN_IS_RUNNING = 29523
PERL5_CPAN_IS_RUNNING_IN_RECURSION = 29346,29523
PERLBREW_MANPATH = /home/ray/perl5/perlbrew/perls/perl-5.22.0/man
PERLBREW_PATH = /home/ray/perl5/perlbrew/bin:/home/ray/perl5/perlbrew/perls/perl-5.22.0/bin
PERLBREW_PERL = perl-5.22.0
PERLBREW_ROOT = /home/ray/perl5/perlbrew
PERLBREW_SKIP_INIT = 1
PERLBREW_VERSION = 0.66
PERL_CR_SMOKER_CURRENT = IOMux-1.00
PERL_EXTUTILS_AUTOINSTALL = --defaultdeps
PERL_MM_USE_DEFAULT = 1
SHELL = /bin/bash
TERM = xterm
Perl special variables (and OS-specific diagnostics, for MSWin32):
$^X = /home/ray/perl5/perlbrew/perls/perl-5.22.0/bin/perl
$UID/$EUID = 1000 / 1000
$GID = 1000 4 24 27 30 46 108 110 1000
$EGID = 1000 4 24 27 30 46 108 110 1000
Perl module toolchain versions installed:
Module Have
------------------- --------
CPAN 2.11
CPAN::Meta 2.150001
Cwd 3.56
ExtUtils::CBuilder 0.280221
ExtUtils::Command 1.20
ExtUtils::Install 2.04
ExtUtils::MakeMaker 7.04_01
ExtUtils::Manifest 1.70
ExtUtils::ParseXS 3.28
File::Spec 3.56
JSON 2.90
JSON::PP 2.27300
Module::Build 0.4214
Module::Signature n/a
Parse::CPAN::Meta 1.4414
Test::Harness 3.35
Test::More 1.001014
YAML n/a
YAML::Syck n/a
version 0.9909
--
Summary of my perl5 (revision 5 version 22 subversion 0) configuration:
Platform:
osname=linux, osvers=3.13.0-37-generic, archname=x86_64-linux
uname='linux ray-bk169aar-aba-hpe-210f 3.13.0-37-generic #64-ubuntu smp mon sep 22 21:28:38 utc 2014 x86_64 x86_64 x86_64 gnulinux '
config_args='-de -Dprefix=/home/ray/perl5/perlbrew/perls/perl-5.22.0 -Aeval:scriptdir=/home/ray/perl5/perlbrew/perls/perl-5.22.0/bin'
hint=recommended, useposix=true, d_sigaction=define
useithreads=undef, usemultiplicity=undef
use64bitint=define, use64bitall=define, uselongdouble=undef
usemymalloc=n, bincompat5005=undef
Compiler:
cc='cc', ccflags ='-fwrapv -fno-strict-aliasing -pipe -fstack-protector -I/usr/local/include -D_LARGEFILE_SOURCE -D_FILE_OFFSET_BITS=64',
optimize='-O2',
cppflags='-fwrapv -fno-strict-aliasing -pipe -fstack-protector -I/usr/local/include'
ccversion='', gccversion='4.8.4', gccosandvers=''
intsize=4, longsize=8, ptrsize=8, doublesize=8, byteorder=12345678, doublekind=3
d_longlong=define, longlongsize=8, d_longdbl=define, longdblsize=16, longdblkind=3
ivtype='long', ivsize=8, nvtype='double', nvsize=8, Off_t='off_t', lseeksize=8
alignbytes=8, prototype=define
Linker and Libraries:
ld='cc', ldflags =' -fstack-protector -L/usr/local/lib'
libpth=/usr/local/lib /usr/lib/gcc/x86_64-linux-gnu/4.8/include-fixed /usr/include/x86_64-linux-gnu /usr/lib /lib/x86_64-linux-gnu /lib/../lib /usr/lib/x86_64-linux-gnu /usr/lib/../lib /lib
libs=-lpthread -lnsl -ldl -lm -lcrypt -lutil -lc
perllibs=-lpthread -lnsl -ldl -lm -lcrypt -lutil -lc
libc=libc-2.19.so, so=so, useshrplib=false, libperl=libperl.a
gnulibc_version='2.19'
Dynamic Linking:
dlsrc=dl_dlopen.xs, dlext=so, d_dlsymun=undef, ccdlflags='-Wl,-E'
cccdlflags='-fPIC', lddlflags='-shared -O2 -L/usr/local/lib -fstack-protector'
Characteristics of this binary (from libperl):
Compile-time options: HAS_TIMES PERLIO_LAYERS PERL_DONT_CREATE_GVSV
PERL_HASH_FUNC_ONE_AT_A_TIME_HARD PERL_MALLOC_WRAP
PERL_NEW_COPY_ON_WRITE PERL_PRESERVE_IVUV
USE_64_BIT_ALL USE_64_BIT_INT USE_LARGE_FILES
USE_LOCALE USE_LOCALE_COLLATE USE_LOCALE_CTYPE
USE_LOCALE_NUMERIC USE_LOCALE_TIME USE_PERLIO
USE_PERL_ATOF
Built under linux
Compiled at Nov 11 2015 21:43:41
%ENV:
PERL5LIB="/home/ray/.cpan/build/Unicode-LineBreak-2015.11-uPXfLf/blib/arch:/home/ray/.cpan/build/Unicode-LineBreak-2015.11-uPXfLf/blib/lib:/home/ray/.cpan/build/MIME-Charset-1.012-JZL7Y1/blib/arch:/home/ray/.cpan/build/MIME-Charset-1.012-JZL7Y1/blib/lib"
PERL5OPT=""
PERL5_CPANPLUS_IS_RUNNING="29523"
PERL5_CPAN_IS_RUNNING="29523"
PERL5_CPAN_IS_RUNNING_IN_RECURSION="29346,29523"
PERLBREW_MANPATH="/home/ray/perl5/perlbrew/perls/perl-5.22.0/man"
PERLBREW_PATH="/home/ray/perl5/perlbrew/bin:/home/ray/perl5/perlbrew/perls/perl-5.22.0/bin"
PERLBREW_PERL="perl-5.22.0"
PERLBREW_ROOT="/home/ray/perl5/perlbrew"
PERLBREW_SKIP_INIT="1"
PERLBREW_VERSION="0.66"
PERL_CR_SMOKER_CURRENT="IOMux-1.00"
PERL_EXTUTILS_AUTOINSTALL="--defaultdeps"
PERL_MM_USE_DEFAULT="1"
@INC:
/home/ray/.cpan/build/Unicode-LineBreak-2015.11-uPXfLf/blib/arch
/home/ray/.cpan/build/Unicode-LineBreak-2015.11-uPXfLf/blib/lib
/home/ray/.cpan/build/MIME-Charset-1.012-JZL7Y1/blib/arch
/home/ray/.cpan/build/MIME-Charset-1.012-JZL7Y1/blib/lib
/home/ray/perl5/perlbrew/perls/perl-5.22.0/lib/site_perl/5.22.0/x86_64-linux
/home/ray/perl5/perlbrew/perls/perl-5.22.0/lib/site_perl/5.22.0
/home/ray/perl5/perlbrew/perls/perl-5.22.0/lib/5.22.0/x86_64-linux
/home/ray/perl5/perlbrew/perls/perl-5.22.0/lib/5.22.0
.