Report for PostScript-Graph-1.02

Back
From: metabase:user:d2c9f356-b46f-11df-9a90-20a83c0b7757
Subject: PASS PostScript-Graph-1.02 v5.15.0 SunOS/Solaris
Date: 2011-08-05T06:11:50Z

This distribution has been tested as part of the CPAN Testers
project, supporting the Perl programming language.  See
http://wiki.cpantesters.org/ for more information or email
questions to cpan-testers-discuss@perl.org


--
Dear Christopher Willmot,

This is a computer-generated report for PostScript-Graph-1.02
on perl 5.15.0, created by CPAN-Reporter-1.1902.

Thank you for uploading your work to CPAN.  Congratulations!
All tests were successful.

Sections of this report:

    * Tester comments
    * Program output
    * Prerequisites
    * Environment and other context

------------------------------
TESTER COMMENTS
------------------------------

Additional comments from tester:

this report is from an automated smoke testing program
and was not reviewed by a human for accuracy

------------------------------
PROGRAM OUTPUT
------------------------------

Output from '/usr/local/bin/make test':

PERL_DL_NONLAZY=1 /export/home/cpant4/perl5/bin/perl5.15.0 "-MExtUtils::Command::MM" "-e" "test_harness(0, 'blib/lib', 'blib/arch')" t/*.t
Use of uninitialized value in numeric eq (==) at t/01pa-simple.t line 34.
Use ghostview or similar to inspect results file:
/export/home/cpant4/.cpan/build/PostScript-Graph-1.02-kARNzd/t/01pa-simple.ps
t/01pa-simple.t .... ok
t/02pa-defaults.t .. ok
Use of uninitialized value in numeric eq (==) at t/03pa-barchart.t line 121.
Use ghostview or similar to inspect results file:
/export/home/cpant4/.cpan/build/PostScript-Graph-1.02-kARNzd/t/03pa-barchart.ps
t/03pa-barchart.t .. ok
Use of uninitialized value in numeric eq (==) at t/04pa-twobars.t line 61.
Use ghostview or similar to inspect results file:
/export/home/cpant4/.cpan/build/PostScript-Graph-1.02-kARNzd/t/04pa-twobars.ps
t/04pa-twobars.t ... ok
Use of uninitialized value in numeric eq (==) at t/10ke-simple.t line 58.
Use ghostview or similar to inspect results file:
/export/home/cpant4/.cpan/build/PostScript-Graph-1.02-kARNzd/t/10ke-simple.ps
t/10ke-simple.t .... ok
Use of uninitialized value in numeric eq (==) at t/21st-simple.t line 53.
Use ghostview or similar to inspect results file:
/export/home/cpant4/.cpan/build/PostScript-Graph-1.02-kARNzd/t/21st-simple.ps
t/21st-simple.t .... ok
Use of uninitialized value in numeric eq (==) at t/22st-styles.t line 72.
Use ghostview or similar to inspect results file:
/export/home/cpant4/.cpan/build/PostScript-Graph-1.02-kARNzd/t/22st-styles.ps
t/22st-styles.t .... ok
Use of uninitialized value in numeric eq (==) at t/23st-const.t line 56.
Use ghostview or similar to inspect results file:
/export/home/cpant4/.cpan/build/PostScript-Graph-1.02-kARNzd/t/23st-const.ps
t/23st-const.t ..... ok
Use of uninitialized value in numeric eq (==) at t/24st-colour.t line 54.
Use ghostview or similar to inspect results file:
/export/home/cpant4/.cpan/build/PostScript-Graph-1.02-kARNzd/t/24st-colour.ps
t/24st-colour.t .... ok
Use of uninitialized value in numeric eq (==) at t/31ba-default.t line 45.
Use ghostview or similar to inspect results file:
/export/home/cpant4/.cpan/build/PostScript-Graph-1.02-kARNzd/t/31ba-default.ps
t/31ba-default.t ... ok
Use of uninitialized value in numeric eq (==) at t/32ba-arrays.t line 67.
Use ghostview or similar to inspect results file:
/export/home/cpant4/.cpan/build/PostScript-Graph-1.02-kARNzd/t/32ba-arrays.ps
t/32ba-arrays.t .... ok
Use of uninitialized value in numeric eq (==) at t/33ba-minus.t line 55.
Use ghostview or similar to inspect results file:
/export/home/cpant4/.cpan/build/PostScript-Graph-1.02-kARNzd/t/33ba-minus.ps
t/33ba-minus.t ..... ok
Use of uninitialized value in numeric eq (==) at t/34ba-multi.t line 52.
Use ghostview or similar to inspect results file:
/export/home/cpant4/.cpan/build/PostScript-Graph-1.02-kARNzd/t/34ba-multi.ps
t/34ba-multi.t ..... ok
Use of uninitialized value in numeric eq (==) at t/35ba-single.t line 57.
Use ghostview or similar to inspect results file:
/export/home/cpant4/.cpan/build/PostScript-Graph-1.02-kARNzd/t/35ba-single.ps
t/35ba-single.t .... ok
Use of uninitialized value in numeric eq (==) at t/36ba-extra.t line 84.
Use ghostview or similar to inspect results file:
/export/home/cpant4/.cpan/build/PostScript-Graph-1.02-kARNzd/t/36ba-extra.ps
t/36ba-extra.t ..... ok
Use of uninitialized value in numeric eq (==) at t/37ba-lines.t line 74.
Use ghostview or similar to inspect results file:
/export/home/cpant4/.cpan/build/PostScript-Graph-1.02-kARNzd/t/37ba-lines.ps
t/37ba-lines.t ..... ok
Use of uninitialized value in numeric eq (==) at t/41xy-ohms.t line 42.
Use ghostview or similar to inspect results file:
/export/home/cpant4/.cpan/build/PostScript-Graph-1.02-kARNzd/t/41xy-ohms.ps
t/41xy-ohms.t ...... ok
Use of uninitialized value in numeric eq (==) at t/42xy-lines.t line 106.
Use ghostview or similar to inspect results file:
/export/home/cpant4/.cpan/build/PostScript-Graph-1.02-kARNzd/t/42xy-lines.ps
t/42xy-lines.t ..... ok
Use of uninitialized value in numeric eq (==) at t/43xy-styles.t line 82.
Use ghostview or similar to inspect results file:
/export/home/cpant4/.cpan/build/PostScript-Graph-1.02-kARNzd/t/43xy-styles.ps
t/43xy-styles.t .... ok
All tests successful.
Files=19, Tests=261,  2 wallclock secs ( 0.10 usr  0.04 sys +  0.87 cusr  0.08 csys =  1.09 CPU)
Result: PASS

------------------------------
PREREQUISITES
------------------------------

Prerequisite modules loaded:

requires:

    Module              Need Have   
    ------------------- ---- -------
    Carp                0    1.20   
    Exporter            0    5.64_03
    PostScript::File    1.01 2.10   
    Test::More          0    0.98   
    Text::CSV_XS        0    0.82   

build_requires:

    Module              Need Have   
    ------------------- ---- -------
    ExtUtils::MakeMaker 0    6.58   


------------------------------
ENVIRONMENT AND OTHER CONTEXT
------------------------------

Environment variables:

    AUTOMATED_TESTING = 1
    LANG = C
    LD_LIBRARY_PATH = /usr/local/lib:
    PATH = /export/home/cpant4/perl5/bin:/usr/local/bin:/usr/bin
    PERL5LIB = /export/home/cpant4/.cpan/build/PostScript-File-2.10-Pvb6bz/blib/arch:/export/home/cpant4/.cpan/build/PostScript-File-2.10-Pvb6bz/blib/lib:/export/home/cpant4/.cpan/build/Text-CSV_XS-0.82-Ec0j6x/blib/arch:/export/home/cpant4/.cpan/build/Text-CSV_XS-0.82-Ec0j6x/blib/lib
    PERL5OPT = 
    PERL5_CPANPLUS_IS_RUNNING = 25797
    PERL5_CPAN_IS_RUNNING = 25797
    PERL5_CPAN_IS_RUNNING_IN_RECURSION = 630,25797
    PERL_CR_SMOKER_CURRENT = PostScript-Graph-1.02
    PERL_EXTUTILS_AUTOINSTALL = --defaultdeps
    PERL_MM_USE_DEFAULT = 1
    SHELL = /bin/bash
    TERM = xterm

Perl special variables (and OS-specific diagnostics, for MSWin32):

    $^X = /export/home/cpant4/perl5/bin/perl5.15.0
    $UID/$EUID = 104 / 104
    $GID = 1 1
    $EGID = 1 1

Perl module toolchain versions installed:

    Module              Have    
    ------------------- --------
    CPAN                1.9600  
    Cwd                 3.36    
    ExtUtils::CBuilder  0.280204
    ExtUtils::Command   1.17    
    ExtUtils::Install   1.56    
    ExtUtils::MakeMaker 6.58    
    ExtUtils::Manifest  1.58    
    ExtUtils::ParseXS   2.2210  
    File::Spec          3.33    
    Module::Build       0.3800  
    Module::Signature   n/a     
    Test::Harness       3.23    
    Test::More          0.98    
    YAML                0.73    
    YAML::Syck          n/a     
    version             0.92    


--

Summary of my perl5 (revision 5 version 15 subversion 0) configuration:
   
  Platform:
    osname=solaris, osvers=2.10, archname=i86pc-solaris-64int
    uname='sunos vmrz0046 5.10 generic_141445-09 i86pc i386 i86pc solaris '
    config_args='-Dcc=gcc -Dprefix=~/perl5 -Duse64bitint -Dusedevel -d'
    hint=recommended, useposix=true, d_sigaction=define
    useithreads=undef, usemultiplicity=undef
    useperlio=define, d_sfio=undef, uselargefiles=define, usesocks=undef
    use64bitint=define, use64bitall=undef, uselongdouble=undef
    usemymalloc=n, bincompat5005=undef
  Compiler:
    cc='gcc', ccflags ='-DPTR_IS_LONG -fno-strict-aliasing -pipe -I/usr/local/include -D_LARGEFILE_SOURCE -D_FILE_OFFSET_BITS=64 -DPERL_USE_SAFE_PUTENV',
    optimize='-O',
    cppflags='-DPTR_IS_LONG -fno-strict-aliasing -pipe -I/usr/local/include'
    ccversion='', gccversion='3.4.6', gccosandvers='solaris2.10'
    intsize=4, longsize=4, ptrsize=4, doublesize=8, byteorder=12345678
    d_longlong=define, longlongsize=8, d_longdbl=define, longdblsize=12
    ivtype='long long', ivsize=8, nvtype='double', nvsize=8, Off_t='off_t', lseeksize=8
    alignbytes=4, prototype=define
  Linker and Libraries:
    ld='gcc', ldflags =' -L/usr/local/lib '
    libpth=/usr/local/lib /usr/lib /usr/ccs/lib
    libs=-lsocket -lnsl -lgdbm -ldl -lm -lc
    perllibs=-lsocket -lnsl -ldl -lm -lc
    libc=/lib/libc.so, so=so, useshrplib=false, libperl=libperl.a
    gnulibc_version=''
  Dynamic Linking:
    dlsrc=dl_dlopen.xs, dlext=so, d_dlsymun=undef, ccdlflags=' '
    cccdlflags='-fPIC', lddlflags='-G -L/usr/local/lib'


Characteristics of this binary (from libperl): 
  Compile-time options: PERL_DONT_CREATE_GVSV PERL_MALLOC_WRAP
                        PERL_PRESERVE_IVUV PERL_USE_DEVEL
                        PERL_USE_SAFE_PUTENV USE_64_BIT_INT USE_LARGE_FILES
                        USE_LOCALE USE_LOCALE_COLLATE USE_LOCALE_CTYPE
                        USE_LOCALE_NUMERIC USE_PERLIO USE_PERL_ATOF
  Built under solaris
  Compiled at Jun 28 2011 12:19:09
  %ENV:
    PERL5LIB="/export/home/cpant4/.cpan/build/PostScript-File-2.10-Pvb6bz/blib/arch:/export/home/cpant4/.cpan/build/PostScript-File-2.10-Pvb6bz/blib/lib:/export/home/cpant4/.cpan/build/Text-CSV_XS-0.82-Ec0j6x/blib/arch:/export/home/cpant4/.cpan/build/Text-CSV_XS-0.82-Ec0j6x/blib/lib"
    PERL5OPT=""
    PERL5_CPANPLUS_IS_RUNNING="25797"
    PERL5_CPAN_IS_RUNNING="25797"
    PERL5_CPAN_IS_RUNNING_IN_RECURSION="630,25797"
    PERL_CR_SMOKER_CURRENT="PostScript-Graph-1.02"
    PERL_EXTUTILS_AUTOINSTALL="--defaultdeps"
    PERL_MM_USE_DEFAULT="1"
  @INC:
    /export/home/cpant4/.cpan/build/PostScript-File-2.10-Pvb6bz/blib/arch
    /export/home/cpant4/.cpan/build/PostScript-File-2.10-Pvb6bz/blib/lib
    /export/home/cpant4/.cpan/build/Text-CSV_XS-0.82-Ec0j6x/blib/arch
    /export/home/cpant4/.cpan/build/Text-CSV_XS-0.82-Ec0j6x/blib/lib
    /export/home/cpant4/perl5/lib/site_perl/5.15.0/i86pc-solaris-64int
    /export/home/cpant4/perl5/lib/site_perl/5.15.0
    /export/home/cpant4/perl5/lib/5.15.0/i86pc-solaris-64int
    /export/home/cpant4/perl5/lib/5.15.0
    .