Report for String-Validator-Email-0.98

Back
From: metabase:user:de0c1687-6c17-1014-803a-aa7147b9bd01
Subject: PASS String-Validator-Email-0.98 v5.16.2 
Date: 2013-03-09T19:02:46Z

This distribution has been tested as part of the CPAN Testers
project, supporting the Perl programming language.  See
http://wiki.cpantesters.org/ for more information or email
questions to cpan-testers-discuss@perl.org


--
Dear John Karr,

This is a computer-generated report for String-Validator-Email-0.98
on perl 5.16.2, created by CPAN-Reporter-1.2009.

Thank you for uploading your work to CPAN.  Congratulations!
All tests were successful.

Sections of this report:

    * Tester comments
    * Program output
    * Prerequisites
    * Environment and other context

------------------------------
TESTER COMMENTS
------------------------------

Additional comments from tester:

this report is from an automated smoke testing program
and was not reviewed by a human for accuracy

------------------------------
PROGRAM OUTPUT
------------------------------

Output from 'C:\strawberry\c\bin\dmake.exe test':

C:\strawberry\perl\bin\perl.exe "-MExtUtils::Command::MM" "-e" "test_harness(0, 'blib\lib', 'blib\arch')" t/*.t
# Testing String::Validator::Email 0.98, Perl 5.016002, C:\strawberry\perl\bin\perl.exe
t/00-load.t ..... ok
# Testing String::Validator::Email 0.98, Perl 5.016002, C:\strawberry\perl\bin\perl.exe
t/10-matches.t .. ok
# Testing String::Validator::Email 0.98, Perl 5.016002, C:\strawberry\perl\bin\perl.exe
Use of uninitialized value $string2 in numeric eq (==) at C:\strawberry\cpan\build\String-Validator-Common-0.97-4hCxek/blib/lib/String/Validator/Common.pm line 53.
Use of uninitialized value $string2 in numeric eq (==) at C:\strawberry\cpan\build\String-Validator-Common-0.97-4hCxek/blib/lib/String/Validator/Common.pm line 53.
Use of uninitialized value $string2 in numeric eq (==) at C:\strawberry\cpan\build\String-Validator-Common-0.97-4hCxek/blib/lib/String/Validator/Common.pm line 53.
Use of uninitialized value $string2 in numeric eq (==) at C:\strawberry\cpan\build\String-Validator-Common-0.97-4hCxek/blib/lib/String/Validator/Common.pm line 53.
Use of uninitialized value $string2 in numeric eq (==) at C:\strawberry\cpan\build\String-Validator-Common-0.97-4hCxek/blib/lib/String/Validator/Common.pm line 53.
Use of uninitialized value $string2 in numeric eq (==) at C:\strawberry\cpan\build\String-Validator-Common-0.97-4hCxek/blib/lib/String/Validator/Common.pm line 53.
Use of uninitialized value $string2 in numeric eq (==) at C:\strawberry\cpan\build\String-Validator-Common-0.97-4hCxek/blib/lib/String/Validator/Common.pm line 53.
Use of uninitialized value $string2 in numeric eq (==) at C:\strawberry\cpan\build\String-Validator-Common-0.97-4hCxek/blib/lib/String/Validator/Common.pm line 53.
Use of uninitialized value $string2 in numeric eq (==) at C:\strawberry\cpan\build\String-Validator-Common-0.97-4hCxek/blib/lib/String/Validator/Common.pm line 53.
Use of uninitialized value $string2 in numeric eq (==) at C:\strawberry\cpan\build\String-Validator-Common-0.97-4hCxek/blib/lib/String/Validator/Common.pm line 53.
Use of uninitialized value $string2 in numeric eq (==) at C:\strawberry\cpan\build\String-Validator-Common-0.97-4hCxek/blib/lib/String/Validator/Common.pm line 53.
Use of uninitialized value $string2 in numeric eq (==) at C:\strawberry\cpan\build\String-Validator-Common-0.97-4hCxek/blib/lib/String/Validator/Common.pm line 53.
t/11-length.t ... ok
# Testing String::Validator::Email 0.98, Perl 5.016002, C:\strawberry\perl\bin\perl.exe
Use of uninitialized value $string2 in numeric eq (==) at C:\strawberry\cpan\build\String-Validator-Common-0.97-4hCxek/blib/lib/String/Validator/Common.pm line 53.
Use of uninitialized value $string2 in numeric eq (==) at C:\strawberry\cpan\build\String-Validator-Common-0.97-4hCxek/blib/lib/String/Validator/Common.pm line 53.
Use of uninitialized value in transliteration (tr///) at C:\strawberry\cpan\build\String-Validator-Email-0.98-uStE2V\blib\lib/String/Validator/Email.pm line 104.
Use of uninitialized value $string2 in numeric eq (==) at C:\strawberry\cpan\build\String-Validator-Common-0.97-4hCxek/blib/lib/String/Validator/Common.pm line 53.
Use of uninitialized value $string2 in numeric eq (==) at C:\strawberry\cpan\build\String-Validator-Common-0.97-4hCxek/blib/lib/String/Validator/Common.pm line 53.
Use of uninitialized value $string2 in numeric eq (==) at C:\strawberry\cpan\build\String-Validator-Common-0.97-4hCxek/blib/lib/String/Validator/Common.pm line 53.
Use of uninitialized value $string2 in numeric eq (==) at C:\strawberry\cpan\build\String-Validator-Common-0.97-4hCxek/blib/lib/String/Validator/Common.pm line 53.
t/20-default.t .. ok
# Testing String::Validator::Email 0.98, Perl 5.016002, C:\strawberry\perl\bin\perl.exe
Use of uninitialized value $string2 in numeric eq (==) at C:\strawberry\cpan\build\String-Validator-Common-0.97-4hCxek/blib/lib/String/Validator/Common.pm line 53.
Use of uninitialized value $string2 in numeric eq (==) at C:\strawberry\cpan\build\String-Validator-Common-0.97-4hCxek/blib/lib/String/Validator/Common.pm line 53.
Use of uninitialized value $string2 in numeric eq (==) at C:\strawberry\cpan\build\String-Validator-Common-0.97-4hCxek/blib/lib/String/Validator/Common.pm line 53.
Use of uninitialized value $string2 in numeric eq (==) at C:\strawberry\cpan\build\String-Validator-Common-0.97-4hCxek/blib/lib/String/Validator/Common.pm line 53.
Use of uninitialized value $string2 in numeric eq (==) at C:\strawberry\cpan\build\String-Validator-Common-0.97-4hCxek/blib/lib/String/Validator/Common.pm line 53.
Use of uninitialized value $string2 in numeric eq (==) at C:\strawberry\cpan\build\String-Validator-Common-0.97-4hCxek/blib/lib/String/Validator/Common.pm line 53.
Use of uninitialized value $string2 in numeric eq (==) at C:\strawberry\cpan\build\String-Validator-Common-0.97-4hCxek/blib/lib/String/Validator/Common.pm line 53.
t/21-options.t .. ok
# Testing String::Validator::Email 0.98, Perl 5.016002, C:\strawberry\perl\bin\perl.exe
Use of uninitialized value $string2 in numeric eq (==) at C:\strawberry\cpan\build\String-Validator-Common-0.97-4hCxek/blib/lib/String/Validator/Common.pm line 53.
Use of uninitialized value $string2 in numeric eq (==) at C:\strawberry\cpan\build\String-Validator-Common-0.97-4hCxek/blib/lib/String/Validator/Common.pm line 53.
Use of uninitialized value $string2 in numeric eq (==) at C:\strawberry\cpan\build\String-Validator-Common-0.97-4hCxek/blib/lib/String/Validator/Common.pm line 53.
Use of uninitialized value $string2 in numeric eq (==) at C:\strawberry\cpan\build\String-Validator-Common-0.97-4hCxek/blib/lib/String/Validator/Common.pm line 53.
Use of uninitialized value $string2 in numeric eq (==) at C:\strawberry\cpan\build\String-Validator-Common-0.97-4hCxek/blib/lib/String/Validator/Common.pm line 53.
Use of uninitialized value $string2 in numeric eq (==) at C:\strawberry\cpan\build\String-Validator-Common-0.97-4hCxek/blib/lib/String/Validator/Common.pm line 53.
t/22-mx.t ....... ok
# Testing String::Validator::Email 0.98, Perl 5.016002, C:\strawberry\perl\bin\perl.exe
Use of uninitialized value $string2 in numeric eq (==) at C:\strawberry\cpan\build\String-Validator-Common-0.97-4hCxek/blib/lib/String/Validator/Common.pm line 53.
t/23-string.t ... ok
All tests successful.
Files=7, Tests=64, 58 wallclock secs ( 0.06 usr +  0.06 sys =  0.13 CPU)
Result: PASS

------------------------------
PREREQUISITES
------------------------------

Prerequisite modules loaded:

requires:

    Module                    Need       Have      
    ------------------------- ---------- ----------
    Email::Address            1.896      1.898     
    Email::Valid              0.19       0.190     
    Net::DNS                  0.68       0.72      
    Net::Domain::TLD          1.69       1.69      
    Regexp::Common            2011121001 2011121001
    String::Validator::Common 0.97       0.97      
    Test::More                0          0.98      

build_requires:

    Module                    Need       Have      
    ------------------------- ---------- ----------
    ExtUtils::MakeMaker       0          6.63_02   

configure_requires:

    Module                    Need       Have      
    ------------------------- ---------- ----------
    ExtUtils::MakeMaker       0          6.63_02   


------------------------------
ENVIRONMENT AND OTHER CONTEXT
------------------------------

Environment variables:

    AUTOMATED_TESTING = 1
    COMSPEC = C:\Windows\system32\cmd.exe
    NUMBER_OF_PROCESSORS = 4
    PATH = C:\Program Files (x86)\NVIDIA Corporation\PhysX\Common;C:\Windows\system32;C:\Windows;C:\Windows\System32\Wbem;C:\Windows\System32\WindowsPowerShell\v1.0\;C:\Program Files (x86)\ATI Technologies\ATI.ACE\Core-Static;C:\Program Files\MySQL\MySQL Server 5.5\bin;c:\Program Files (x86)\Microsoft SQL Server\100\Tools\Binn\;c:\Program Files\Microsoft SQL Server\100\Tools\Binn\;c:\Program Files\Microsoft SQL Server\100\DTS\Binn\;C:\strawberry\c\bin;C:\strawberry\perl\site\bin;C:\strawberry\perl\bin
    PERL5LIB = C:\strawberry\cpan\build\Email-Address-1.898-z60Gpa/blib/arch;C:\strawberry\cpan\build\Email-Address-1.898-z60Gpa/blib/lib;C:\strawberry\cpan\build\Email-Valid-0.190-9J2lkZ/blib/arch;C:\strawberry\cpan\build\Email-Valid-0.190-9J2lkZ/blib/lib;C:\strawberry\cpan\build\MailTools-2.12-ZYREyV/blib/arch;C:\strawberry\cpan\build\MailTools-2.12-ZYREyV/blib/lib;C:\strawberry\cpan\build\Net-DNS-0.72-GKPcMC/blib/arch;C:\strawberry\cpan\build\Net-DNS-0.72-GKPcMC/blib/lib;C:\strawberry\cpan\build\Win32-IPHelper-0.08-mEqRqt/blib/arch;C:\strawberry\cpan\build\Win32-IPHelper-0.08-mEqRqt/blib/lib;C:\strawberry\cpan\build\enum-1.016-JBUFCZ/blib/arch;C:\strawberry\cpan\build\enum-1.016-JBUFCZ/blib/lib;C:\strawberry\cpan\build\Net-Domain-TLD-1.69-xn8IR1/blib/arch;C:\strawberry\cpan\build\Net-Domain-TLD-1.69-xn8IR1/blib/lib;C:\strawberry\cpan\build\Regexp-Common-2011121001-YIsQRN/blib/arch;C:\strawberry\cpan\build\Regexp-Common-2011121001-YIsQRN/blib/lib;C:\strawberry\cpan\build\String-Validator-Common-0.97-4hCxek/blib/arch;C:\strawberry\cpan\build\String-Validator-Common-0.97-4hCxek/blib/lib
    PERL5OPT = 
    PERL5_CPANPLUS_IS_RUNNING = 14276
    PERL5_CPAN_IS_RUNNING = 14276
    PERL5_CPAN_IS_RUNNING_IN_RECURSION = 5968,14276
    PERL_CR_SMOKER_CURRENT = String-Validator-Email-0.98
    PERL_EXTUTILS_AUTOINSTALL = --defaultdeps
    PERL_JSON_BACKEND = JSON::XS
    PERL_MM_USE_DEFAULT = 1
    PERL_YAML_BACKEND = YAML
    PROCESSOR_IDENTIFIER = AMD64 Family 16 Model 4 Stepping 3, AuthenticAMD
    TEMP = C:\Users\MMUSGR~1\AppData\Local\Temp
    TERM = dumb

Perl special variables (and OS-specific diagnostics, for MSWin32):

    $^X = C:\strawberry\perl\bin\perl.exe
    $UID/$EUID = 0 / 0
    $GID = 0
    $EGID = 0
    Win32::GetOSName = Win7
    Win32::GetOSVersion = Service Pack 1, 6, 1, 7601, 2, 1, 0, 768, 1
    Win32::FsType = NTFS
    Win32::IsAdminUser = 0

Perl module toolchain versions installed:

    Module              Have    
    ------------------- --------
    CPAN                1.9800  
    CPAN::Meta          2.120921
    Cwd                 3.39_02 
    ExtUtils::CBuilder  0.280206
    ExtUtils::Command   1.17    
    ExtUtils::Install   1.58    
    ExtUtils::MakeMaker 6.63_02 
    ExtUtils::Manifest  1.61    
    ExtUtils::ParseXS   3.16    
    File::Spec          3.39_02 
    JSON                2.53    
    JSON::PP            2.27200 
    Module::Build       0.4003  
    Module::Signature   n/a     
    Parse::CPAN::Meta   1.4404  
    Test::Harness       3.25    
    Test::More          0.98    
    YAML                0.84    
    YAML::Syck          1.21    
    version             0.9901  


--

Summary of my perl5 (revision 5 version 16 subversion 2) configuration:
   
  Platform:
    osname=MSWin32, osvers=4.0, archname=MSWin32-x64-multi-thread
    uname='Win32 strawberry-perl 5.16.2.1 #1 Fri Nov  2 03:03:35 2012 x64'
    config_args='undef'
    hint=recommended, useposix=true, d_sigaction=undef
    useithreads=define, usemultiplicity=define
    useperlio=define, d_sfio=undef, uselargefiles=define, usesocks=undef
    use64bitint=define, use64bitall=undef, uselongdouble=undef
    usemymalloc=n, bincompat5005=undef
  Compiler:
    cc='gcc', ccflags =' -s -O2 -DWIN32 -DWIN64 -DCONSERVATIVE  -DPERL_TEXTMODE_SCRIPTS -DPERL_IMPLICIT_CONTEXT -DPERL_IMPLICIT_SYS -fno-strict-aliasing -mms-bitfields',
    optimize='-s -O2',
    cppflags='-DWIN32'
    ccversion='', gccversion='4.6.3', gccosandvers=''
    intsize=4, longsize=4, ptrsize=8, doublesize=8, byteorder=12345678
    d_longlong=define, longlongsize=8, d_longdbl=define, longdblsize=12
    ivtype='long long', ivsize=8, nvtype='double', nvsize=8, Off_t='long long', lseeksize=8
    alignbytes=8, prototype=define
  Linker and Libraries:
    ld='g++', ldflags ='-s -L"C:\strawberry\perl\lib\CORE" -L"C:\strawberry\c\lib"'
    libpth=C:\strawberry\c\lib C:\strawberry\c\x86_64-w64-mingw32\lib
    libs=-lmoldname -lkernel32 -luser32 -lgdi32 -lwinspool -lcomdlg32 -ladvapi32 -lshell32 -lole32 -loleaut32 -lnetapi32 -luuid -lws2_32 -lmpr -lwinmm -lversion -lodbc32 -lodbccp32 -lcomctl32
    perllibs=-lmoldname -lkernel32 -luser32 -lgdi32 -lwinspool -lcomdlg32 -ladvapi32 -lshell32 -lole32 -loleaut32 -lnetapi32 -luuid -lws2_32 -lmpr -lwinmm -lversion -lodbc32 -lodbccp32 -lcomctl32
    libc=, so=dll, useshrplib=true, libperl=libperl516.a
    gnulibc_version=''
  Dynamic Linking:
    dlsrc=dl_win32.xs, dlext=dll, d_dlsymun=undef, ccdlflags=' '
    cccdlflags=' ', lddlflags='-mdll -s -L"C:\strawberry\perl\lib\CORE" -L"C:\strawberry\c\lib"'


Characteristics of this binary (from libperl): 
  Compile-time options: HAS_TIMES HAVE_INTERP_INTERN MULTIPLICITY
                        PERLIO_LAYERS PERL_DONT_CREATE_GVSV
                        PERL_IMPLICIT_CONTEXT PERL_IMPLICIT_SYS
                        PERL_MALLOC_WRAP PERL_PRESERVE_IVUV PL_OP_SLAB_ALLOC
                        USE_64_BIT_INT USE_ITHREADS USE_LARGE_FILES
                        USE_LOCALE USE_LOCALE_COLLATE USE_LOCALE_CTYPE
                        USE_LOCALE_NUMERIC USE_PERLIO USE_PERL_ATOF
  Built under MSWin32
  Compiled at Nov  2 2012 03:12:17
  %ENV:
    PERL5LIB="C:\strawberry\cpan\build\Email-Address-1.898-z60Gpa/blib/arch;C:\strawberry\cpan\build\Email-Address-1.898-z60Gpa/blib/lib;C:\strawberry\cpan\build\Email-Valid-0.190-9J2lkZ/blib/arch;C:\strawberry\cpan\build\Email-Valid-0.190-9J2lkZ/blib/lib;C:\strawberry\cpan\build\MailTools-2.12-ZYREyV/blib/arch;C:\strawberry\cpan\build\MailTools-2.12-ZYREyV/blib/lib;C:\strawberry\cpan\build\Net-DNS-0.72-GKPcMC/blib/arch;C:\strawberry\cpan\build\Net-DNS-0.72-GKPcMC/blib/lib;C:\strawberry\cpan\build\Win32-IPHelper-0.08-mEqRqt/blib/arch;C:\strawberry\cpan\build\Win32-IPHelper-0.08-mEqRqt/blib/lib;C:\strawberry\cpan\build\enum-1.016-JBUFCZ/blib/arch;C:\strawberry\cpan\build\enum-1.016-JBUFCZ/blib/lib;C:\strawberry\cpan\build\Net-Domain-TLD-1.69-xn8IR1/blib/arch;C:\strawberry\cpan\build\Net-Domain-TLD-1.69-xn8IR1/blib/lib;C:\strawberry\cpan\build\Regexp-Common-2011121001-YIsQRN/blib/arch;C:\strawberry\cpan\build\Regexp-Common-2011121001-YIsQRN/blib/lib;C:\strawberry\cpan\build\String-Validator-Common-0.97-4hCxek/blib/arch;C:\strawberry\cpan\build\String-Validator-Common-0.97-4hCxek/blib/lib"
    PERL5_CPANPLUS_IS_RUNNING="14276"
    PERL5_CPAN_IS_RUNNING="14276"
    PERL5_CPAN_IS_RUNNING_IN_RECURSION="5968,14276"
    PERL_CR_SMOKER_CURRENT="String-Validator-Email-0.98"
    PERL_EXTUTILS_AUTOINSTALL="--defaultdeps"
    PERL_JSON_BACKEND="JSON::XS"
    PERL_MM_USE_DEFAULT="1"
    PERL_YAML_BACKEND="YAML"
  @INC:
    C:\strawberry\cpan\build\Email-Address-1.898-z60Gpa/blib/arch
    C:\strawberry\cpan\build\Email-Address-1.898-z60Gpa/blib/lib
    C:\strawberry\cpan\build\Email-Valid-0.190-9J2lkZ/blib/arch
    C:\strawberry\cpan\build\Email-Valid-0.190-9J2lkZ/blib/lib
    C:\strawberry\cpan\build\MailTools-2.12-ZYREyV/blib/arch
    C:\strawberry\cpan\build\MailTools-2.12-ZYREyV/blib/lib
    C:\strawberry\cpan\build\Net-DNS-0.72-GKPcMC/blib/arch
    C:\strawberry\cpan\build\Net-DNS-0.72-GKPcMC/blib/lib
    C:\strawberry\cpan\build\Win32-IPHelper-0.08-mEqRqt/blib/arch
    C:\strawberry\cpan\build\Win32-IPHelper-0.08-mEqRqt/blib/lib
    C:\strawberry\cpan\build\enum-1.016-JBUFCZ/blib/arch
    C:\strawberry\cpan\build\enum-1.016-JBUFCZ/blib/lib
    C:\strawberry\cpan\build\Net-Domain-TLD-1.69-xn8IR1/blib/arch
    C:\strawberry\cpan\build\Net-Domain-TLD-1.69-xn8IR1/blib/lib
    C:\strawberry\cpan\build\Regexp-Common-2011121001-YIsQRN/blib/arch
    C:\strawberry\cpan\build\Regexp-Common-2011121001-YIsQRN/blib/lib
    C:\strawberry\cpan\build\String-Validator-Common-0.97-4hCxek/blib/arch
    C:\strawberry\cpan\build\String-Validator-Common-0.97-4hCxek/blib/lib
    C:/strawberry/perl/site/lib
    C:/strawberry/perl/vendor/lib
    C:/strawberry/perl/lib
    .