Back
From: metabase:user:30ae4450-2aae-11df-837a-5e0a49663a4f
Subject: PASS Dist-Zilla-Plugin-CheckIssues-0.009 v5.18.0
Date: 2016-01-19T16:09:21Z
This distribution has been tested as part of the CPAN Testers
project, supporting the Perl programming language. See
http://wiki.cpantesters.org/ for more information or email
questions to cpan-testers-discuss@perl.org
--
Dear Karen Etheridge,
This is a computer-generated report for Dist-Zilla-Plugin-CheckIssues-0.009
on perl 5.18.0, created by CPAN-Reporter-1.2014.
Thank you for uploading your work to CPAN. Congratulations!
All tests were successful.
Sections of this report:
* Tester comments
* Program output
* Prerequisites
* Environment and other context
------------------------------
TESTER COMMENTS
------------------------------
Additional comments from tester:
this report is from an automated smoke testing program
and was not reviewed by a human for accuracy
------------------------------
PROGRAM OUTPUT
------------------------------
Output from 'C:\strawberry180\c\bin\dmake.exe test':
C:\strawberry180\perl\bin\perl.exe "-MExtUtils::Command::MM" "-e" "test_harness(0, 'blib\lib', 'blib\arch')" t/*.t
#
# Versions for all modules listed in MYMETA.json (including optional ones):
#
# === Configure Requires ===
#
# Module Want Have
# ------------------------ -------- --------
# CPAN::Meta::Requirements 2.120620 2.122
# ExtUtils::MakeMaker any 6.66
# Module::Metadata any 1.000014
#
# === Build Requires ===
#
# Module Want Have
# ------------------- ---- ----
# ExtUtils::MakeMaker any 6.66
#
# === Test Requires ===
#
# Module Want Have
# ------------------------------- ---- --------
# Dist::Zilla::App::Tester any 4.300035
# Dist::Zilla::Role::MetaProvider any 4.300035
# ExtUtils::MakeMaker any 6.66
# File::Spec any 3.40
# File::pushd any 1.005
# Moose::Util any 2.0802
# Path::Tiny any 0.026
# Test::DZil any 4.300035
# Test::Deep any 0.110
# Test::Fatal any 0.010
# Test::More 0.88 0.98
# if any 0.0602
# lib any 0.63
#
# === Test Recommends ===
#
# Module Want Have
# ---------- -------- --------
# CPAN::Meta 2.120900 2.130880
#
# === Runtime Requires ===
#
# Module Want Have
# -------------------------------- -------- --------
# Dist::Zilla::App any 4.300035
# Dist::Zilla::Role::BeforeRelease any 4.300035
# Encode any 2.51
# HTTP::Headers any 6.05
# HTTP::Tiny any 0.029
# JSON::MaybeXS 1.001000 1.003005
# List::Util 1.33 1.42
# Moose any 2.0802
# Term::ANSIColor 3.00 4.02
# namespace::autoclean any 0.13
# strict any 1.07
# warnings any 1.18
#
# === Other Modules ===
#
# Module Have
# ------------- -----
# App::Cmd 0.320
# Log::Dispatch 2.40
# Pod::Coverage 0.23
#
t/00-report-prereqs.t .. ok
t/01-basic.t ........... ok
t/02-no-rt.t ........... ok
t/03-no-repo.t ......... ok
Smartmatch is experimental at C:\strawberry180\perl\site\lib/Dist/Zilla/App/Command/podpreview.pm line 50.
t/04-command.t ......... ok
t/zzz-check-breaks.t ... ok
All tests successful.
Files=6, Tests=19, 18 wallclock secs ( 0.05 usr + 0.04 sys = 0.09 CPU)
Result: PASS
------------------------------
PREREQUISITES
------------------------------
Prerequisite modules loaded:
requires:
Module Need Have
-------------------------------- -------- --------
Dist::Zilla::App 0 4.300035
Dist::Zilla::Role::BeforeRelease 0 4.300035
Encode 0 2.51
HTTP::Headers 0 6.05
HTTP::Tiny 0 0.029
JSON::MaybeXS 1.001000 1.003005
List::Util 1.33 1.42
Moose 0 2.0802
namespace::autoclean 0 0.13
perl 5.006 5.018000
strict 0 1.07
Term::ANSIColor 3.00 4.02
warnings 0 1.18
build_requires:
Module Need Have
-------------------------------- -------- --------
Dist::Zilla::App::Tester 0 4.300035
Dist::Zilla::Role::MetaProvider 0 4.300035
ExtUtils::MakeMaker 0 6.66
File::pushd 0 1.005
File::Spec 0 3.40
if 0 0.0602
lib 0 0.63
Moose::Util 0 2.0802
Path::Tiny 0 0.026
Test::Deep 0 0.110
Test::DZil 0 4.300035
Test::Fatal 0 0.010
Test::More 0.88 0.98
configure_requires:
Module Need Have
-------------------------------- -------- --------
CPAN::Meta::Requirements 2.120620 2.122
ExtUtils::MakeMaker 0 6.66
Module::Metadata 0 1.000014
perl 5.006 5.018000
------------------------------
ENVIRONMENT AND OTHER CONTEXT
------------------------------
Environment variables:
AUTOMATED_TESTING = 1
COMSPEC = C:\WINDOWS\system32\cmd.exe
NUMBER_OF_PROCESSORS = 1
PATH = C:\WINDOWS\system32;C:\WINDOWS;C:\WINDOWS\System32\Wbem;C:\strawberry180\c\bin;C:\strawberry180\perl\site\bin;C:\strawberry180\perl\bin
PERL5LIB = C:\strawberry180\cpan\build\JSON-MaybeXS-1.003005-sUsv5Q/blib/arch;C:\strawberry180\cpan\build\JSON-MaybeXS-1.003005-sUsv5Q/blib/lib;C:\strawberry180\cpan\build\Scalar-List-Utils-1.42-MGoyAt/blib/arch;C:\strawberry180\cpan\build\Scalar-List-Utils-1.42-MGoyAt/blib/lib
PERL5OPT =
PERL5_CPANPLUS_IS_RUNNING = 1472
PERL5_CPAN_IS_RUNNING = 1472
PERL5_CPAN_IS_RUNNING_IN_RECURSION = 572,1472
PERL_CR_SMOKER_CURRENT = Dist-Zilla-Plugin-CheckIssues-0.009
PERL_CR_SMOKER_RUNONCE = 1
PERL_EXTUTILS_AUTOINSTALL = --defaultdeps
PERL_MM_USE_DEFAULT = 1
PROCESSOR_IDENTIFIER = x86 Family 16 Model 5 Stepping 3, AuthenticAMD
TEMP = C:\DOCUME~1\c\LOCALS~1\Temp
TERM = dumb
Perl special variables (and OS-specific diagnostics, for MSWin32):
$^X = C:\strawberry180\perl\bin\perl.exe
$UID/$EUID = 0 / 0
$GID = 0
$EGID = 0
Win32::GetOSName = WinXP/.Net
Win32::GetOSVersion = Service Pack 3, 5, 1, 2600, 2, 3, 0, 256, 1
Win32::FsType = NTFS
Win32::IsAdminUser = 1
Perl module toolchain versions installed:
Module Have
------------------- --------
CPAN 2.00
CPAN::Meta 2.130880
Cwd 3.40
ExtUtils::CBuilder 0.280210
ExtUtils::Command 1.17
ExtUtils::Install 1.59
ExtUtils::MakeMaker 6.66
ExtUtils::Manifest 1.63
ExtUtils::ParseXS 3.18
File::Spec 3.40
JSON 2.57
JSON::PP 2.27202
Module::Build 0.4005
Module::Signature n/a
Parse::CPAN::Meta 1.4404
Test::Harness 3.28
Test::More 0.98
YAML 0.84
YAML::Syck 1.27
version 0.9902
--
Summary of my perl5 (revision 5 version 18 subversion 0) configuration:
Platform:
osname=MSWin32, osvers=4.0, archname=MSWin32-x86-multi-thread-64int
uname='Win32 strawberry-perl 5.18.0.1 #1 Sat May 18 17:46:00 2013 i386'
config_args='undef'
hint=recommended, useposix=true, d_sigaction=undef
useithreads=define, usemultiplicity=define
useperlio=define, d_sfio=undef, uselargefiles=define, usesocks=undef
use64bitint=define, use64bitall=undef, uselongdouble=undef
usemymalloc=n, bincompat5005=undef
Compiler:
cc='gcc', ccflags =' -s -O2 -DWIN32 -DPERL_TEXTMODE_SCRIPTS -DPERL_IMPLICIT_CONTEXT -DPERL_IMPLICIT_SYS -DUSE_PERLIO -fno-strict-aliasing -mms-bitfields',
optimize='-s -O2',
cppflags='-DWIN32'
ccversion='', gccversion='4.6.3', gccosandvers=''
intsize=4, longsize=4, ptrsize=4, doublesize=8, byteorder=12345678
d_longlong=define, longlongsize=8, d_longdbl=define, longdblsize=12
ivtype='long long', ivsize=8, nvtype='double', nvsize=8, Off_t='long long', lseeksize=8
alignbytes=8, prototype=define
Linker and Libraries:
ld='g++', ldflags ='-s -L"C:\strawberry180\perl\lib\CORE" -L"C:\strawberry180\c\lib"'
libpth=C:\strawberry180\c\lib C:\strawberry180\c\i686-w64-mingw32\lib
libs=-lmoldname -lkernel32 -luser32 -lgdi32 -lwinspool -lcomdlg32 -ladvapi32 -lshell32 -lole32 -loleaut32 -lnetapi32 -luuid -lws2_32 -lmpr -lwinmm -lversion -lodbc32 -lodbccp32 -lcomctl32
perllibs=-lmoldname -lkernel32 -luser32 -lgdi32 -lwinspool -lcomdlg32 -ladvapi32 -lshell32 -lole32 -loleaut32 -lnetapi32 -luuid -lws2_32 -lmpr -lwinmm -lversion -lodbc32 -lodbccp32 -lcomctl32
libc=, so=dll, useshrplib=true, libperl=libperl518.a
gnulibc_version=''
Dynamic Linking:
dlsrc=dl_win32.xs, dlext=dll, d_dlsymun=undef, ccdlflags=' '
cccdlflags=' ', lddlflags='-mdll -s -L"C:\strawberry180\perl\lib\CORE" -L"C:\strawberry180\c\lib"'
Characteristics of this binary (from libperl):
Compile-time options: HAS_TIMES HAVE_INTERP_INTERN MULTIPLICITY
PERLIO_LAYERS PERL_DONT_CREATE_GVSV
PERL_HASH_FUNC_ONE_AT_A_TIME_HARD
PERL_IMPLICIT_CONTEXT PERL_IMPLICIT_SYS
PERL_MALLOC_WRAP PERL_PRESERVE_IVUV PERL_SAWAMPERSAND
USE_64_BIT_INT USE_ITHREADS USE_LARGE_FILES
USE_LOCALE USE_LOCALE_COLLATE USE_LOCALE_CTYPE
USE_LOCALE_NUMERIC USE_PERLIO USE_PERL_ATOF
Built under MSWin32
Compiled at May 18 2013 17:53:14
%ENV:
PERL5LIB="C:\strawberry180\cpan\build\JSON-MaybeXS-1.003005-sUsv5Q/blib/arch;C:\strawberry180\cpan\build\JSON-MaybeXS-1.003005-sUsv5Q/blib/lib;C:\strawberry180\cpan\build\Scalar-List-Utils-1.42-MGoyAt/blib/arch;C:\strawberry180\cpan\build\Scalar-List-Utils-1.42-MGoyAt/blib/lib"
PERL5_CPANPLUS_IS_RUNNING="1472"
PERL5_CPAN_IS_RUNNING="1472"
PERL5_CPAN_IS_RUNNING_IN_RECURSION="572,1472"
PERL_CR_SMOKER_CURRENT="Dist-Zilla-Plugin-CheckIssues-0.009"
PERL_CR_SMOKER_RUNONCE="1"
PERL_EXTUTILS_AUTOINSTALL="--defaultdeps"
PERL_MM_USE_DEFAULT="1"
@INC:
C:\strawberry180\cpan\build\JSON-MaybeXS-1.003005-sUsv5Q/blib/arch
C:\strawberry180\cpan\build\JSON-MaybeXS-1.003005-sUsv5Q/blib/lib
C:\strawberry180\cpan\build\Scalar-List-Utils-1.42-MGoyAt/blib/arch
C:\strawberry180\cpan\build\Scalar-List-Utils-1.42-MGoyAt/blib/lib
C:/strawberry180/perl/site/lib
C:/strawberry180/perl/vendor/lib
C:/strawberry180/perl/lib
.