Dist-Zilla-Plugin-Test-Legal v0.03 Perl 5 v5.16.3 x86_64-linux
- Status
- Pass
- From
- Slaven Rezić (SREZIC)
- Dist
-
Dist-Zilla-Plugin-Test-Legal v0.03
- Platform
- Perl 5 v5.16.3 x86_64-linux
- Date
- 2018-03-03 14:47:34
- ID
- cf5d8a1c-1ef1-11e8-aa43-c7b37e2efa4d
This distribution has been tested as part of the CPAN Testers
project, supporting the Perl programming language. See
http://wiki.cpantesters.org/ for more information or email
questions to cpan-testers-discuss@perl.org
--
Dear Alan Young,
This is a computer-generated report for Dist-Zilla-Plugin-Test-Legal-0.03
on perl 5.16.3, created by CPAN-Reporter-1.2018.
Thank you for uploading your work to CPAN. Congratulations!
All tests were successful.
Sections of this report:
* Tester comments
* Program output
* Prerequisites
* Environment and other context
------------------------------
TESTER COMMENTS
------------------------------
Additional comments from tester:
none provided
------------------------------
PROGRAM OUTPUT
------------------------------
Output from './Build test':
t/00-check-deps.t ................................... ok
t/00-compile.t ...................................... ok
t/00-compile/lib_Dist_Zilla_Plugin_Test_Legal_pm.t .. ok
t/00-load.t ......................................... ok
#
# Versions for all modules listed in MYMETA.json (including optional ones):
#
# === Configure Requires ===
#
# Module Want Have
# ---------------------- ------ ------
# Module::Build 0.4208 0.4224
# Module::Build::Version any 0.87
#
# === Configure Suggests ===
#
# Module Want Have
# -------- ------- ----
# JSON::PP 2.27300 2.94
#
# === Build Requires ===
#
# Module Want Have
# ------------- ------ ------
# Module::Build 0.4208 0.4224
#
# === Test Requires ===
#
# Module Want Have
# ----------------------- ----- --------
# Carp any 1.38
# ExtUtils::MakeMaker any 7.32
# File::Spec any 3.62
# IO::Handle any 1.33
# IPC::Open3 any 1.12
# Scalar::Util any 1.50
# Test::CPAN::Meta::JSON any 0.16
# Test::CheckDeps 0.010 0.010
# Test::CheckManifest any 1.32
# Test::ConsistentVersion any 0.3.0
# Test::DistManifest any 1.014
# Test::HasVersion any 0.014
# Test::MinimumVersion any 0.101082
# Test::More 0.94 1.302125
# Test::NoSmartComments any 0.005
# Test::Perl::Critic any 1.03
# Test::Pod::Content any 0.0.6
# Test::UseAllModules any 0.17
# Test::Version any 2.07
#
# === Test Recommends ===
#
# Module Want Have
# ---------- -------- --------
# CPAN::Meta 2.120900 2.150010
#
# === Runtime Requires ===
#
# Module Want Have
# -------------------------------- ---- ------
# Dist::Zilla::Plugin::InlineFiles any 6.010
# Moose any 2.2008
# namespace::autoclean any 0.28
# strict any 1.07
# warnings any 1.13
#
t/00-report-prereqs.t ............................... ok
# Testing with Perl 5.016003, /bbbike/perl-5.16.3/bin/perl
# Carp version is 1.38
# Dist::Zilla::Plugin::InlineFiles version is 6.010
# ExtUtils::MakeMaker version is 7.32
# File::Spec version is 3.62
# IO::Handle version is 1.33
# IPC::Open3 version is 1.12
# Module::Build version is 0.4224
# Module::Build::Version version is 0.87
# Moose version is 2.2008
# Scalar::Util version is 1.5
# Test::CPAN::Meta::JSON version is 0.16
# Test::CheckDeps version is 0.010
# Test::CheckManifest version is 1.32
# Test::ConsistentVersion version is 0.3.0
# Test::DistManifest version is 1.014
# Test::HasVersion version is 0.014
# Test::MinimumVersion version is 0.101082
# Test::More version is 1.302125
# Test::NoSmartComments version is 0.005
# Test::Perl::Critic version is 1.03
# Test::Pod::Content version is 0.0.6
# Test::UseAllModules version is 0.17
# Test::Version version is 2.07
# namespace::autoclean version is 0.28
# strict version is 1.07
# warnings version is 1.13
t/000-report-versions.t ............................. ok
All tests successful.
Files=6, Tests=58, 3 wallclock secs ( 0.02 usr 0.03 sys + 1.55 cusr 0.22 csys = 1.82 CPU)
Result: PASS
------------------------------
PREREQUISITES
------------------------------
Prerequisite modules loaded:
requires:
Module Need Have
-------------------------------- ------ --------
Dist::Zilla::Plugin::InlineFiles 0 6.010
Moose 0 2.2008
namespace::autoclean 0 0.28
perl 5.006 5.016003
strict 0 1.07
warnings 0 1.13
build_requires:
Module Need Have
-------------------------------- ------ --------
Carp 0 1.38
ExtUtils::MakeMaker 0 7.32
File::Spec 0 3.62
IO::Handle 0 1.33
IPC::Open3 0 1.12
Module::Build 0.4208 0.4224
Scalar::Util 0 1.50
Test::CheckDeps 0.010 0.010
Test::CheckManifest 0 1.32
Test::ConsistentVersion 0 0.3.0
Test::CPAN::Meta::JSON 0 0.16
Test::DistManifest 0 1.014
Test::HasVersion 0 0.014
Test::MinimumVersion 0 0.101082
Test::More 0.94 1.302125
Test::NoSmartComments 0 0.005
Test::Perl::Critic 0 1.03
Test::Pod::Content 0 0.0.6
Test::UseAllModules 0 0.17
Test::Version 0 2.07
configure_requires:
Module Need Have
-------------------------------- ------ --------
Module::Build 0.4208 0.4224
Module::Build::Version 0 0.87
------------------------------
ENVIRONMENT AND OTHER CONTEXT
------------------------------
Environment variables:
LANG = C
LC_ALL = de_DE.UTF-8
PATH = /usr/local/bin:/usr/bin:/bin:/usr/local/sbin:/usr/sbin:/sbin:/home/cpansand/bin/linux-gnu:/home/cpansand/bin/sh:/home/cpansand/bin:/usr/games:/home/cpansand/devel:/home/eserte/src/srezic-misc/scripts
PERL5LIB = /home/cpansand/.cpan/build/2018030312/Dist-Zilla-Plugin-Hook-v0.8.3.1-7/blib/arch:/home/cpansand/.cpan/build/2018030312/Dist-Zilla-Plugin-Hook-v0.8.3.1-7/blib/lib:/home/cpansand/.cpan/build/2018030312/PPIx-Regexp-0.055_01-7/blib/arch:/home/cpansand/.cpan/build/2018030312/PPIx-Regexp-0.055_01-7/blib/lib
PERL5OPT =
PERL5_CPANPLUS_IS_RUNNING = 3131
PERL5_CPAN_IS_RUNNING = 3131
PERL5_CPAN_IS_RUNNING_IN_RECURSION = 31415,3131
PERLDOC = -MPod::Perldoc::ToTextOverstrike
PERL_BATCH = yes
PERL_CANARY_STABILITY_NOPROMPT = 1
PERL_CPAN_REPORTER_CONFIG = /var/tmp/cpansmoker-1023/2018030221/cpanreporter_001_config.ini
PERL_EXTUTILS_AUTOINSTALL = --defaultdeps
PERL_PARALLEL_SMOKER = yes
PERL_USE_UNSAFE_INC = 1
SHELL = /bin/zsh
TERM = screen
TMPDIR = /var/tmp/cpansmoker-1023/2018030221
Perl special variables (and OS-specific diagnostics, for MSWin32):
$^X = /bbbike/perl-5.16.3/bin/perl
$UID/$EUID = 1023 / 1023
$GID = 1023 1023
$EGID = 1023 1023
Perl module toolchain versions installed:
Module Have
------------------- --------
CPAN 2.16
CPAN::Meta 2.150010
Cwd 3.62
ExtUtils::CBuilder 0.280230
ExtUtils::Command 7.32
ExtUtils::Install 2.14
ExtUtils::MakeMaker 7.32
ExtUtils::Manifest 1.70
ExtUtils::ParseXS 3.30
File::Spec 3.62
JSON 2.94
JSON::PP 2.94
Module::Build 0.4224
Module::Signature 0.81
Parse::CPAN::Meta 2.150010
Test::Harness 3.41
Test::More 1.302125
YAML 1.23
YAML::Syck 1.30
version 0.9916
--
Summary of my perl5 (revision 5 version 16 subversion 3) configuration:
Platform:
osname=linux, osvers=3.16.0-4-amd64, archname=x86_64-linux
uname='linux eserte 3.16.0-4-amd64 #1 smp debian 3.16.7-ckt25-2 (2016-04-08) x86_64 gnulinux '
config_args='-ds -e -Dprefix=/opt/perl-5.16.3 -Dcf_email=srezic@cpan.org'
hint=recommended, useposix=true, d_sigaction=define
useithreads=undef, usemultiplicity=undef
useperlio=define, d_sfio=undef, uselargefiles=define, usesocks=undef
use64bitint=define, use64bitall=define, uselongdouble=undef
usemymalloc=n, bincompat5005=undef
Compiler:
cc='cc', ccflags ='-fno-strict-aliasing -pipe -fstack-protector -I/usr/local/include -D_LARGEFILE_SOURCE -D_FILE_OFFSET_BITS=64',
optimize='-O2',
cppflags='-fno-strict-aliasing -pipe -fstack-protector -I/usr/local/include'
ccversion='', gccversion='4.9.2', gccosandvers=''
intsize=4, longsize=8, ptrsize=8, doublesize=8, byteorder=12345678
d_longlong=define, longlongsize=8, d_longdbl=define, longdblsize=16
ivtype='long', ivsize=8, nvtype='double', nvsize=8, Off_t='off_t', lseeksize=8
alignbytes=8, prototype=define
Linker and Libraries:
ld='cc', ldflags =' -fstack-protector -L/usr/local/lib'
libpth=/usr/local/lib /lib/x86_64-linux-gnu /lib/../lib /usr/lib/x86_64-linux-gnu /usr/lib/../lib /lib /usr/lib
libs=-lnsl -lgdbm -ldb -ldl -lm -lcrypt -lutil -lc -lgdbm_compat
perllibs=-lnsl -ldl -lm -lcrypt -lutil -lc
libc=libc-2.19.so, so=so, useshrplib=false, libperl=libperl.a
gnulibc_version='2.19'
Dynamic Linking:
dlsrc=dl_dlopen.xs, dlext=so, d_dlsymun=undef, ccdlflags='-Wl,-E'
cccdlflags='-fPIC', lddlflags='-shared -O2 -L/usr/local/lib -fstack-protector'
Characteristics of this binary (from libperl):
Compile-time options: HAS_TIMES PERLIO_LAYERS PERL_DONT_CREATE_GVSV
PERL_MALLOC_WRAP PERL_PRESERVE_IVUV USE_64_BIT_ALL
USE_64_BIT_INT USE_LARGE_FILES USE_LOCALE
USE_LOCALE_COLLATE USE_LOCALE_CTYPE
USE_LOCALE_NUMERIC USE_PERLIO USE_PERL_ATOF
Locally applied patches:
Devel::PatchPerl 1.42
Built under linux
Compiled at May 7 2016 11:11:48
%ENV:
PERL5LIB="/home/cpansand/.cpan/build/2018030312/Dist-Zilla-Plugin-Hook-v0.8.3.1-7/blib/arch:/home/cpansand/.cpan/build/2018030312/Dist-Zilla-Plugin-Hook-v0.8.3.1-7/blib/lib:/home/cpansand/.cpan/build/2018030312/PPIx-Regexp-0.055_01-7/blib/arch:/home/cpansand/.cpan/build/2018030312/PPIx-Regexp-0.055_01-7/blib/lib"
PERL5OPT=""
PERL5_CPANPLUS_IS_RUNNING="3131"
PERL5_CPAN_IS_RUNNING="3131"
PERL5_CPAN_IS_RUNNING_IN_RECURSION="31415,3131"
PERLDOC="-MPod::Perldoc::ToTextOverstrike"
PERL_BATCH="yes"
PERL_CANARY_STABILITY_NOPROMPT="1"
PERL_CPAN_REPORTER_CONFIG="/var/tmp/cpansmoker-1023/2018030221/cpanreporter_001_config.ini"
PERL_EXTUTILS_AUTOINSTALL="--defaultdeps"
PERL_PARALLEL_SMOKER="yes"
PERL_USE_UNSAFE_INC="1"
@INC:
/home/cpansand/.cpan/build/2018030312/Dist-Zilla-Plugin-Hook-v0.8.3.1-7/blib/arch
/home/cpansand/.cpan/build/2018030312/Dist-Zilla-Plugin-Hook-v0.8.3.1-7/blib/lib
/home/cpansand/.cpan/build/2018030312/PPIx-Regexp-0.055_01-7/blib/arch
/home/cpansand/.cpan/build/2018030312/PPIx-Regexp-0.055_01-7/blib/lib
/opt/perl-5.16.3/lib/site_perl/5.16.3/x86_64-linux
/opt/perl-5.16.3/lib/site_perl/5.16.3
/opt/perl-5.16.3/lib/5.16.3/x86_64-linux
/opt/perl-5.16.3/lib/5.16.3
.