Crypt-Misty1 v1.1.3 Perl 5 v5.12.1 i686-linux

Status
Pass
From
Graham Crookham (GRAHAMC)
Dist
Crypt-Misty1 v1.1.3
Platform
Perl 5 v5.12.1 i686-linux
Date
2010-08-29 20:41:33
ID
cf630940-b3ad-11df-a806-090c960ab815
This distribution has been tested as part of the CPAN Testers
project, supporting the Perl programming language.  See
http://wiki.cpantesters.org/ for more information or email
questions to cpan-testers-discuss@perl.org


--
Dear Julius C. Duque,

This is a computer-generated report for Crypt-Misty1-1.1.3
on perl 5.12.1, created by CPAN-Reporter-1.18.

Thank you for uploading your work to CPAN.  Congratulations!
All tests were successful.

Sections of this report:

    * Tester comments
    * Program output
    * Prerequisites
    * Environment and other context

------------------------------
TESTER COMMENTS
------------------------------

Additional comments from tester:

this report is from an automated smoke testing program
and was not reviewed by a human for accuracy

------------------------------
PROGRAM OUTPUT
------------------------------

Output from '/usr/bin/make test':

PERL_DL_NONLAZY=1 /home/graham/perltest/perl5121/perl/bin/perl "-MExtUtils::Command::MM" "-e" "test_harness(0, 'blib/lib', 'blib/arch')" t/*.t
t/01.t .. ok
t/02.t .. ok
t/03.t .. ok
t/04.t .. ok
t/05.t .. ok
t/06.t .. ok
t/07.t .. ok
t/08.t .. ok
t/09.t .. ok
t/10.t .. ok
t/11.t .. ok
t/12.t .. ok
t/13.t .. ok
t/14.t .. ok
t/15.t .. ok
t/16.t .. ok
t/17.t .. ok
t/18.t .. ok
t/19.t .. ok
t/20.t .. ok
t/21.t .. ok
t/22.t .. ok
t/23.t .. ok
t/24.t .. ok
t/25.t .. ok
t/26.t .. ok
t/27.t .. ok
t/28.t .. ok
t/29.t .. ok
t/30.t .. ok
t/31.t .. ok
t/32.t .. ok
t/33.t .. ok
t/34.t .. ok
t/35.t .. ok
t/36.t .. ok
t/37.t .. ok
t/38.t .. ok
t/39.t .. ok
t/40.t .. ok
t/41.t .. ok
t/42.t .. ok
t/43.t .. ok
t/44.t .. ok
t/45.t .. ok
t/46.t .. ok
t/47.t .. ok
t/48.t .. ok
t/49.t .. ok
All tests successful.
Files=49, Tests=97, 12 wallclock secs ( 0.32 usr  0.16 sys + 10.83 cusr  0.63 csys = 11.94 CPU)
Result: PASS

------------------------------
PREREQUISITES
------------------------------

Prerequisite modules loaded:

    No requirements found

------------------------------
ENVIRONMENT AND OTHER CONTEXT
------------------------------

Environment variables:

    AUTOMATED_TESTING = 1
    LANG = C
    PATH = /home/graham/perltest/perl5121/perl/bin:/bin:/usr/bin:/sbin:/usr/sbin:/opt/java/bin:/opt/java/jre/bin:/opt/kde/bin:/usr/bin/perlbin/site:/usr/bin/perlbin/vendor:/usr/bin/perlbin/core:/opt/qt/bin
    PERL5LIB = 
    PERL5OPT = 
    PERL5_CPANPLUS_IS_RUNNING = 27746
    PERL5_CPAN_IS_RUNNING = 27746
    PERL5_CPAN_IS_RUNNING_IN_RECURSION = 3702,27746
    PERL_CR_SMOKER_CURRENT = Crypt-Misty1-1.1.3
    PERL_EXTUTILS_AUTOINSTALL = --defaultdeps
    PERL_MM_USE_DEFAULT = 1
    SHELL = /bin/bash
    TERM = xterm

Perl special variables (and OS-specific diagnostics, for MSWin32):

    $^X = /home/graham/perltest/perl5121/perl/bin/perl
    $UID/$EUID = 1000 / 1000
    $GID = 1000 7 10 91 92 93 95 98 100 108 1000 1001
    $EGID = 1000 7 10 91 92 93 95 98 100 108 1000 1001

Perl module toolchain versions installed:

    Module              Have   
    ------------------- -------
    CPAN                1.94_56
    Cwd                 3.31   
    ExtUtils::CBuilder  0.2703 
    ExtUtils::Command   1.16   
    ExtUtils::Install   1.55   
    ExtUtils::MakeMaker 6.57_01
    ExtUtils::Manifest  1.57   
    ExtUtils::ParseXS   2.2206 
    File::Spec          3.31   
    Module::Build       0.36_16
    Module::Signature   n/a    
    Test::Harness       3.22   
    Test::More          0.97_01
    YAML                0.71   
    YAML::Syck          1.14   
    version             0.82   


--

Summary of my perl5 (revision 5 version 12 subversion 1) configuration:
   
  Platform:
    osname=linux, osvers=2.6.33-arch, archname=i686-linux
    uname='linux lorant 2.6.33-arch #1 smp preempt thu may 13 12:06:25 cest 2010 i686 intel(r) pentium(r) 4 cpu 2.80ghz genuineintel gnulinux '
    config_args=''
    hint=recommended, useposix=true, d_sigaction=define
    useithreads=undef, usemultiplicity=undef
    useperlio=define, d_sfio=undef, uselargefiles=define, usesocks=undef
    use64bitint=undef, use64bitall=undef, uselongdouble=undef
    usemymalloc=n, bincompat5005=undef
  Compiler:
    cc='cc', ccflags ='-fno-strict-aliasing -pipe -fstack-protector -I/usr/local/include -D_LARGEFILE_SOURCE -D_FILE_OFFSET_BITS=64',
    optimize='-O2',
    cppflags='-fno-strict-aliasing -pipe -fstack-protector -I/usr/local/include'
    ccversion='', gccversion='4.5.0 20100520 (prerelease)', gccosandvers=''
    intsize=4, longsize=4, ptrsize=4, doublesize=8, byteorder=1234
    d_longlong=define, longlongsize=8, d_longdbl=define, longdblsize=12
    ivtype='long', ivsize=4, nvtype='double', nvsize=8, Off_t='off_t', lseeksize=8
    alignbytes=4, prototype=define
  Linker and Libraries:
    ld='cc', ldflags =' -fstack-protector -L/usr/local/lib'
    libpth=/usr/local/lib /lib /usr/lib
    libs=-lnsl -lgdbm -ldb -ldl -lm -lcrypt -lutil -lc -lgdbm_compat
    perllibs=-lnsl -ldl -lm -lcrypt -lutil -lc
    libc=/lib/libc-2.12.so, so=so, useshrplib=true, libperl=libperl.so
    gnulibc_version='2.12'
  Dynamic Linking:
    dlsrc=dl_dlopen.xs, dlext=so, d_dlsymun=undef, ccdlflags='-Wl,-E -Wl,-rpath,/home/graham/perltest/perl5121/perl/lib/5.12.1/i686-linux/CORE'
    cccdlflags='-fPIC', lddlflags='-shared -O2 -L/usr/local/lib -fstack-protector'


Characteristics of this binary (from libperl): 
  Compile-time options: PERL_DONT_CREATE_GVSV PERL_MALLOC_WRAP
                        USE_LARGE_FILES USE_PERLIO USE_PERL_ATOF
  Built under linux
  Compiled at Jul 20 2010 13:38:07
  %ENV:
    PERL5LIB=""
    PERL5OPT=""
    PERL5_CPANPLUS_IS_RUNNING="27746"
    PERL5_CPAN_IS_RUNNING="27746"
    PERL5_CPAN_IS_RUNNING_IN_RECURSION="3702,27746"
    PERL_CR_SMOKER_CURRENT="Crypt-Misty1-1.1.3"
    PERL_EXTUTILS_AUTOINSTALL="--defaultdeps"
    PERL_MM_USE_DEFAULT="1"
  @INC:
    /home/graham/perltest/perl5121/perl/lib/site_perl/5.12.1/i686-linux
    /home/graham/perltest/perl5121/perl/lib/site_perl/5.12.1
    /home/graham/perltest/perl5121/perl/lib/5.12.1/i686-linux
    /home/graham/perltest/perl5121/perl/lib/5.12.1
    .