Back
From: metabase:user:5bbb2efa-715f-11e3-8cc1-b2993ff2e0c7
Subject: PASS Log-Log4perl-Appender-TAP-0.02 v5.19.10 GNU/Linux
Date: 2014-04-08T20:31:48Z
This distribution has been tested as part of the CPAN Testers
project, supporting the Perl programming language. See
http://wiki.cpantesters.org/ for more information or email
questions to cpan-testers-discuss@perl.org
--
Dear PLICEASE,
This is a computer-generated report for Log-Log4perl-Appender-TAP-0.02
on perl 5.19.10, created by NX::cpanminus::reporter 0.10 (1.7001).
Thank you for uploading your work to CPAN. Congratulations!
All tests were successful.
Sections of this report:
* Tester comments
* Program output
* Prerequisites
* Environment and other context
------------------------------
TESTER COMMENTS
------------------------------
Additional comments from tester:
none provided
------------------------------
PROGRAM OUTPUT
------------------------------
Output from '':
Building and testing Log-Log4perl-Appender-TAP-0.02
cp lib/Log/Log4perl/Appender/TAP.pm blib/lib/Log/Log4perl/Appender/TAP.pm
Manifying blib/man3/Log::Log4perl::Appender::TAP.3
PERL_DL_NONLAZY=1 /home/ollisg/perl5/perlbrew/perls/perl-5.19.10c/bin/perl5.19.10 "-MExtUtils::Command::MM" "-MTest::Harness" "-e" "undef *Test::Harness::Switches; test_harness(0, 'blib/lib', 'blib/arch')" t/*.t
t/basic.t .. ok
# [0ms] this is error
t/log.t .... ok
t/use.t .... ok
All tests successful.
Files=3, Tests=4, 0 wallclock secs ( 0.02 usr 0.02 sys + 0.08 cusr 0.01 csys = 0.13 CPU)
Result: PASS
------------------------------
PREREQUISITES
------------------------------
Prerequisite modules loaded:
No requirements found
------------------------------
ENVIRONMENT AND OTHER CONTEXT
------------------------------
Environment variables:
LANG = en_US.utf8
LC_COLLATE = C
MANPATH_WITHOUT_PERLBREW = /home/ollisg/.perlbrew/libs/perl-5.18.2c@dev/man:/home/ollisg/.perlbrew/libs/perl-5.18.2c@dev/man:/home/ollisg/opt/rust/0.9/share/man:/usr/local/man:/usr/local/share/man:/usr/share/man
PATH = /home/ollisg/.perlbrew/libs/perl-5.19.10c@dev/bin:/home/ollisg/perl5/perlbrew/bin:/home/ollisg/perl5/perlbrew/perls/perl-5.19.10c/bin:/home/ollisg/opt/rust/0.9/bin:/home/ollisg/bin:/usr/lib/ccache:/usr/local/bin:/usr/bin:/bin:/usr/local/games:/usr/games
PATH_WITHOUT_PERLBREW = /home/ollisg/opt/rust/0.9/bin:/home/ollisg/bin:/usr/lib/ccache:/usr/local/bin:/usr/bin:/bin:/usr/local/games:/usr/games
PERL5LIB = /home/ollisg/.perlbrew/libs/perl-5.19.10c@dev/lib/perl5
PERLBREW_CSHRC_VERSION = 0.67
PERLBREW_HOME = /home/ollisg/.perlbrew
PERLBREW_LIB = dev
PERLBREW_MANPATH = /home/ollisg/.perlbrew/libs/perl-5.19.10c@dev/man:/home/ollisg/perl5/perlbrew/perls/perl-5.19.10c/man
PERLBREW_PATH = /home/ollisg/.perlbrew/libs/perl-5.19.10c@dev/bin:/home/ollisg/perl5/perlbrew/bin:/home/ollisg/perl5/perlbrew/perls/perl-5.19.10c/bin
PERLBREW_PERL = perl-5.19.10c
PERLBREW_ROOT = /home/ollisg/perl5/perlbrew
PERLBREW_VERSION = 0.67
PERL_CPANM_OPT = --mirror /home/ollisg/minicpan --mirror-only
PERL_LOCAL_LIB_ROOT = /home/ollisg/.perlbrew/libs/perl-5.19.10c@dev
PERL_MB_OPT = --install_base /home/ollisg/.perlbrew/libs/perl-5.19.10c@dev
PERL_MM_OPT = INSTALL_BASE=/home/ollisg/.perlbrew/libs/perl-5.19.10c@dev
SHELL = /bin/tcsh
TERM = xterm
Perl special variables (and OS-specific diagnostics, for MSWin32):
EGID = 1000 24 25 27 29 30 44 46 105 110 112 122 123 1000
EUID = 1000
EXECUTABLE_NAME = /home/ollisg/perl5/perlbrew/perls/perl-5.19.10c/bin/perl5.19.10
GID = 1000 24 25 27 29 30 44 46 105 110 112 122 123 1000
UID = 1000
Perl module toolchain versions installed:
Module Have
------------------- --------
CPAN 2.04
CPAN::Meta 2.140640
Cwd 3.47
ExtUtils::CBuilder 0.280216
ExtUtils::Command 1.18
ExtUtils::Install 1.63
ExtUtils::MakeMaker 6.92
ExtUtils::Manifest 1.63
ExtUtils::ParseXS 3.24
File::Spec 3.47
JSON 2.90
JSON::PP 2.27203
Module::Build 0.4205
Module::Signature n/a
Parse::CPAN::Meta 1.4414
Test::Harness 3.30
Test::More 1.001002
YAML 0.90
YAML::Syck n/a
version 0.9908
--
Summary of my perl5 (revision 5 version 19 subversion 10) configuration:
Platform:
osname=linux, osvers=3.2.0-4-amd64, archname=x86_64-linux
uname='linux iscah 3.2.0-4-amd64 #1 smp debian 3.2.54-2 x86_64 gnulinux '
config_args='-de -Dprefix=/home/ollisg/perl5/perlbrew/perls/perl-5.19.10c -Dcc=clang -Dusedevel -Aeval:scriptdir=/home/ollisg/perl5/perlbrew/perls/perl-5.19.10c/bin'
hint=recommended, useposix=true, d_sigaction=define
useithreads=undef, usemultiplicity=undef
use64bitint=define, use64bitall=define, uselongdouble=undef
usemymalloc=n, bincompat5005=undef
Compiler:
cc='clang', ccflags ='-fno-strict-aliasing -pipe -fstack-protector -I/usr/local/include -D_LARGEFILE_SOURCE -D_FILE_OFFSET_BITS=64',
optimize='-O2',
cppflags='-fno-strict-aliasing -pipe -fstack-protector -I/usr/local/include'
ccversion='', gccversion='4.2.1 Compatible Debian Clang 3.0 (tags/RELEASE_30/final)', gccosandvers=''
intsize=4, longsize=8, ptrsize=8, doublesize=8, byteorder=12345678
d_longlong=define, longlongsize=8, d_longdbl=define, longdblsize=16
ivtype='long', ivsize=8, nvtype='double', nvsize=8, Off_t='off_t', lseeksize=8
alignbytes=8, prototype=define
Linker and Libraries:
ld='clang', ldflags =' -fstack-protector -L/usr/local/lib'
libpth=/usr/local/lib /usr/include/x86_64-linux-gnu /usr/lib /usr/include/clang/3.0/include/ /usr/lib/gcc/x86_64-linux-gnu/4.6/include/ /usr/lib/gcc/x86_64-linux-gnu/4.6/include-fixed/ /lib/x86_64-linux-gnu /lib/../lib /usr/lib/x86_64-linux-gnu /usr/lib/../lib /lib /lib64 /usr/lib64
libs=-lnsl -ldl -lm -lcrypt -lutil -lc
perllibs=-lnsl -ldl -lm -lcrypt -lutil -lc
libc=, so=so, useshrplib=false, libperl=libperl.a
gnulibc_version='2.13'
Dynamic Linking:
dlsrc=dl_dlopen.xs, dlext=so, d_dlsymun=undef, ccdlflags='-Wl,-E'
cccdlflags='-fPIC', lddlflags='-shared -O2 -L/usr/local/lib -fstack-protector'
Characteristics of this binary (from libperl):
Compile-time options: HAS_TIMES PERLIO_LAYERS PERL_DONT_CREATE_GVSV
PERL_HASH_FUNC_ONE_AT_A_TIME_HARD PERL_MALLOC_WRAP
PERL_NEW_COPY_ON_WRITE PERL_PRESERVE_IVUV
PERL_USE_DEVEL USE_64_BIT_ALL USE_64_BIT_INT
USE_LARGE_FILES USE_LOCALE USE_LOCALE_COLLATE
USE_LOCALE_CTYPE USE_LOCALE_NUMERIC USE_PERLIO
USE_PERL_ATOF
Built under linux
Compiled at Mar 20 2014 22:07:08
%ENV:
PERL5LIB="/home/ollisg/.perlbrew/libs/perl-5.19.10c@dev/lib/perl5"
PERLBREW_CSHRC_VERSION="0.67"
PERLBREW_HOME="/home/ollisg/.perlbrew"
PERLBREW_LIB="dev"
PERLBREW_MANPATH="/home/ollisg/.perlbrew/libs/perl-5.19.10c@dev/man:/home/ollisg/perl5/perlbrew/perls/perl-5.19.10c/man"
PERLBREW_PATH="/home/ollisg/.perlbrew/libs/perl-5.19.10c@dev/bin:/home/ollisg/perl5/perlbrew/bin:/home/ollisg/perl5/perlbrew/perls/perl-5.19.10c/bin"
PERLBREW_PERL="perl-5.19.10c"
PERLBREW_ROOT="/home/ollisg/perl5/perlbrew"
PERLBREW_VERSION="0.67"
PERL_CPANM_OPT="--mirror /home/ollisg/minicpan --mirror-only"
PERL_LOCAL_LIB_ROOT="/home/ollisg/.perlbrew/libs/perl-5.19.10c@dev"
PERL_MB_OPT="--install_base /home/ollisg/.perlbrew/libs/perl-5.19.10c@dev"
PERL_MM_OPT="INSTALL_BASE=/home/ollisg/.perlbrew/libs/perl-5.19.10c@dev"
@INC:
/home/ollisg/.perlbrew/libs/perl-5.19.10c@dev/lib/perl5/x86_64-linux
/home/ollisg/.perlbrew/libs/perl-5.19.10c@dev/lib/perl5
/home/ollisg/perl5/perlbrew/perls/perl-5.19.10c/lib/site_perl/5.19.10/x86_64-linux
/home/ollisg/perl5/perlbrew/perls/perl-5.19.10c/lib/site_perl/5.19.10
/home/ollisg/perl5/perlbrew/perls/perl-5.19.10c/lib/5.19.10/x86_64-linux
/home/ollisg/perl5/perlbrew/perls/perl-5.19.10c/lib/5.19.10
.